BEGIN:VCALENDAR
VERSION:2.0
PRODID:-//Urbancasual.ca - ECPv6.15.20//NONSGML v1.0//EN
CALSCALE:GREGORIAN
METHOD:PUBLISH
X-WR-CALNAME:Urbancasual.ca
X-ORIGINAL-URL:https://urbancasual.ca
X-WR-CALDESC:Events for Urbancasual.ca
REFRESH-INTERVAL;VALUE=DURATION:PT1H
X-Robots-Tag:noindex
X-PUBLISHED-TTL:PT1H
BEGIN:VTIMEZONE
TZID:America/Edmonton
BEGIN:DAYLIGHT
TZOFFSETFROM:-0700
TZOFFSETTO:-0600
TZNAME:MDT
DTSTART:20240310T090000
END:DAYLIGHT
BEGIN:STANDARD
TZOFFSETFROM:-0600
TZOFFSETTO:-0700
TZNAME:MST
DTSTART:20241103T080000
END:STANDARD
BEGIN:DAYLIGHT
TZOFFSETFROM:-0700
TZOFFSETTO:-0600
TZNAME:MDT
DTSTART:20250309T090000
END:DAYLIGHT
BEGIN:STANDARD
TZOFFSETFROM:-0600
TZOFFSETTO:-0700
TZNAME:MST
DTSTART:20251102T080000
END:STANDARD
BEGIN:DAYLIGHT
TZOFFSETFROM:-0700
TZOFFSETTO:-0600
TZNAME:MDT
DTSTART:20260308T090000
END:DAYLIGHT
BEGIN:STANDARD
TZOFFSETFROM:-0600
TZOFFSETTO:-0700
TZNAME:MST
DTSTART:20261101T080000
END:STANDARD
END:VTIMEZONE
BEGIN:VEVENT
DTSTART;VALUE=DATE:20250906
DTEND;VALUE=DATE:20250908
DTSTAMP:20260421T170823
CREATED:20250809T024047Z
LAST-MODIFIED:20250821T012520Z
UID:10049908-1757127600-1757213999@urbancasual.ca
SUMMARY:Cochrane Culture Days 2025
DESCRIPTION:CCD2025 at Cochrane Farmers Market \nVisit the Cochrane Farmers Market on September 6 and enjoy the Stoney Nakoda Mînî Thnî Dancers\, the Drowsy Maggies\, a demonstration by Ga-On Taekwando and join in the Circles of Rhythm drumming circle. \nImagine That YYC Face Painting will be there to give kids a new persona! \n  \nCochrane Ranche \nSaturday evening at 5pm\, join the Town of Cochrane as they rededicate the repaired Men of Vision statue.
URL:https://urbancasual.ca/cochrane-event/cochrane-culture-days-2025/
LOCATION:SLS Centre\, 800 Griffin Rd E\, Cochrane\, Alberta\, T4C 2B8\, Canada
CATEGORIES:Art,COCHRANE CULTURE DAYS,Community,Culture,Entertainment & Games,Market,Music,Parents & Caregivers
ATTACH;FMTTYPE=image/jpeg:https://urbancasual.ca/wp-content/uploads/2025/08/CCD-logo.jpg
ORGANIZER;CN="Cochrane Integrated Arts Society":MAILTO:cochraneartsociety@gmail.com
END:VEVENT
BEGIN:VEVENT
DTSTART;TZID=America/Edmonton:20250906T180000
DTEND;TZID=America/Edmonton:20250906T210000
DTSTAMP:20260421T170823
CREATED:20241219T180111Z
LAST-MODIFIED:20260312T155218Z
UID:10032347-1757181600-1757192400@urbancasual.ca
SUMMARY:LIVE music Saturdays at Rocky View Brewing
DESCRIPTION:  \n  \n  \nLive music Saturdays in the taproom starting at 6pm. \n  \n  \n  \n  \n  \n  \n 
URL:https://urbancasual.ca/cochrane-event/live-music-saturdays-at-rocky-view-brewing-9-15-2-2/2025-09-06/
LOCATION:Rocky View Taproom\, 420 1st Street\, Cochrane\, AB
CATEGORIES:Business,Downtown,Entertainment & Games,Music,Pub/Bar Event,Restaurant
ATTACH;FMTTYPE=image/jpeg:https://urbancasual.ca/wp-content/uploads/2024/07/241712073_342240897364337_6168788210147837504_n-3.jpg
END:VEVENT
BEGIN:VEVENT
DTSTART;TZID=America/Edmonton:20250906T200000
DTEND;TZID=America/Edmonton:20250907T000000
DTSTAMP:20260421T170823
CREATED:20250905T183908Z
LAST-MODIFIED:20250905T183908Z
UID:10050341-1757188800-1757203200@urbancasual.ca
SUMMARY:The Matthey Jay Band\, live at Texas Gate
DESCRIPTION:One of Calgary’s most sought after bands\, the Matthew Jay band\, winner of the 2025 Battle of the Bands competition in Cochrane\, will be playing live music at the Texas Gate Bar and Grill\, tomorrow (Saturday\, September 6th). \nThe Matthew Jay band blends old school rock and roll\, blues\, and soul; with a modern feel and is musically crafted to move people – either soulfully\, or through dance. \nThis band loves playing in Cochrane. Online tickets are just $5\, while tickets at the door are $10. Come support live music and talent!
URL:https://urbancasual.ca/cochrane-event/the-matthey-jay-band-live-at-texas-gate/
LOCATION:The Texas Gate\, 304 1st Street\, Cochrane\, Alberta\, Canada
CATEGORIES:Adults Only,Concert,Downtown,Music,Pub/Bar Event,Restaurant
ATTACH;FMTTYPE=image/jpeg:https://urbancasual.ca/wp-content/uploads/2025/09/540495699_18070534445165506_1280102551700717476_n.jpg
END:VEVENT
BEGIN:VEVENT
DTSTART;TZID=America/Edmonton:20250906T210000
DTEND;TZID=America/Edmonton:20250907T013000
DTSTAMP:20260421T170823
CREATED:20250908T184022Z
LAST-MODIFIED:20250908T184022Z
UID:10050356-1757192400-1757208600@urbancasual.ca
SUMMARY:LIVE MUSIC AT THE VENUE
DESCRIPTION:SEPT 5 – SHANNON SMITH \nSEPT 6 – GRAFFITI DUO \nSEPT 12 / 13  CRAIG SILVER \nSEPT 19 / 20 JOY RIDE \nSEPT 26 / 27 CLAUD HOLTZ
URL:https://urbancasual.ca/cochrane-event/live-music-at-the-venue-217/2025-09-06/
LOCATION:VENUE SPORTSBAR AND GRILL
CATEGORIES:Adults Only,Business,Concert,Music,Pub/Bar Event,Restaurant
ATTACH;FMTTYPE=image/jpeg:https://urbancasual.ca/wp-content/uploads/2025/09/inbound7618058709087416625.jpg
END:VEVENT
END:VCALENDAR