BEGIN:VCALENDAR
VERSION:2.0
PRODID:-//Urbancasual.ca - ECPv6.15.20//NONSGML v1.0//EN
CALSCALE:GREGORIAN
METHOD:PUBLISH
X-WR-CALNAME:Urbancasual.ca
X-ORIGINAL-URL:https://urbancasual.ca
X-WR-CALDESC:Events for Urbancasual.ca
REFRESH-INTERVAL;VALUE=DURATION:PT1H
X-Robots-Tag:noindex
X-PUBLISHED-TTL:PT1H
BEGIN:VTIMEZONE
TZID:America/Edmonton
BEGIN:DAYLIGHT
TZOFFSETFROM:-0700
TZOFFSETTO:-0600
TZNAME:MDT
DTSTART:20240310T090000
END:DAYLIGHT
BEGIN:STANDARD
TZOFFSETFROM:-0600
TZOFFSETTO:-0700
TZNAME:MST
DTSTART:20241103T080000
END:STANDARD
BEGIN:DAYLIGHT
TZOFFSETFROM:-0700
TZOFFSETTO:-0600
TZNAME:MDT
DTSTART:20250309T090000
END:DAYLIGHT
BEGIN:STANDARD
TZOFFSETFROM:-0600
TZOFFSETTO:-0700
TZNAME:MST
DTSTART:20251102T080000
END:STANDARD
BEGIN:DAYLIGHT
TZOFFSETFROM:-0700
TZOFFSETTO:-0600
TZNAME:MDT
DTSTART:20260308T090000
END:DAYLIGHT
BEGIN:STANDARD
TZOFFSETFROM:-0600
TZOFFSETTO:-0700
TZNAME:MST
DTSTART:20261101T080000
END:STANDARD
END:VTIMEZONE
BEGIN:VEVENT
DTSTART;VALUE=DATE:20250505
DTEND;VALUE=DATE:20250513
DTSTAMP:20260420T123505
CREATED:20250502T152348Z
LAST-MODIFIED:20250502T152348Z
UID:10047865-1746414000-1747018799@urbancasual.ca
SUMMARY:Mental Health Awareness Week at SLS Centre
DESCRIPTION:In honour of Mental Health Awareness Week\, we’re happy to announce that all our drop-in Fitness Classes will be FREE for the week of May 5-11! See our online schedules for a full list of classes that will be available.
URL:https://urbancasual.ca/cochrane-event/mental-health-awareness-week-at-sls-centre/
LOCATION:Spray Lake Sawmill Family Sports Centre\, 800 Griffin Road\, Cochrane\, AB
CATEGORIES:advocacy,Community,Fitness,Free,Mental Health Week,Newcomers,Parents & Caregivers,Spray Lakes Sawmill Rec Centre
ATTACH;FMTTYPE=image/jpeg:https://urbancasual.ca/wp-content/uploads/2025/05/mental-health-wk-sls-centre.jpg
END:VEVENT
BEGIN:VEVENT
DTSTART;TZID=America/Edmonton:20250507T181500
DTEND;TZID=America/Edmonton:20250507T191500
DTSTAMP:20260420T123505
CREATED:20250408T004143Z
LAST-MODIFIED:20250408T004643Z
UID:10046198-1746641700-1746645300@urbancasual.ca
SUMMARY:Supporting Our Heroes: Wayfinders Wellness Society
DESCRIPTION:This Mental Health Week\, we’re honored to host Wayfinders Wellness Society. They provide crucial\, free peer-led support and programs for those who have served our communities and country: first responders\, military personnel\, veterans\, and their families\, who are living with PTSD injury\, and in 2024 they served a record 1628 peers and their family members. This is a unique and valuable resource located on a working cattle ranch on the edge of Cochrane. \nJoin us to learn how Wayfinders Wellness Society empowers these individuals and how you can help spread the word and support their vital services in our community. \nRefreshments will be served. \nRegistration opens at 10:30 am on Saturday\, April 5.
URL:https://urbancasual.ca/cochrane-event/supporting-our-heroes-wayfinders-wellness-society/
LOCATION:Cochrane Public Library\, 405 Railway Street W\, Cochrane\, Alberta
CATEGORIES:Community,Health & Wellness,Library,Mental Health Week
ATTACH;FMTTYPE=image/jpeg:https://urbancasual.ca/wp-content/uploads/2025/04/Supporting-our-Heroes.jpg
END:VEVENT
BEGIN:VEVENT
DTSTART;TZID=America/Edmonton:20250510T100000
DTEND;TZID=America/Edmonton:20250510T150000
DTSTAMP:20260420T123505
CREATED:20250429T200401Z
LAST-MODIFIED:20250429T201901Z
UID:10047804-1746871200-1746889200@urbancasual.ca
SUMMARY:YOUTH UNPLUGGED
DESCRIPTION:Youth Unplugged event. – This one-day free impactful workshop is geared towards our youth between the ages of 13 and older.\n\nMAY 10TH – 10am to 3pm\nKing’s Gate Church\n53 West Aarsby Road\, Cochrane\n\n\n\nQuick overview:\n\nYouth Unplugged is dedicated to promoting mental wellness and resilience among young people in Cochrane and the surrounding communities. Youths from diverse backgrounds will come together to share experiences\, learn\, and take part in meaningful conversations about mental health.\n\nBy fostering open dialogue and engagement\, we aim to break the stigma surrounding mental health challenges and empower young people\nto seek support without fear or hesitation.\n\nKey notes:\n\n\nThe event is free\n\n\nYouths will be provided with breakfast and lunch and a swag bag\n\n\nWe have amazing prizes – 3 gift card worth $50 each donated by the Kiwanis Club of Cochrane – Shredz\, Amazon and Winners and two (2) one day passes to spray lakes.\n\n\nAll you have to do is show up\n\n\n#MyReachAlberta
URL:https://urbancasual.ca/cochrane-event/youth-unplugged/
CATEGORIES:Community,Learning,Mental Health Week,Parents & Caregivers
ATTACH;FMTTYPE=image/jpeg:https://urbancasual.ca/wp-content/uploads/2025/04/Blue-Green-Minimalist-Scholarship-Program-Poster_20250409_193153_0000.jpg
END:VEVENT
END:VCALENDAR