BEGIN:VCALENDAR
VERSION:2.0
PRODID:-//Urbancasual.ca - ECPv6.15.20//NONSGML v1.0//EN
CALSCALE:GREGORIAN
METHOD:PUBLISH
X-ORIGINAL-URL:https://urbancasual.ca
X-WR-CALDESC:Events for Urbancasual.ca
REFRESH-INTERVAL;VALUE=DURATION:PT1H
X-Robots-Tag:noindex
X-PUBLISHED-TTL:PT1H
BEGIN:VTIMEZONE
TZID:America/Edmonton
BEGIN:DAYLIGHT
TZOFFSETFROM:-0700
TZOFFSETTO:-0600
TZNAME:MDT
DTSTART:20240310T090000
END:DAYLIGHT
BEGIN:STANDARD
TZOFFSETFROM:-0600
TZOFFSETTO:-0700
TZNAME:MST
DTSTART:20241103T080000
END:STANDARD
BEGIN:DAYLIGHT
TZOFFSETFROM:-0700
TZOFFSETTO:-0600
TZNAME:MDT
DTSTART:20250309T090000
END:DAYLIGHT
BEGIN:STANDARD
TZOFFSETFROM:-0600
TZOFFSETTO:-0700
TZNAME:MST
DTSTART:20251102T080000
END:STANDARD
BEGIN:DAYLIGHT
TZOFFSETFROM:-0700
TZOFFSETTO:-0600
TZNAME:MDT
DTSTART:20260308T090000
END:DAYLIGHT
BEGIN:STANDARD
TZOFFSETFROM:-0600
TZOFFSETTO:-0700
TZNAME:MST
DTSTART:20261101T080000
END:STANDARD
END:VTIMEZONE
BEGIN:VEVENT
DTSTART;TZID=America/Edmonton:20251125T170000
DTEND;TZID=America/Edmonton:20251125T174500
DTSTAMP:20260419T093217
CREATED:20251027T173144Z
LAST-MODIFIED:20251027T173144Z
UID:10050616-1764090000-1764092700@urbancasual.ca
SUMMARY:Basic Tinkercad (Ages 10+)
DESCRIPTION:New to 3D printing and design? \nPerfect for beginners\, this hands-on program introduces you to the basics of Tinkercad\, a user-friendly online tool for creating 3D models. Over three weeks\, you’ll learn to navigate the Tinkercad interface\, design simple shapes\, and combine them into more complex structures. Each session builds on the last. By the end of the course\, you’ll have the skills to bring your digital creations to life and a solid foundation in 3D design. \nJoin us for a fun and educational experience in digital creativity! \nBasic computer skills are required. We will supply laptops\, but feel free to bring your own if you feel more comfortable using it. \nAdult supervision required for children under the age of 12.
URL:https://urbancasual.ca/cochrane-event/basic-tinkercad-ages-10/2025-11-25/
LOCATION:Cochrane Public Library\, 405 Railway Street W\, Cochrane\, Alberta
CATEGORIES:Adults Only,Free,Learning,Library,Photography
ATTACH;FMTTYPE=image/jpeg:https://urbancasual.ca/wp-content/uploads/2025/10/Basic-Tinkercad-Winter-2025-1.jpg
END:VEVENT
BEGIN:VEVENT
DTSTART;TZID=America/Edmonton:20251125T183000
DTEND;TZID=America/Edmonton:20251125T193000
DTSTAMP:20260419T093217
CREATED:20241227T195531Z
LAST-MODIFIED:20241227T195531Z
UID:10041133-1764095400-1764099000@urbancasual.ca
SUMMARY:ADULT BOOK CLUB AT CPL
DESCRIPTION:Whether you’re an avid reader\, or looking to get out of a reading rut\, everyone is welcome here! \nMeet with fellow readers on the fourth Tuesday of every month for an evening of bookish conversation! Each month will feature a new read across a variety of genres — whether you’re a fan of sci-fi\, historical fiction\, or non-fiction\, there’s something for everyone! \nRegistration opens at 10:30am on Saturday\, January 4.
URL:https://urbancasual.ca/cochrane-event/adult-book-club-at-cpl/2025-11-25/
LOCATION:Cochrane Public Library\, 405 Railway Street W\, Cochrane\, Alberta
CATEGORIES:Adults Only,Book Club,Library
ATTACH;FMTTYPE=image/png:https://urbancasual.ca/wp-content/uploads/2024/12/4th-Tues.png
END:VEVENT
BEGIN:VEVENT
DTSTART;TZID=America/Edmonton:20251129T110000
DTEND;TZID=America/Edmonton:20251129T120000
DTSTAMP:20260419T093217
CREATED:20240121T193907Z
LAST-MODIFIED:20240619T195906Z
UID:10022661-1764414000-1764417600@urbancasual.ca
SUMMARY:Let's Go Lego at the Cochrane Public Library
DESCRIPTION:Join us for our all-ages Let’s Go Lego drop-in\, where you can learn while having fun! We have lots of Lego Education and Steam sets and will be spending hands-on time letting our imaginations go wild! \nWe play on Saturdays between 11:00am and 12:00pm. \n\n 
URL:https://urbancasual.ca/cochrane-event/lets-go-lego-at-the-cochrane-public-library/2025-11-29/
LOCATION:Cochrane Public Library\, 405 Railway Street W\, Cochrane\, Alberta
CATEGORIES:Community,Downtown,Entertainment & Games,Family Friendly,Free,Library,Parents & Caregivers
ATTACH;FMTTYPE=image/jpeg:https://urbancasual.ca/wp-content/uploads/2024/01/Let-s-Go-LEGO.jpg
END:VEVENT
END:VCALENDAR