BEGIN:VCALENDAR
VERSION:2.0
PRODID:-//Urbancasual.ca - ECPv6.15.20//NONSGML v1.0//EN
CALSCALE:GREGORIAN
METHOD:PUBLISH
X-WR-CALNAME:Urbancasual.ca
X-ORIGINAL-URL:https://urbancasual.ca
X-WR-CALDESC:Events for Urbancasual.ca
REFRESH-INTERVAL;VALUE=DURATION:PT1H
X-Robots-Tag:noindex
X-PUBLISHED-TTL:PT1H
BEGIN:VTIMEZONE
TZID:America/Edmonton
BEGIN:DAYLIGHT
TZOFFSETFROM:-0700
TZOFFSETTO:-0600
TZNAME:MDT
DTSTART:20240310T090000
END:DAYLIGHT
BEGIN:STANDARD
TZOFFSETFROM:-0600
TZOFFSETTO:-0700
TZNAME:MST
DTSTART:20241103T080000
END:STANDARD
BEGIN:DAYLIGHT
TZOFFSETFROM:-0700
TZOFFSETTO:-0600
TZNAME:MDT
DTSTART:20250309T090000
END:DAYLIGHT
BEGIN:STANDARD
TZOFFSETFROM:-0600
TZOFFSETTO:-0700
TZNAME:MST
DTSTART:20251102T080000
END:STANDARD
BEGIN:DAYLIGHT
TZOFFSETFROM:-0700
TZOFFSETTO:-0600
TZNAME:MDT
DTSTART:20260308T090000
END:DAYLIGHT
BEGIN:STANDARD
TZOFFSETFROM:-0600
TZOFFSETTO:-0700
TZNAME:MST
DTSTART:20261101T080000
END:STANDARD
END:VTIMEZONE
BEGIN:VEVENT
DTSTART;TZID=America/Edmonton:20250812T173000
DTEND;TZID=America/Edmonton:20250812T190000
DTSTAMP:20260419T121145
CREATED:20250609T205235Z
LAST-MODIFIED:20250609T210204Z
UID:10049367-1755019800-1755025200@urbancasual.ca
SUMMARY:Sounds of Summer
DESCRIPTION:From July 8th to August 12th\, join the Cochrane Public Library on Tuesday evenings at the Cochrane Crossing Civic Plaza for a series of outdoor concerts featuring local musicians! \nPack a dinner for you and your loved ones and relax on the lawn as you take in the Sounds of Summer. From bagpipes to classical clarinet\, opera\, and more\, there’s something for everyone at this new series — and you may just discover your new favourite artist! You’ll have the opportunity to learn about local musicians\, their creative process\, and the significance of their music\, all from the comfort of your picnic blankets. \nPlease note that in the case of poor weather\, Sounds of Summer will be moved indoors to the Rotary Lounge at the Cochrane Public Library!
URL:https://urbancasual.ca/cochrane-event/sounds-of-summer/2025-08-12/
LOCATION:The Station\, 360 Railway St W\, Cochrane\, AB\, Canada
CATEGORIES:Choir,Concert,Culture,Downtown,Free,Library,Music,Parks
ATTACH;FMTTYPE=image/jpeg:https://urbancasual.ca/wp-content/uploads/2025/06/Sounds-of-Summer.jpg
END:VEVENT
BEGIN:VEVENT
DTSTART;TZID=America/Edmonton:20250815T111500
DTEND;TZID=America/Edmonton:20250815T114500
DTSTAMP:20260419T121145
CREATED:20250623T223338Z
LAST-MODIFIED:20250623T223338Z
UID:10049527-1755256500-1755258300@urbancasual.ca
SUMMARY:Drop-in Summer Stories in the Garden (Parented)
DESCRIPTION:Come to the Library for exciting stories\, songs\, rhymes\, and bubbles in our garden. These sessions will keep your little one involved from start to finish! \nFor ages 0-5. \nThis program occurs from 11:15am – 11:45am on Mondays and Fridays.
URL:https://urbancasual.ca/cochrane-event/drop-in-summer-stories-in-the-garden-parented/2025-08-15/
LOCATION:Cochrane Public Library\, 405 Railway Street W\, Cochrane\, Alberta
CATEGORIES:Community,Free,Library,Parents & Caregivers
ATTACH;FMTTYPE=image/png:https://urbancasual.ca/wp-content/uploads/2025/06/Summer-Stories-in-the-Garden-2025-Poster-1.png
END:VEVENT
BEGIN:VEVENT
DTSTART;TZID=America/Edmonton:20250816T110000
DTEND;TZID=America/Edmonton:20250816T120000
DTSTAMP:20260419T121145
CREATED:20240121T193907Z
LAST-MODIFIED:20240619T195906Z
UID:10022646-1755342000-1755345600@urbancasual.ca
SUMMARY:Let's Go Lego at the Cochrane Public Library
DESCRIPTION:Join us for our all-ages Let’s Go Lego drop-in\, where you can learn while having fun! We have lots of Lego Education and Steam sets and will be spending hands-on time letting our imaginations go wild! \nWe play on Saturdays between 11:00am and 12:00pm. \n\n 
URL:https://urbancasual.ca/cochrane-event/lets-go-lego-at-the-cochrane-public-library/2025-08-16/
LOCATION:Cochrane Public Library\, 405 Railway Street W\, Cochrane\, Alberta
CATEGORIES:Community,Downtown,Entertainment & Games,Family Friendly,Free,Library,Parents & Caregivers
ATTACH;FMTTYPE=image/jpeg:https://urbancasual.ca/wp-content/uploads/2024/01/Let-s-Go-LEGO.jpg
END:VEVENT
END:VCALENDAR