BEGIN:VCALENDAR
VERSION:2.0
PRODID:-//Urbancasual.ca - ECPv6.15.20//NONSGML v1.0//EN
CALSCALE:GREGORIAN
METHOD:PUBLISH
X-WR-CALNAME:Urbancasual.ca
X-ORIGINAL-URL:https://urbancasual.ca
X-WR-CALDESC:Events for Urbancasual.ca
REFRESH-INTERVAL;VALUE=DURATION:PT1H
X-Robots-Tag:noindex
X-PUBLISHED-TTL:PT1H
BEGIN:VTIMEZONE
TZID:America/Edmonton
BEGIN:DAYLIGHT
TZOFFSETFROM:-0700
TZOFFSETTO:-0600
TZNAME:MDT
DTSTART:20250309T090000
END:DAYLIGHT
BEGIN:STANDARD
TZOFFSETFROM:-0600
TZOFFSETTO:-0700
TZNAME:MST
DTSTART:20251102T080000
END:STANDARD
BEGIN:DAYLIGHT
TZOFFSETFROM:-0700
TZOFFSETTO:-0600
TZNAME:MDT
DTSTART:20260308T090000
END:DAYLIGHT
BEGIN:STANDARD
TZOFFSETFROM:-0600
TZOFFSETTO:-0700
TZNAME:MST
DTSTART:20261101T080000
END:STANDARD
BEGIN:DAYLIGHT
TZOFFSETFROM:-0700
TZOFFSETTO:-0600
TZNAME:MDT
DTSTART:20270314T090000
END:DAYLIGHT
BEGIN:STANDARD
TZOFFSETFROM:-0600
TZOFFSETTO:-0700
TZNAME:MST
DTSTART:20271107T080000
END:STANDARD
END:VTIMEZONE
BEGIN:VEVENT
DTSTART;TZID=America/Edmonton:20260518T190000
DTEND;TZID=America/Edmonton:20260518T210000
DTSTAMP:20260420T014600
CREATED:20250729T182203Z
LAST-MODIFIED:20250729T182203Z
UID:10049751-1779130800-1779138000@urbancasual.ca
SUMMARY:Cochrane Sings Practice
DESCRIPTION:Our new Season begins MONDAY SEPTEMBER 8 and if you’re thinking about what awesome amazing extracurricular activity you should join\, look no further\, ESPECIALLY if you’re a MAN!! Yes we are a MIXED adult choir and YES we have some pretty incredible MEN!! \nMondays from 7:00-9:00pm \nAt the All Saints Anglican Church at 404-4th Ave \nwww. cochranesings.com for more info!
URL:https://urbancasual.ca/cochrane-event/cochrane-sings-practice/2026-05-18/
LOCATION:All Saints Anglican Church\, 404 Fourth Ave N\, Cochrane\, Alberta
CATEGORIES:Choir,Club,Community,Entertainment & Games,Learning,Networking,Seniors
ATTACH;FMTTYPE=image/jpeg:https://urbancasual.ca/wp-content/uploads/2025/07/524116941_596548306856893_7660379351601470637_n.jpg
END:VEVENT
BEGIN:VEVENT
DTSTART;TZID=America/Edmonton:20260519T183000
DTEND;TZID=America/Edmonton:20260519T200000
DTSTAMP:20260420T014600
CREATED:20260331T222330Z
LAST-MODIFIED:20260331T222330Z
UID:10058182-1779215400-1779220800@urbancasual.ca
SUMMARY:Learn to Paint with Stephen Purdy
DESCRIPTION:Learn to Paint with Stephen Purdy! \nMost of us enjoy the natural landscape\, and sometimes stand in awe of its beauty.\nJoin Stephen as he teaches and shares what he’s learned to help you make a landscape painting you can be proud of! \nThis class is based on the process of painting outdoors\, in which it is essential to develop a strong composition\, designate the appropriate values\, and make the colour sparkle with the life of the scene before your eyes. Outside\, you have a limited time to capture the scene as the light will change. Inside the studio\, this same efficiency will keep your painting fresh. \nThis class is for everyone. Beginner\, Intermediate or Expert. We can all learn from some constructive criticism. The class is structured with demonstrations of each stage of a painting\, followed by individual critiques of each stage of the students’ progress. If you are a little uncertain of your ability\, don’t be\, this class might be a little intense\, but that is because painting is really\, really\, really fun!!! \nDates:\n– Tuesdays\, from April 7th until May 26\, 2026 \nTime: 6:30 pm – 8:00 pm \nRegistration Price:\nOne class: $30 + GST | Fees \nFor more information and to register:\n– Scan the QR code to get registered now!\n– OR\, visit our website @ route22gallery.com under events for more information!
URL:https://urbancasual.ca/cochrane-event/learn-to-paint-with-stephen-purdy/2026-05-19/
LOCATION:Route 22 Artist Collective Gallery\, 208 1st Street W.\, Cochrane\, Alberta\, Canada
CATEGORIES:Art,Learning
ATTACH;FMTTYPE=image/jpeg:https://urbancasual.ca/wp-content/uploads/2026/03/APR-MAY-Stephen-Purdy-Learn-to-Paint-2.jpg
ORGANIZER;CN="Route 22 Artist Collective Gallery":MAILTO:INFO@ROUTE22GALLERY.COM
END:VEVENT
BEGIN:VEVENT
DTSTART;TZID=America/Edmonton:20260519T190000
DTEND;TZID=America/Edmonton:20260519T210000
DTSTAMP:20260420T014600
CREATED:20260107T214734Z
LAST-MODIFIED:20260107T214734Z
UID:10053447-1779217200-1779224400@urbancasual.ca
SUMMARY:JAM & DRAW MIXER AT FOUND
DESCRIPTION:A welcoming space for musicians and artists at any skill level; play non-stop music with each other in an open circle\, “living room” setting! If you don’t play\, we will have a variety of art supplies available. \nThis space offers a chance to jam with friends and meet new people in your community. All instruments & genres (even spoken word/emcees) are welcome. This is a queer-friendly space. \nCover by donation: RSVP HERE
URL:https://urbancasual.ca/cochrane-event/jam-draw-mixer-at-found/2026-05-19/
LOCATION:Found Book Shop\, 206 1st Street W\, Cochrane\, AB
CATEGORIES:Business,Community,Crafts,Culture,Entertainment & Games,Karaoke,Learning,Music,Networking,OPEN MIC,Pub/Bar Event
ATTACH;FMTTYPE=image/jpeg:https://urbancasual.ca/wp-content/uploads/2026/01/608858685_1466878862106263_800200169564951520_n.jpg
END:VEVENT
BEGIN:VEVENT
DTSTART;TZID=America/Edmonton:20260523T100000
DTEND;TZID=America/Edmonton:20260523T120000
DTSTAMP:20260420T014600
CREATED:20260325T181959Z
LAST-MODIFIED:20260325T194758Z
UID:10057912-1779530400-1779537600@urbancasual.ca
SUMMARY:CHESS CLUB - FOR EVERYONE\, EVERY SATURDAY!
DESCRIPTION:Chess Club at Mathnasium of Cochrane \nJoin us every Saturday from 10:00 AM – 12:00 PM for our FREE Chess Club! \nOpen to everyone in the community\, this is a welcoming space where players of all levels can learn\, practice\, and enjoy the game. \nWhether you’re just starting or sharpening your strategy\, come think\, play\, and grow with us — at no cost
URL:https://urbancasual.ca/cochrane-event/chess-club-saturdays-mathnasium/2026-05-23/
LOCATION:Alberta
CATEGORIES:Club,Entertainment & Games,Free,Learning,Parents & Caregivers
ATTACH;FMTTYPE=image/jpeg:https://urbancasual.ca/wp-content/uploads/2026/03/643356409_122155676042955127_7872203943751762475_n.jpg
END:VEVENT
BEGIN:VEVENT
DTSTART;TZID=America/Edmonton:20260524T090000
DTEND;TZID=America/Edmonton:20260524T190000
DTSTAMP:20260420T014600
CREATED:20260331T222750Z
LAST-MODIFIED:20260331T222750Z
UID:10058166-1779613200-1779649200@urbancasual.ca
SUMMARY:Walks ‘N’ Wags Pet First Aid
DESCRIPTION:Learn how to prevent and treat pet injuries and illnesses before they happen! \nThis 10 hour course in dog and cat first aid will teach you the skills you need to assist a pet as a first responder until qualified Veterinarian assistance is obtained. \nHands-on course with live dogs in class to practise your new skills on! \nTopics include: \nPreventative Medicine\nParasites\nAirway Obstruction\nArtificial Respiration\nCardio Pulmonary Resuscitation\nBleeding & Wounds\n….And Many More!
URL:https://urbancasual.ca/cochrane-event/walks-n-wags-pet-first-aid/
LOCATION:Comb & Collar Dog Grooming\, 13-118 First Ave W\, Cochrane\, Alberta\, T4C2E7\, Canada
CATEGORIES:First Aid,Health & Wellness,Learning,Pets
ATTACH;FMTTYPE=image/jpeg:https://urbancasual.ca/wp-content/uploads/2026/03/IMG_9165.jpg
ORGANIZER;CN="Good Heels Dog Walking Services":MAILTO:lyndsay@goodheelsdogwalking.ca
END:VEVENT
END:VCALENDAR