BEGIN:VCALENDAR
VERSION:2.0
PRODID:-//Urbancasual.ca - ECPv6.15.20//NONSGML v1.0//EN
CALSCALE:GREGORIAN
METHOD:PUBLISH
X-WR-CALNAME:Urbancasual.ca
X-ORIGINAL-URL:https://urbancasual.ca
X-WR-CALDESC:Events for Urbancasual.ca
REFRESH-INTERVAL;VALUE=DURATION:PT1H
X-Robots-Tag:noindex
X-PUBLISHED-TTL:PT1H
BEGIN:VTIMEZONE
TZID:America/Edmonton
BEGIN:DAYLIGHT
TZOFFSETFROM:-0700
TZOFFSETTO:-0600
TZNAME:MDT
DTSTART:20250309T090000
END:DAYLIGHT
BEGIN:STANDARD
TZOFFSETFROM:-0600
TZOFFSETTO:-0700
TZNAME:MST
DTSTART:20251102T080000
END:STANDARD
BEGIN:DAYLIGHT
TZOFFSETFROM:-0700
TZOFFSETTO:-0600
TZNAME:MDT
DTSTART:20260308T090000
END:DAYLIGHT
BEGIN:STANDARD
TZOFFSETFROM:-0600
TZOFFSETTO:-0700
TZNAME:MST
DTSTART:20261101T080000
END:STANDARD
BEGIN:DAYLIGHT
TZOFFSETFROM:-0700
TZOFFSETTO:-0600
TZNAME:MDT
DTSTART:20270314T090000
END:DAYLIGHT
BEGIN:STANDARD
TZOFFSETFROM:-0600
TZOFFSETTO:-0700
TZNAME:MST
DTSTART:20271107T080000
END:STANDARD
END:VTIMEZONE
BEGIN:VEVENT
DTSTART;TZID=America/Edmonton:20260427T190000
DTEND;TZID=America/Edmonton:20260427T210000
DTSTAMP:20260424T065942
CREATED:20250729T182203Z
LAST-MODIFIED:20250729T182203Z
UID:10049748-1777316400-1777323600@urbancasual.ca
SUMMARY:Cochrane Sings Practice
DESCRIPTION:Our new Season begins MONDAY SEPTEMBER 8 and if you’re thinking about what awesome amazing extracurricular activity you should join\, look no further\, ESPECIALLY if you’re a MAN!! Yes we are a MIXED adult choir and YES we have some pretty incredible MEN!! \nMondays from 7:00-9:00pm \nAt the All Saints Anglican Church at 404-4th Ave \nwww. cochranesings.com for more info!
URL:https://urbancasual.ca/cochrane-event/cochrane-sings-practice/2026-04-27/
LOCATION:All Saints Anglican Church\, 404 Fourth Ave N\, Cochrane\, Alberta
CATEGORIES:Choir,Club,Community,Entertainment & Games,Learning,Networking,Seniors
ATTACH;FMTTYPE=image/jpeg:https://urbancasual.ca/wp-content/uploads/2025/07/524116941_596548306856893_7660379351601470637_n.jpg
END:VEVENT
BEGIN:VEVENT
DTSTART;TZID=America/Edmonton:20260428T183000
DTEND;TZID=America/Edmonton:20260428T200000
DTSTAMP:20260424T065942
CREATED:20260331T222330Z
LAST-MODIFIED:20260331T222330Z
UID:10058179-1777401000-1777406400@urbancasual.ca
SUMMARY:Learn to Paint with Stephen Purdy
DESCRIPTION:Learn to Paint with Stephen Purdy! \nMost of us enjoy the natural landscape\, and sometimes stand in awe of its beauty.\nJoin Stephen as he teaches and shares what he’s learned to help you make a landscape painting you can be proud of! \nThis class is based on the process of painting outdoors\, in which it is essential to develop a strong composition\, designate the appropriate values\, and make the colour sparkle with the life of the scene before your eyes. Outside\, you have a limited time to capture the scene as the light will change. Inside the studio\, this same efficiency will keep your painting fresh. \nThis class is for everyone. Beginner\, Intermediate or Expert. We can all learn from some constructive criticism. The class is structured with demonstrations of each stage of a painting\, followed by individual critiques of each stage of the students’ progress. If you are a little uncertain of your ability\, don’t be\, this class might be a little intense\, but that is because painting is really\, really\, really fun!!! \nDates:\n– Tuesdays\, from April 7th until May 26\, 2026 \nTime: 6:30 pm – 8:00 pm \nRegistration Price:\nOne class: $30 + GST | Fees \nFor more information and to register:\n– Scan the QR code to get registered now!\n– OR\, visit our website @ route22gallery.com under events for more information!
URL:https://urbancasual.ca/cochrane-event/learn-to-paint-with-stephen-purdy/2026-04-28/
LOCATION:Route 22 Artist Collective Gallery\, 208 1st Street W.\, Cochrane\, Alberta\, Canada
CATEGORIES:Art,Learning
ATTACH;FMTTYPE=image/jpeg:https://urbancasual.ca/wp-content/uploads/2026/03/APR-MAY-Stephen-Purdy-Learn-to-Paint-2.jpg
ORGANIZER;CN="Route 22 Artist Collective Gallery":MAILTO:INFO@ROUTE22GALLERY.COM
END:VEVENT
BEGIN:VEVENT
DTSTART;TZID=America/Edmonton:20260428T190000
DTEND;TZID=America/Edmonton:20260428T210000
DTSTAMP:20260424T065942
CREATED:20230518T210646Z
LAST-MODIFIED:20250512T220248Z
UID:10009648-1777402800-1777410000@urbancasual.ca
SUMMARY:Start Up Cochrane
DESCRIPTION:WHEN: Join us on the FOURTH Tuesday night of each month\, 7 PM – 9 PM at The Corner Coworking on Railway Street E in Cochrane\, AB.\n\nNOTE: EACH MONTH WE WILL UPDATE IF THERE WILL BE A TOPIC OR PRESENTER.\n\nCOST: Free\n\nWhat can I do? How do I get involved?\n\nFor these events to be a success\, and to grow the local #startup community\, we need entrepreneurs at all stages of the startup & launch phases.\n\n-Got a new idea?\n-Have a concept you are curious about?\n-Ready to pitch for funding?\n-Looking to grow an existing business?\nPLUS\n-Have you launched a new business already?\n-Are you an investor?\n-Been involved in startups before? (Successful & less successful)\n-Just plain curious?
URL:https://urbancasual.ca/cochrane-event/start-up-cochrane-4/2026-04-28/
LOCATION:The Corner Coworking\, 225 Railway Street E\, Cochrane
CATEGORIES:Business,Community,Learning,Networking
ATTACH;FMTTYPE=image/jpeg:https://urbancasual.ca/wp-content/uploads/2025/05/3-START-UP-1640-X-850.jpg
END:VEVENT
BEGIN:VEVENT
DTSTART;TZID=America/Edmonton:20260502T100000
DTEND;TZID=America/Edmonton:20260502T120000
DTSTAMP:20260424T065942
CREATED:20260325T181959Z
LAST-MODIFIED:20260325T194758Z
UID:10057909-1777716000-1777723200@urbancasual.ca
SUMMARY:CHESS CLUB - FOR EVERYONE\, EVERY SATURDAY!
DESCRIPTION:Chess Club at Mathnasium of Cochrane \nJoin us every Saturday from 10:00 AM – 12:00 PM for our FREE Chess Club! \nOpen to everyone in the community\, this is a welcoming space where players of all levels can learn\, practice\, and enjoy the game. \nWhether you’re just starting or sharpening your strategy\, come think\, play\, and grow with us — at no cost
URL:https://urbancasual.ca/cochrane-event/chess-club-saturdays-mathnasium/2026-05-02/
CATEGORIES:Club,Entertainment & Games,Free,Learning,Parents & Caregivers
ATTACH;FMTTYPE=image/jpeg:https://urbancasual.ca/wp-content/uploads/2026/03/643356409_122155676042955127_7872203943751762475_n.jpg
END:VEVENT
BEGIN:VEVENT
DTSTART;TZID=America/Edmonton:20260502T100000
DTEND;TZID=America/Edmonton:20260502T160000
DTSTAMP:20260424T065942
CREATED:20260108T172950Z
LAST-MODIFIED:20260108T172950Z
UID:10053532-1777716000-1777737600@urbancasual.ca
SUMMARY:Chamber of Commerce Trade Show 2026
DESCRIPTION:Save the date and join us May 2nd & 3rd from 10am to 4pm at the SLC Centre for the largest event of the year! \nWith over 100+ vendors\, a Kids Fun Zone\, fashion show\, live entertainment\, and daily prizes\, there’s something for everyone! \n🎟 Admission\nKids 12 & Under: FREE 13 & Up: $3/day \nBring the whole family and enjoy the best Cochrane has to offer!
URL:https://urbancasual.ca/cochrane-event/chamber-of-commerce-trade-show-2026/2026-05-02/
LOCATION:Spray Lake Sawmill Family Sports Centre\, 800 Griffin Road\, Cochrane\, AB
CATEGORIES:Business,Community,Entertainment & Games,Family Friendly,Learning,Networking,Spray Lakes Sawmill Rec Centre
ATTACH;FMTTYPE=image/jpeg:https://urbancasual.ca/wp-content/uploads/2026/01/inbound3021114357185220269.jpg
END:VEVENT
BEGIN:VEVENT
DTSTART;TZID=America/Edmonton:20260503T100000
DTEND;TZID=America/Edmonton:20260503T160000
DTSTAMP:20260424T065942
CREATED:20260108T172950Z
LAST-MODIFIED:20260108T172950Z
UID:10053533-1777802400-1777824000@urbancasual.ca
SUMMARY:Chamber of Commerce Trade Show 2026
DESCRIPTION:Save the date and join us May 2nd & 3rd from 10am to 4pm at the SLC Centre for the largest event of the year! \nWith over 100+ vendors\, a Kids Fun Zone\, fashion show\, live entertainment\, and daily prizes\, there’s something for everyone! \n🎟 Admission\nKids 12 & Under: FREE 13 & Up: $3/day \nBring the whole family and enjoy the best Cochrane has to offer!
URL:https://urbancasual.ca/cochrane-event/chamber-of-commerce-trade-show-2026/2026-05-03/
LOCATION:Spray Lake Sawmill Family Sports Centre\, 800 Griffin Road\, Cochrane\, AB
CATEGORIES:Business,Community,Entertainment & Games,Family Friendly,Learning,Networking,Spray Lakes Sawmill Rec Centre
ATTACH;FMTTYPE=image/jpeg:https://urbancasual.ca/wp-content/uploads/2026/01/inbound3021114357185220269.jpg
END:VEVENT
END:VCALENDAR