BEGIN:VCALENDAR
VERSION:2.0
PRODID:-//Urbancasual.ca - ECPv6.15.20//NONSGML v1.0//EN
CALSCALE:GREGORIAN
METHOD:PUBLISH
X-ORIGINAL-URL:https://urbancasual.ca
X-WR-CALDESC:Events for Urbancasual.ca
REFRESH-INTERVAL;VALUE=DURATION:PT1H
X-Robots-Tag:noindex
X-PUBLISHED-TTL:PT1H
BEGIN:VTIMEZONE
TZID:America/Edmonton
BEGIN:DAYLIGHT
TZOFFSETFROM:-0700
TZOFFSETTO:-0600
TZNAME:MDT
DTSTART:20240310T090000
END:DAYLIGHT
BEGIN:STANDARD
TZOFFSETFROM:-0600
TZOFFSETTO:-0700
TZNAME:MST
DTSTART:20241103T080000
END:STANDARD
BEGIN:DAYLIGHT
TZOFFSETFROM:-0700
TZOFFSETTO:-0600
TZNAME:MDT
DTSTART:20250309T090000
END:DAYLIGHT
BEGIN:STANDARD
TZOFFSETFROM:-0600
TZOFFSETTO:-0700
TZNAME:MST
DTSTART:20251102T080000
END:STANDARD
BEGIN:DAYLIGHT
TZOFFSETFROM:-0700
TZOFFSETTO:-0600
TZNAME:MDT
DTSTART:20260308T090000
END:DAYLIGHT
BEGIN:STANDARD
TZOFFSETFROM:-0600
TZOFFSETTO:-0700
TZNAME:MST
DTSTART:20261101T080000
END:STANDARD
END:VTIMEZONE
BEGIN:VEVENT
DTSTART;TZID=America/Edmonton:20250915T190000
DTEND;TZID=America/Edmonton:20250915T210000
DTSTAMP:20260424T033334
CREATED:20250729T182203Z
LAST-MODIFIED:20250729T182203Z
UID:10049716-1757962800-1757970000@urbancasual.ca
SUMMARY:Cochrane Sings Practice
DESCRIPTION:Our new Season begins MONDAY SEPTEMBER 8 and if you’re thinking about what awesome amazing extracurricular activity you should join\, look no further\, ESPECIALLY if you’re a MAN!! Yes we are a MIXED adult choir and YES we have some pretty incredible MEN!! \nMondays from 7:00-9:00pm \nAt the All Saints Anglican Church at 404-4th Ave \nwww. cochranesings.com for more info!
URL:https://urbancasual.ca/cochrane-event/cochrane-sings-practice/2025-09-15/
LOCATION:All Saints Anglican Church\, 404 Fourth Ave N\, Cochrane\, Alberta
CATEGORIES:Choir,Club,Community,Entertainment & Games,Learning,Networking,Seniors
ATTACH;FMTTYPE=image/jpeg:https://urbancasual.ca/wp-content/uploads/2025/07/524116941_596548306856893_7660379351601470637_n.jpg
END:VEVENT
BEGIN:VEVENT
DTSTART;TZID=America/Edmonton:20250916T100000
DTEND;TZID=America/Edmonton:20250916T193000
DTSTAMP:20260424T033334
CREATED:20250827T200748Z
LAST-MODIFIED:20250827T200748Z
UID:10050279-1758016800-1758051000@urbancasual.ca
SUMMARY:Brain Bloomers Enrichment Program @ SLS Centre
DESCRIPTION:In partnership with the SLS centre and Instructed by Village of Play\, Brain Bloomers is a transformative new program designed to help youth ages 6-14 develop and practice critical Executive Functioning (EF) skills\, that go beyond academics and open play. \nRooted in neuroscience-backed learning strategies\, the program provides a fun and inclusive coaching environment for kids to build with intention\, emotional intelligence skills essential to success in school\, life and prep them to thrive in a fast-paced\, ever-changing world. \nThe 9-week program focuses on 9 core life-ready skills\, helping children grow with coaching practice through play in:\n* Emotional Regulation\n* Impulse Control\n* Working Memory\n* Self-Awareness & Self-Monitoring\n* Goal-Directed Persistence\n* Organization\n* Planning & Prioritization\n* Task Initiation\,\n* Cognitive Flexibility \nHow the Program Works: Each Brain Bloomers class is a 60-minute\, play-focused session tailored specifically to Executive Functioning. The curriculum is structured as a 9-week rotation\, where participants engage\, learn and practice all 9 core EF skills in a social group setting. To make learning engaging\, each skill has a unique\, fun theme. The program is delivered through a 3-Tiered learning model and offers 3 progressive levels per age group\, ensuring that each child receives targeted tools and supports that are right for them. \n3 ages groups available: Ages 6-8\, 9-11 and 12-14 \nClasses Start Tuesday\, September 16th\, 2025. Multiple Registration Times Available to support homeschool and after-school families. Register at www.slscentre.com \nAbout Village of Play: Village of Play is a social enterprise of career professionals and coaches with backgrounds in education\, executive functioning\, mental health\, yoga\, and business training. They believe everyone deserves opportunities to build and receive ongoing coaching practice to strengthen their Executive Functioning skills throughout life. They create playful and inclusive spaces to nurture connection\, self-advocacy\, community and lifelong learning for both neurodiverse and neurotypical individuals. As a social enterprise\, they reinvest in people and programs to ensure high-quality and accessible programming\, collaborative partnerships\, and a commitment to equity and mental well-being. Learn more at villageofplay.com
URL:https://urbancasual.ca/cochrane-event/brain-bloomers-enrichment-program-sls-centre/
LOCATION:SLS Centre\, 800 Griffin Rd E\, Cochrane\, Alberta\, T4C 2B8\, Canada
CATEGORIES:Learning,Parents & Caregivers,Spray Lakes Sawmill Rec Centre,Youth
ATTACH;FMTTYPE=image/jpeg:https://urbancasual.ca/wp-content/uploads/2025/08/SLS-VOP-Partnership.jpg
ORGANIZER;CN="Village of Play":MAILTO:hello@villageofplay.com
END:VEVENT
BEGIN:VEVENT
DTSTART;TZID=America/Edmonton:20250917T093000
DTEND;TZID=America/Edmonton:20250917T160000
DTSTAMP:20260424T033334
CREATED:20250806T022146Z
LAST-MODIFIED:20250806T022146Z
UID:10049881-1758101400-1758124800@urbancasual.ca
SUMMARY:A Deep Dive into Acrylic Painting
DESCRIPTION:A Deep Dive into Acrylic Painting! \nUnlock your creative potential in this 5 weeklong course designed for new and intermediate artists! \nJoin us at Route 22 Artist Collective Gallery for a hands-on course led by Marike MacDonald: \nExplore new techniques and deepen your skills! \nDates:\n– Week 1 — Sept 10: Design Strategies\n– Week 2 — Sept 17: Colour Strategies\n– Week 3 — Sept 24: Underpainting Strategies\n– Week 4 — Oct 1: Negative Painting\n– Week 5 — Oct 8: Glazing Techniques \nTime: Wednesdays from 9:30 am to 4:00 am \nAges: 18+ \nLocation: Route 22 Artist Collective Gallery \nFees:\n– Full Series: $400 for all 5 classes\n– Drop-In: $100 per class (choose your preferred sessions) \nEach Week Offers:\n– A focus on a specific principle or method in the morning\n– Time for lunch and movement breaks\n– An afternoon instructor-led painting session | Subjects will primarily include landscapes and florals!\n– Participants will be able to take home a finished or nearly finished painting each week! \nFor more information and registration please visit our website at route22gallery.com under events!
URL:https://urbancasual.ca/cochrane-event/a-deep-dive-into-acrylic-painting/2025-09-17/
LOCATION:Route 22 Artist Collective Gallery\, 208 1st Street W.\, Cochrane\, Alberta\, Canada
CATEGORIES:Art,Learning
ATTACH;FMTTYPE=image/png:https://urbancasual.ca/wp-content/uploads/2025/07/deepdiveadultsocial.png
ORGANIZER;CN="Route 22 Artist Collective Gallery":MAILTO:INFO@ROUTE22GALLERY.COM
END:VEVENT
BEGIN:VEVENT
DTSTART;TZID=America/Edmonton:20250919T100000
DTEND;TZID=America/Edmonton:20250919T110000
DTSTAMP:20260424T033334
CREATED:20250109T175736Z
LAST-MODIFIED:20250226T200327Z
UID:10045273-1758276000-1758279600@urbancasual.ca
SUMMARY:Parent & Tot Sing-Alongs
DESCRIPTION:Welcome to Cochrane’s Parent & Tot Sing-Along Sessions! \nJoin us for a fun and interactive music experience with your little ones. Sing along to popular children’s songs and nursery rhymes in a welcoming and inclusive environment. \nSTARTING DATE Friday January 3\, 2025 \nTime: Doors at 10:00 AM music starts at 10:15am \nLocation: Frank Wills Community Hall \nCoffee\, tea and cookies provided. \nBring your singing voices and get ready to bond with your child through music. No experience necessary\, just come ready to have a great time! \nFloor seating so bring a blanket\, yoga mat or cushion if you’d like. \n*Price is for parent & tot with no more than 2 parents per caregiver. $7/each drop-in or $20 for 4 consecutive drop ins (billed once at the beginning of the month)
URL:https://urbancasual.ca/cochrane-event/parent-tot-sing-alongs/2025-09-19/
LOCATION:Frank Wills Memorial Hall\, 405 1st Street E\, Cochrane\, Alberta
CATEGORIES:Community,Entertainment & Games,Learning,Music,Parents & Caregivers
ATTACH;FMTTYPE=image/jpeg:https://urbancasual.ca/wp-content/uploads/2025/01/472320182_8970766342958715_3666774441074322581_n.jpg
END:VEVENT
BEGIN:VEVENT
DTSTART;TZID=America/Edmonton:20250921T130000
DTEND;TZID=America/Edmonton:20250921T160000
DTSTAMP:20260424T033334
CREATED:20250915T232630Z
LAST-MODIFIED:20250918T173539Z
UID:10050419-1758459600-1758470400@urbancasual.ca
SUMMARY:Village of Play Open House!
DESCRIPTION:Bring the whole family and come see what Village of Play is all about! \n✨ Try out fun game demos from each of our age-group programs\n✨ Meet our team and learn how we build executive function skills through play\n✨ Ask questions and explore the right fit for your child\n✨ Enter our prize giveaway for a chance to win something special \nEach age group will have a 20-minute demo\, rotating every hour. Join the session that fits your child’s age or stay for more than one to see what’s ahead! \n1:00–1:20pm | Ages 6–8 \n1:20–1:40pm | Ages 9–11 \n1:40–2:00pm | Ages 12–14 \n2:00–2:20pm | Ages 6–8 \n2:20–2:40pm | Ages 9–11 \n2:40–3:00pm | Ages 12–14 \n3:00–3:20pm | Ages 6–8 \n3:20–3:40pm | Ages 9–11 \n3:40–4:00pm | Ages 12–14 \n✨ Kids can join in their age group at any time.\n✨ Parents can chat with our team in between demos.\n✨ Prize giveaway runs all afternoon\, enter before 4pm! \nWhether you’re already registered or just curious\, this is the perfect chance to experience the energy\, creativity\, and connection behind our programs. Kids can play\, parents can chat\, and everyone leaves with a smile! \nNo registration needed\, just drop in anytime between 1–4pm at the SLS Centre. We can’t wait to meet you!
URL:https://urbancasual.ca/cochrane-event/village-of-play-open-house/
LOCATION:SLS Centre\, 800 Griffin Rd E\, Cochrane\, Alberta\, T4C 2B8\, Canada
CATEGORIES:Free,Learning,MEET & GREET,Open House,Parents & Caregivers,Spray Lakes Sawmill Rec Centre
ATTACH;FMTTYPE=image/png:https://urbancasual.ca/wp-content/uploads/2025/09/Original-less-white.png
ORGANIZER;CN="Village of Play":MAILTO:hello@villageofplay.com
END:VEVENT
END:VCALENDAR