BEGIN:VCALENDAR
VERSION:2.0
PRODID:-//Urbancasual.ca - ECPv6.15.20//NONSGML v1.0//EN
CALSCALE:GREGORIAN
METHOD:PUBLISH
X-WR-CALNAME:Urbancasual.ca
X-ORIGINAL-URL:https://urbancasual.ca
X-WR-CALDESC:Events for Urbancasual.ca
REFRESH-INTERVAL;VALUE=DURATION:PT1H
X-Robots-Tag:noindex
X-PUBLISHED-TTL:PT1H
BEGIN:VTIMEZONE
TZID:America/Edmonton
BEGIN:DAYLIGHT
TZOFFSETFROM:-0700
TZOFFSETTO:-0600
TZNAME:MDT
DTSTART:20240310T090000
END:DAYLIGHT
BEGIN:STANDARD
TZOFFSETFROM:-0600
TZOFFSETTO:-0700
TZNAME:MST
DTSTART:20241103T080000
END:STANDARD
BEGIN:DAYLIGHT
TZOFFSETFROM:-0700
TZOFFSETTO:-0600
TZNAME:MDT
DTSTART:20250309T090000
END:DAYLIGHT
BEGIN:STANDARD
TZOFFSETFROM:-0600
TZOFFSETTO:-0700
TZNAME:MST
DTSTART:20251102T080000
END:STANDARD
BEGIN:DAYLIGHT
TZOFFSETFROM:-0700
TZOFFSETTO:-0600
TZNAME:MDT
DTSTART:20260308T090000
END:DAYLIGHT
BEGIN:STANDARD
TZOFFSETFROM:-0600
TZOFFSETTO:-0700
TZNAME:MST
DTSTART:20261101T080000
END:STANDARD
END:VTIMEZONE
BEGIN:VEVENT
DTSTART;TZID=America/Edmonton:20250908T170000
DTEND;TZID=America/Edmonton:20250908T200000
DTSTAMP:20260421T194558
CREATED:20250626T150913Z
LAST-MODIFIED:20250626T150913Z
UID:10049572-1757350800-1757361600@urbancasual.ca
SUMMARY:The Legacy of Residential Schools: Understanding the Enduring Impact
DESCRIPTION:This important session during Truth and Reconciliation month will discuss the history and enduring legacy of residential schools across Canada. This will be a time for learning\, reflection\, and understanding the widespread effects on Indigenous individuals\, families\, and communities. \nThis program is part of the “Unpacking the Past\, Understanding the Present” series by dr. linda manyguns and is made possible by an ethnocultural grant provided by the Government of Alberta. This series will take place on the eighth of each month from June to October. \nYou can register for this session and find more information on upcoming sessions by visiting cochranepubliclibrary.ca/Events/The-Legacy-of-Residential-Schools-Understanding-the-Enduring-Impact!
URL:https://urbancasual.ca/cochrane-event/the-legacy-of-residential-schools-understanding-the-enduring-impact/
LOCATION:Cochrane Public Library\, 405 Railway Street W\, Cochrane\, Alberta
CATEGORIES:Community,Free,Indigenous,Learning,Library
ATTACH;FMTTYPE=image/jpeg:https://urbancasual.ca/wp-content/uploads/2025/06/September-8th.jpg
END:VEVENT
BEGIN:VEVENT
DTSTART;TZID=America/Edmonton:20250908T190000
DTEND;TZID=America/Edmonton:20250908T210000
DTSTAMP:20260421T194558
CREATED:20250729T182203Z
LAST-MODIFIED:20250729T182203Z
UID:10049715-1757358000-1757365200@urbancasual.ca
SUMMARY:Cochrane Sings Practice
DESCRIPTION:Our new Season begins MONDAY SEPTEMBER 8 and if you’re thinking about what awesome amazing extracurricular activity you should join\, look no further\, ESPECIALLY if you’re a MAN!! Yes we are a MIXED adult choir and YES we have some pretty incredible MEN!! \nMondays from 7:00-9:00pm \nAt the All Saints Anglican Church at 404-4th Ave \nwww. cochranesings.com for more info!
URL:https://urbancasual.ca/cochrane-event/cochrane-sings-practice/2025-09-08/
LOCATION:All Saints Anglican Church\, 404 Fourth Ave N\, Cochrane\, Alberta
CATEGORIES:Choir,Club,Community,Entertainment & Games,Learning,Networking,Seniors
ATTACH;FMTTYPE=image/jpeg:https://urbancasual.ca/wp-content/uploads/2025/07/524116941_596548306856893_7660379351601470637_n.jpg
END:VEVENT
BEGIN:VEVENT
DTSTART;TZID=America/Edmonton:20250908T190000
DTEND;TZID=America/Edmonton:20250908T210000
DTSTAMP:20260421T194558
CREATED:20250809T005725Z
LAST-MODIFIED:20250809T005725Z
UID:10049893-1757358000-1757365200@urbancasual.ca
SUMMARY:Cochrane Wild Rose Square Dance Club
DESCRIPTION:Square Dancing on Monday evenings from 7-9 p.m. \nLocated in the auditorium behind Senior’s on the Bow on the 2nd floor of Spray Lakes Recreation Centre. New dancers welcome. \nWear comfortable shoes and prepare to laugh and make friends. \n$8/person or $20 /family 12+ years
URL:https://urbancasual.ca/cochrane-event/cochrane-wild-rose-square-dance-club-2/
LOCATION:Spray Lake Sawmill Family Sports Centre\, 800 Griffin Road\, Cochrane\, AB
CATEGORIES:Dance,Family Friendly,Learning,Parents & Caregivers
ATTACH;FMTTYPE=image/png:https://urbancasual.ca/wp-content/uploads/2025/08/sd-photo-scaled-e1754700967504.png
ORGANIZER;CN="Cochrane Wild Rose Squares":MAILTO:wildrosesquares@gmail.com
END:VEVENT
END:VCALENDAR