BEGIN:VCALENDAR
VERSION:2.0
PRODID:-//Urbancasual.ca - ECPv6.15.20//NONSGML v1.0//EN
CALSCALE:GREGORIAN
METHOD:PUBLISH
X-WR-CALNAME:Urbancasual.ca
X-ORIGINAL-URL:https://urbancasual.ca
X-WR-CALDESC:Events for Urbancasual.ca
REFRESH-INTERVAL;VALUE=DURATION:PT1H
X-Robots-Tag:noindex
X-PUBLISHED-TTL:PT1H
BEGIN:VTIMEZONE
TZID:America/Edmonton
BEGIN:DAYLIGHT
TZOFFSETFROM:-0700
TZOFFSETTO:-0600
TZNAME:MDT
DTSTART:20230312T090000
END:DAYLIGHT
BEGIN:STANDARD
TZOFFSETFROM:-0600
TZOFFSETTO:-0700
TZNAME:MST
DTSTART:20231105T080000
END:STANDARD
BEGIN:DAYLIGHT
TZOFFSETFROM:-0700
TZOFFSETTO:-0600
TZNAME:MDT
DTSTART:20240310T090000
END:DAYLIGHT
BEGIN:STANDARD
TZOFFSETFROM:-0600
TZOFFSETTO:-0700
TZNAME:MST
DTSTART:20241103T080000
END:STANDARD
BEGIN:DAYLIGHT
TZOFFSETFROM:-0700
TZOFFSETTO:-0600
TZNAME:MDT
DTSTART:20250309T090000
END:DAYLIGHT
BEGIN:STANDARD
TZOFFSETFROM:-0600
TZOFFSETTO:-0700
TZNAME:MST
DTSTART:20251102T080000
END:STANDARD
BEGIN:DAYLIGHT
TZOFFSETFROM:-0700
TZOFFSETTO:-0600
TZNAME:MDT
DTSTART:20260308T090000
END:DAYLIGHT
BEGIN:STANDARD
TZOFFSETFROM:-0600
TZOFFSETTO:-0700
TZNAME:MST
DTSTART:20261101T080000
END:STANDARD
END:VTIMEZONE
BEGIN:VEVENT
DTSTART;TZID=America/Edmonton:20251116T100000
DTEND;TZID=America/Edmonton:20251116T160000
DTSTAMP:20260419T064052
CREATED:20251016T201248Z
LAST-MODIFIED:20251016T201310Z
UID:10050884-1763287200-1763308800@urbancasual.ca
SUMMARY:Cochrane Christmas Market
DESCRIPTION:The annual Cochrane Christmas Market Market is an event the Cochrane and surrounding community looks forward to every year. It is a great way to start feeling the magic of the holiday season and to get some Christmas shopping done locally.
URL:https://urbancasual.ca/cochrane-event/cochrane-christmas-market-2025/
LOCATION:The Cochrane Ranchehouse\, 1 Ranchehouse Road\, Cochrane\, Alberta
CATEGORIES:Business,HOLIDAY FUN,HOLIDAY MARKET 2025,Market,Shopping
ATTACH;FMTTYPE=image/jpeg:https://urbancasual.ca/wp-content/uploads/2025/10/482302301_937444035217254_9104452230429637096_n.jpg
END:VEVENT
BEGIN:VEVENT
DTSTART;TZID=America/Edmonton:20251115T100000
DTEND;TZID=America/Edmonton:20251115T170000
DTSTAMP:20260419T064052
CREATED:20251016T202553Z
LAST-MODIFIED:20251016T202553Z
UID:10050885-1763200800-1763226000@urbancasual.ca
SUMMARY:2025 BRAGG CREEK ARTISANS CHRISTMAS SALE
DESCRIPTION:The highly anticipated Bragg Creek Artisans Annual Christmas Sale is back this November.\n\nJust a short\, scenic drive from Calgary\, the charming hamlet of Bragg Creek sets the stage for a day of holiday shopping and local creativity. Explore an impressive collection of handcrafted pieces – from fine art and jewelry to pottery\, woodwork\,textiles\, and more – all made by talented local artisans.\n\nEnjoy festive food and drinks on-site while you browse. As always\, Free Admission and Free Parking. Wheelchair accessible.\n\nSee you there!
URL:https://urbancasual.ca/cochrane-event/2025-bragg-creek-artisans-christmas-sale/2025-11-15/
LOCATION:Bragg Creek Community Centre
CATEGORIES:Bragg Creek,HOLIDAY FUN,HOLIDAY MARKET 2025,Market,Shopping
ATTACH;FMTTYPE=image/jpeg:https://urbancasual.ca/wp-content/uploads/2025/10/559347077_1219315493569493_8151838669894030273_n.jpg
END:VEVENT
BEGIN:VEVENT
DTSTART;TZID=America/Edmonton:20251115T100000
DTEND;TZID=America/Edmonton:20251115T160000
DTSTAMP:20260419T064052
CREATED:20251016T202942Z
LAST-MODIFIED:20251016T202942Z
UID:10050887-1763200800-1763222400@urbancasual.ca
SUMMARY:Saffron Studios Christmas Pottery Market
DESCRIPTION:Join us on November 15th and 16th for our annual Christmas Pottery Market. Our members will fill our studio with tons of pottery and art that isn’t always available for sale in this twice annual event.\nIt’s the perfect opportunity to find the perfect gift for that special someone just in time for the holidays.. even if that special someone is you \n\nThe Market will be open Saturday\, November 15 & Sunday\, November 16 from 10am – 4pm
URL:https://urbancasual.ca/cochrane-event/saffron-studios-christmas-pottery-market-2/2025-11-15/
LOCATION:Saffron Pottery Studios
CATEGORIES:Art,Business,Crafts,HOLIDAY FUN,HOLIDAY MARKET 2025,Market,Shopping
ATTACH;FMTTYPE=image/jpeg:https://urbancasual.ca/wp-content/uploads/2025/10/555976697_1396098979188835_2238206864777844611_n.jpg
END:VEVENT
BEGIN:VEVENT
DTSTART;TZID=America/Edmonton:20251114T170000
DTEND;TZID=America/Edmonton:20251114T210000
DTSTAMP:20260419T064052
CREATED:20251002T164525Z
LAST-MODIFIED:20251002T164525Z
UID:10050547-1763139600-1763154000@urbancasual.ca
SUMMARY:Holiday Pop-Up Market 2025
DESCRIPTION:‘Tis the season for our 6th Annual Holiday Pop-Up Market! More than just shopping\, it’s an evening out to enjoy the season and support local. Sip on a festive cocktail\, enjoy live music\, and discover one-of-a-kind\, locally made\, gifts while supporting makers & small businesses in our own community. \n✨ Nov 14 – First Stop for Holiday Finds: Get ahead of the rush and shop unique holiday treasures early.\n✨ Dec 19 – Last Stop Shop: Find those final treasures for stockings and under the tree. \n📅 Fridays | 5 to 9 pm\n📍 Cochrane Lions Event Centre\, 109 Fifth Ave\, Cochrane\, AB \n🎁 The first 100 attendees each night will receive one of our ever-popular swag bags!\n💲 Entry is just $2. \nGather your friends\, soak in the festive vibes\, and celebrate local creativity while checking everyone off your list.
URL:https://urbancasual.ca/cochrane-event/holiday-pop-up-market-2025/2025-11-14/
LOCATION:Cochrane Lions Club Event Centre\, 109 Fifth Avenue\, Cochrane\, Alberta\, T4C 0A4\, Canada
CATEGORIES:Business,HOLIDAY FUN,HOLIDAY MARKET 2025,LIONS EVENTS CENTRE,Market,Shopping
ATTACH;FMTTYPE=image/jpeg:https://urbancasual.ca/wp-content/uploads/2025/09/2025-Holiday-Market-Graphics.jpg
ORGANIZER;CN="Quirk Social":MAILTO:hello@quirksocial.ca
END:VEVENT
BEGIN:VEVENT
DTSTART;TZID=America/Edmonton:20241231T200000
DTEND;TZID=America/Edmonton:20250101T010000
DTSTAMP:20260419T064052
CREATED:20241211T163358Z
LAST-MODIFIED:20241211T163358Z
UID:10040488-1735675200-1735693200@urbancasual.ca
SUMMARY:NYE at Lion Head Pub
DESCRIPTION:Come and celebrate New Years Eve at Lion Head Pub. Purchase tickets in groups of 4 to secure a table for your party. \nLimited to 60 tickets\, with no bar seating for this event. \nDoors at 8pm – Close at 1am. \n\nTickets are $25 each ($100 for a table) and include: 1 Welcome Drink per seat\, 1 Lion Share platter for the table\, Door Prizes\, and a Champagne toast at midnight.
URL:https://urbancasual.ca/cochrane-event/nye-at-lion-head-pub/
LOCATION:Lion Head Pub\, 101 Sunset Drive\, Cochrane\, Alberta
CATEGORIES:Adults Only,Business,Entertainment & Games,HOLIDAY FUN,NEW YEARS EVE 2025,Pub/Bar Event,Restaurant
ATTACH;FMTTYPE=image/jpeg:https://urbancasual.ca/wp-content/uploads/2024/12/Screenshot_20241210_212108_Facebook.jpg
END:VEVENT
BEGIN:VEVENT
DTSTART;TZID=America/Edmonton:20241231T170000
DTEND;TZID=America/Edmonton:20241231T233000
DTSTAMP:20260419T064052
CREATED:20241212T223017Z
LAST-MODIFIED:20241212T223030Z
UID:10040497-1735664400-1735687800@urbancasual.ca
SUMMARY:NYE FENCE & POST
DESCRIPTION:the best night of the year  | our chef has prepared a delicious 5 course dinner to celebrate ringing in 2025  tickets are selling fast – purchase through our website!
URL:https://urbancasual.ca/cochrane-event/nye-fence-post/
LOCATION:Fence & Post\, 214\, 1st Street W.\, Cochrane
CATEGORIES:Business,Community,Food,HOLIDAY FUN,NEW YEARS EVE 2025,Restaurant
ATTACH;FMTTYPE=image/jpeg:https://urbancasual.ca/wp-content/uploads/2024/12/469687732_1362609831850927_4511781352476566409_n.jpg
END:VEVENT
BEGIN:VEVENT
DTSTART;TZID=America/Edmonton:20241225T110000
DTEND;TZID=America/Edmonton:20241225T130000
DTSTAMP:20260419T064052
CREATED:20241224T213125Z
LAST-MODIFIED:20241224T213125Z
UID:10040768-1735124400-1735131600@urbancasual.ca
SUMMARY:Jingle Mingle
DESCRIPTION:Once again our Cochrane Immigrant Services Committee is putting together the Jingle Mingle event on Christmas Day (Dec 25)!\n\n\n\nCome for a delicious cup of soup and treats at the Cochrane Alliance Church from 11 am to 1 pm\, bring the family and join us in celebrating the holidays in Cochrane.\n\n\n\nThere will be gifts for the little ones along with some activities\, music and friends…\n\n\n\nSee you on Christmas Day!!!!
URL:https://urbancasual.ca/cochrane-event/jingle-mingle-4/
LOCATION:Cochrane Alliance Church\, 902 Glenbow Drive\, Cochrane\, Alberta\, Canada
CATEGORIES:Community,Entertainment & Games,Family Friendly,Food,Free,HOLIDAY FUN,Open House,Parents & Caregivers,Seniors
ATTACH;FMTTYPE=image/jpeg:https://urbancasual.ca/wp-content/uploads/2024/12/inbound8890015992233596640.jpg
END:VEVENT
BEGIN:VEVENT
DTSTART;TZID=America/Edmonton:20241223T150000
DTEND;TZID=America/Edmonton:20241223T163000
DTSTAMP:20260419T064052
CREATED:20241203T180643Z
LAST-MODIFIED:20241203T180643Z
UID:10037984-1734966000-1734971400@urbancasual.ca
SUMMARY:11th Annual Free Familty Skate with Frosty and Friends
DESCRIPTION:We are pleased to invite you and your family to our 11th Annual family skate! This is a FREE event hosted by Leah Real Estate Group to spread Christmas cheer! Join us\, Frosty\, Santa & Mrs. Claus at Spray Lake Sawmills Centre for an afternoon of fun!\n\nSanta and Mrs Claus will be in attendance for photos before they head back to the North Pole to pack up all the gifts for Christmas Eve.\nBring your skates\, helmets\, and smiles as we celebrate friendship and the magical moments of Christmas 
URL:https://urbancasual.ca/cochrane-event/11th-annual-free-familty-skate-with-frosty-and-friends/
LOCATION:Spray Lake Sawmill Family Sports Centre\, 800 Griffin Road\, Cochrane\, AB
CATEGORIES:Community,Family Friendly,Free,HOLIDAY FUN,Parents & Caregivers
ATTACH;FMTTYPE=image/jpeg:https://urbancasual.ca/wp-content/uploads/2024/12/468974022_1099037985559339_2408595133717626636_n.jpg
END:VEVENT
BEGIN:VEVENT
DTSTART;TZID=America/Edmonton:20241216T183000
DTEND;TZID=America/Edmonton:20241216T200000
DTSTAMP:20260419T064052
CREATED:20241202T001622Z
LAST-MODIFIED:20241202T001622Z
UID:10037677-1734373800-1734379200@urbancasual.ca
SUMMARY:FREE Christmas Movie Night
DESCRIPTION:Come enjoy this FREE event that is sure to get the whole family into the Christmas spirit! \nImpact Church is sponsoring a ONE-TIME showing of the Christmas movie “The Star” at Cochrane Movie House on Monday\, December 16th at 6:30 pm. Everyone is sure to enjoy some laughs as you follow along to discover the greatest Christmas gift ever given. \nTickets are limited and can be reserved at Cochrane Movie House. \nGrab some popcorn and join us for this fun family night out!
URL:https://urbancasual.ca/cochrane-event/free-christmas-movie-night/
LOCATION:Cochrane Movie House
CATEGORIES:CHRISTMAS IN COCHRANE 2024,Family Friendly,Free,HOLIDAY FUN,Movie
ATTACH;FMTTYPE=image/png:https://urbancasual.ca/wp-content/uploads/2024/11/FREE-Christmas-Family-Movie-Night-Instagram-Post-2.png
ORGANIZER;CN="Impact Church":MAILTO:carling@impactcochrane.com
END:VEVENT
BEGIN:VEVENT
DTSTART;TZID=America/Edmonton:20241213T180000
DTEND;TZID=America/Edmonton:20241213T210000
DTSTAMP:20260419T064052
CREATED:20241209T224338Z
LAST-MODIFIED:20241212T184911Z
UID:10038520-1734112800-1734123600@urbancasual.ca
SUMMARY:Christmas Cookie Decorating Workshop
DESCRIPTION:Come learn the fun art of cookie decorating. \nChristmas music\, snacks and cookie decorating. \nNo experience needed.\nI’ll teach you everything. \nYou leave with 6 decorated cookies\, recipes and the skill to go make them at home.
URL:https://urbancasual.ca/cochrane-event/christmas-cookie-decorating-workshop/
LOCATION:Cochrane Baking Company\, 101 Sunset Dr #4101\, Cochrane\, AB\, T4C0W7\, Canada
CATEGORIES:Art,Business,Entertainment & Games,HOLIDAY FUN,Parents & Caregivers
ATTACH;FMTTYPE=image/png:https://urbancasual.ca/wp-content/uploads/2024/12/Christmas-cookie-decorating-workshop-4-x-4-in-1.png
END:VEVENT
BEGIN:VEVENT
DTSTART;TZID=America/Edmonton:20241212T180000
DTEND;TZID=America/Edmonton:20241212T200000
DTSTAMP:20260419T064052
CREATED:20241126T233431Z
LAST-MODIFIED:20241127T172241Z
UID:10037669-1734026400-1734033600@urbancasual.ca
SUMMARY:The North Pole of Cochrane
DESCRIPTION:Come and get festive at the North Pole of Cochrane Event! \nCome and have your photo taken with Santa and receive a take home cookie decorating kit\, enjoy a horse & sleigh ride\, some hot cocoa\, music\, treat bags and more! \nBrought to you by Sunset Ridge Dental\, Mountain Vista Law\, Sunset Ridge Pharmacy\, Candid Cosmedics\, The Lion Head Pub\, and Sunset Dreams and Beauty Bar.
URL:https://urbancasual.ca/cochrane-event/the-north-pole-of-cochrane/
CATEGORIES:Business,Community,Family Friendly,Free,HOLIDAY FUN,Parents & Caregivers,SANTA,Sunset Ridge
ATTACH;FMTTYPE=image/jpeg:https://urbancasual.ca/wp-content/uploads/2024/11/468430275_1123872646408834_8118646957084053528_n.jpg
END:VEVENT
BEGIN:VEVENT
DTSTART;TZID=America/Edmonton:20241208T143000
DTEND;TZID=America/Edmonton:20241208T170000
DTSTAMP:20260419T064052
CREATED:20241203T012054Z
LAST-MODIFIED:20241203T012054Z
UID:10037974-1733668200-1733677200@urbancasual.ca
SUMMARY:Christmas at Greccio – Christmas at The Mount
DESCRIPTION:Christmas at Greccio – Christmas at The Mount \nSunday\, December 8 \n2:30 pm – 5:00 pm\nSleigh Rides (weather permitting)\nHot Chocolate and Snacks \nSt. Francis of Assisi began the popular tradition of re-enacting the Christmas story in Greccio\, Italy. Mount St. Francis has held the Greccio Christmas pageant since 2006. We are excited to welcome you back for this in person outdoor pageant.\nThis is an outdoor pageant\, please dress for weather. \nAccepting non-perishable food \nand cash donations for the Cochrane Food Bank.
URL:https://urbancasual.ca/cochrane-event/christmas-at-greccio-christmas-at-the-mount-2/
LOCATION:Mount St. Francis Retreat Centre\, 41160 Retreat Road\, Cochrane\, Alberta\, T4C 1A6\, Canada
CATEGORIES:Choir,CHRISTMAS IN COCHRANE 2024,Church Events,Community,Family Friendly,Free,HOLIDAY FUN
ATTACH;FMTTYPE=image/jpeg:https://urbancasual.ca/wp-content/uploads/2024/12/Greccio-2024.jpg
ORGANIZER;CN="Mount St. Francis Retreat Centre":MAILTO:mtfrancis@shaw.ca
END:VEVENT
BEGIN:VEVENT
DTSTART;TZID=America/Edmonton:20241208T113000
DTEND;TZID=America/Edmonton:20241208T140000
DTSTAMP:20260419T064052
CREATED:20241202T001429Z
LAST-MODIFIED:20241202T001429Z
UID:10037684-1733657400-1733666400@urbancasual.ca
SUMMARY:SANTA AT THE LEGION
DESCRIPTION:
URL:https://urbancasual.ca/cochrane-event/santa-at-the-legion/
CATEGORIES:Animals,Community,Family Friendly,HOLIDAY FUN,Parents & Caregivers,SANTA
ATTACH;FMTTYPE=image/jpeg:https://urbancasual.ca/wp-content/uploads/2024/12/468766183_122127049088544523_2515791621954113908_n.jpg
END:VEVENT
BEGIN:VEVENT
DTSTART;TZID=America/Edmonton:20241207T100000
DTEND;TZID=America/Edmonton:20241207T150000
DTSTAMP:20260419T064052
CREATED:20241203T004627Z
LAST-MODIFIED:20241203T004627Z
UID:10037979-1733565600-1733583600@urbancasual.ca
SUMMARY:STUFF - A - BUS
DESCRIPTION:Stuff a bus is just around the corner! Mark your calendars and consider donating to families in need of extra love this Christmas! We are looking for toys and gifts for kids of all ages. We also collect for the Mom and Dads. Drop by the mechanics shop waiting area to have your picture taken\, it’s free with a donation.
URL:https://urbancasual.ca/cochrane-event/stuff-a-bus-3/
CATEGORIES:Community,HOLIDAY FUN,Parents & Caregivers,SANTA
ATTACH;FMTTYPE=image/jpeg:https://urbancasual.ca/wp-content/uploads/2024/12/468430131_977238714434204_2869113396226374314_n.jpg
END:VEVENT
END:VCALENDAR