BEGIN:VCALENDAR
VERSION:2.0
PRODID:-//Urbancasual.ca - ECPv6.15.20//NONSGML v1.0//EN
CALSCALE:GREGORIAN
METHOD:PUBLISH
X-WR-CALNAME:Urbancasual.ca
X-ORIGINAL-URL:https://urbancasual.ca
X-WR-CALDESC:Events for Urbancasual.ca
REFRESH-INTERVAL;VALUE=DURATION:PT1H
X-Robots-Tag:noindex
X-PUBLISHED-TTL:PT1H
BEGIN:VTIMEZONE
TZID:America/Edmonton
BEGIN:DAYLIGHT
TZOFFSETFROM:-0700
TZOFFSETTO:-0600
TZNAME:MDT
DTSTART:20240310T090000
END:DAYLIGHT
BEGIN:STANDARD
TZOFFSETFROM:-0600
TZOFFSETTO:-0700
TZNAME:MST
DTSTART:20241103T080000
END:STANDARD
BEGIN:DAYLIGHT
TZOFFSETFROM:-0700
TZOFFSETTO:-0600
TZNAME:MDT
DTSTART:20250309T090000
END:DAYLIGHT
BEGIN:STANDARD
TZOFFSETFROM:-0600
TZOFFSETTO:-0700
TZNAME:MST
DTSTART:20251102T080000
END:STANDARD
BEGIN:DAYLIGHT
TZOFFSETFROM:-0700
TZOFFSETTO:-0600
TZNAME:MDT
DTSTART:20260308T090000
END:DAYLIGHT
BEGIN:STANDARD
TZOFFSETFROM:-0600
TZOFFSETTO:-0700
TZNAME:MST
DTSTART:20261101T080000
END:STANDARD
END:VTIMEZONE
BEGIN:VEVENT
DTSTART;TZID=America/Edmonton:20251203T170000
DTEND;TZID=America/Edmonton:20251203T190000
DTSTAMP:20260420T211622
CREATED:20251121T175904Z
LAST-MODIFIED:20251121T175904Z
UID:10051239-1764781200-1764788400@urbancasual.ca
SUMMARY:SHARE YOUR CHRISTMAS PARADES
DESCRIPTION:The Share Your Christmas Parades are coming to your neighbourhood! \nThis is a great opportunity to donate non perishable food and unwrapped toys for the Cochrane Activettes ‘Share Your Christmas’ Hamper Program. \nEach parade is scheduled to start at 5pm and will run until 7pm. \n  \n  \n2025 SHARE YOUR CHRISTMAS PARADES\nNOVEMBER 27 – HEARTLAND\, HERITAGE HILLS\, COCHRANE HEIGHTS & SUNTERRA \nNOVEMBER 28 – SUNSET RIDGE \nNOVEMBER 30 – ALL RIVERSONG COMMUNITIES AND FIRESIDE \nDECEMBER 2 – RIVERVIEW\, GLENBOW & GREYSTONE \nDECEMBER 3 – WEST TERRACE & WEST VALLEY \nDECEMBER 5 – BOW MEADOWS\, BOW RIDGE & JUMPING POUND \nDECEMBER 7 – EAST END\, GLENEAGLES \nPARADES WILL START AT 5PM AND RUN UNTIL 7PM
URL:https://urbancasual.ca/cochrane-event/share-your-christmas-parades/2025-12-03/
LOCATION:Alberta
CATEGORIES:Community,Family Friendly,Food Drive,Fundraiser,HOLIDAY FUN
ATTACH;FMTTYPE=image/jpeg:https://urbancasual.ca/wp-content/uploads/2025/11/YOU-ARE-INVITED-TO.jpg
END:VEVENT
BEGIN:VEVENT
DTSTART;TZID=America/Edmonton:20251203T190000
DTEND;TZID=America/Edmonton:20251203T210000
DTSTAMP:20260420T211622
CREATED:20251103T205545Z
LAST-MODIFIED:20251103T205545Z
UID:10051140-1764788400-1764795600@urbancasual.ca
SUMMARY:Holiday Wreath & Porch Pot Workshop
DESCRIPTION:MULTIPLE DATE & STYLE OPTIONS AVAILABLE! Click HERE for more details 🙂 \n  \nNOVEMEBER 17 – WREATH & PORCH POT\, 7PM \nNOVEMBER 30 – GRINCH TREE\, 930AM \nDECEMBER 2 – WREATH & PORCH POT\, 7PM \nDECEMBER 3 – WREATH & PORCH POT\, 7PM \nDECEMBER 5 – WREATH & PORCH POT\, 7PM \nDECEMBER 7 – GRINCH TREE\, 930AM
URL:https://urbancasual.ca/cochrane-event/holiday-wreath-porch-pot-workshop-4/2025-12-03/
LOCATION:Found Book Shop\, 206 1st Street W\, Cochrane\, AB
CATEGORIES:Art,Business,Entertainment & Games,HOLIDAY FUN,Learning,Networking,Newcomers,Parents & Caregivers,Workshop
ATTACH;FMTTYPE=image/jpeg:https://urbancasual.ca/wp-content/uploads/2025/11/porch_pot_square.jpg
END:VEVENT
END:VCALENDAR