BEGIN:VCALENDAR
VERSION:2.0
PRODID:-//Urbancasual.ca - ECPv6.15.20//NONSGML v1.0//EN
CALSCALE:GREGORIAN
METHOD:PUBLISH
X-WR-CALNAME:Urbancasual.ca
X-ORIGINAL-URL:https://urbancasual.ca
X-WR-CALDESC:Events for Urbancasual.ca
REFRESH-INTERVAL;VALUE=DURATION:PT1H
X-Robots-Tag:noindex
X-PUBLISHED-TTL:PT1H
BEGIN:VTIMEZONE
TZID:America/Edmonton
BEGIN:DAYLIGHT
TZOFFSETFROM:-0700
TZOFFSETTO:-0600
TZNAME:MDT
DTSTART:20250309T090000
END:DAYLIGHT
BEGIN:STANDARD
TZOFFSETFROM:-0600
TZOFFSETTO:-0700
TZNAME:MST
DTSTART:20251102T080000
END:STANDARD
BEGIN:DAYLIGHT
TZOFFSETFROM:-0700
TZOFFSETTO:-0600
TZNAME:MDT
DTSTART:20260308T090000
END:DAYLIGHT
BEGIN:STANDARD
TZOFFSETFROM:-0600
TZOFFSETTO:-0700
TZNAME:MST
DTSTART:20261101T080000
END:STANDARD
BEGIN:DAYLIGHT
TZOFFSETFROM:-0700
TZOFFSETTO:-0600
TZNAME:MDT
DTSTART:20270314T090000
END:DAYLIGHT
BEGIN:STANDARD
TZOFFSETFROM:-0600
TZOFFSETTO:-0700
TZNAME:MST
DTSTART:20271107T080000
END:STANDARD
END:VTIMEZONE
BEGIN:VEVENT
DTSTART;VALUE=DATE:20260214
DTEND;VALUE=DATE:20260217
DTSTAMP:20260421T210552
CREATED:20260214T003205Z
LAST-MODIFIED:20260214T003205Z
UID:10054660-1771038000-1771210799@urbancasual.ca
SUMMARY:Valentine's Weekend Menu at Texas Gate
DESCRIPTION:
URL:https://urbancasual.ca/cochrane-event/valentines-weekend-menu-at-texas-gate/
LOCATION:AB
CATEGORIES:Business,Food,HOCKEY,Pub/Bar Event,Restaurant,VALENTINE'S DAY
ATTACH;FMTTYPE=image/jpeg:https://urbancasual.ca/wp-content/uploads/2026/02/inbound3056473792975911158.jpg
END:VEVENT
BEGIN:VEVENT
DTSTART;TZID=America/Edmonton:20260215T150000
DTEND;TZID=America/Edmonton:20260215T180000
DTSTAMP:20260421T210552
CREATED:20260212T172147Z
LAST-MODIFIED:20260212T172703Z
UID:10054639-1771167600-1771178400@urbancasual.ca
SUMMARY:HJHL PLAYOFFS ROUND 2 GAME 2 - GENS VS WHEATLAND KINGS
DESCRIPTION:PLAYOFF HOCKEY IS BACK IN COCHRANE. Your Generals return to home ice for the first time in the 2025/26 HJHL Playoffs for Game 2 of the South Division Semifinals! FloHockey SLS Centre Strathmore Wheatland Kings \n Sun Feb 15th 3:00 PM MT OnTheRocksLounge Adults $10-$5 Students Seniors 50/50 $1 for 2 $5 for 10 \n 
URL:https://urbancasual.ca/cochrane-event/hjhl-playoffs-round-2-game-2-gens-vs-wheatland-kings-2026/
LOCATION:Spray Lake Sawmill Family Sports Centre\, 800 Griffin Road\, Cochrane\, AB
CATEGORIES:Cochrane Generals,Community,Entertainment & Games,Family Friendly,HOCKEY,Parents & Caregivers,Sports,Spray Lakes Sawmill Rec Centre
ATTACH;FMTTYPE=image/jpeg:https://urbancasual.ca/wp-content/uploads/2026/02/630956237_18339320617300699_5676057996239478362_n.jpg
END:VEVENT
END:VCALENDAR