BEGIN:VCALENDAR
VERSION:2.0
PRODID:-//Urbancasual.ca - ECPv6.15.20//NONSGML v1.0//EN
CALSCALE:GREGORIAN
METHOD:PUBLISH
X-ORIGINAL-URL:https://urbancasual.ca
X-WR-CALDESC:Events for Urbancasual.ca
REFRESH-INTERVAL;VALUE=DURATION:PT1H
X-Robots-Tag:noindex
X-PUBLISHED-TTL:PT1H
BEGIN:VTIMEZONE
TZID:America/Edmonton
BEGIN:DAYLIGHT
TZOFFSETFROM:-0700
TZOFFSETTO:-0600
TZNAME:MDT
DTSTART:20250309T090000
END:DAYLIGHT
BEGIN:STANDARD
TZOFFSETFROM:-0600
TZOFFSETTO:-0700
TZNAME:MST
DTSTART:20251102T080000
END:STANDARD
BEGIN:DAYLIGHT
TZOFFSETFROM:-0700
TZOFFSETTO:-0600
TZNAME:MDT
DTSTART:20260308T090000
END:DAYLIGHT
BEGIN:STANDARD
TZOFFSETFROM:-0600
TZOFFSETTO:-0700
TZNAME:MST
DTSTART:20261101T080000
END:STANDARD
BEGIN:DAYLIGHT
TZOFFSETFROM:-0700
TZOFFSETTO:-0600
TZNAME:MDT
DTSTART:20270314T090000
END:DAYLIGHT
BEGIN:STANDARD
TZOFFSETFROM:-0600
TZOFFSETTO:-0700
TZNAME:MST
DTSTART:20271107T080000
END:STANDARD
END:VTIMEZONE
BEGIN:VEVENT
DTSTART;TZID=America/Edmonton:20260415T180000
DTEND;TZID=America/Edmonton:20260415T203000
DTSTAMP:20260419T232201
CREATED:20260331T221524Z
LAST-MODIFIED:20260331T221547Z
UID:10058639-1776276000-1776285000@urbancasual.ca
SUMMARY:CABEZA GRANDE TRIVIA NIGHT
DESCRIPTION:🎉 Trivia Night in Cochrane! 🎉 \nJoin us Wednesday\, April 15 at 6PM for a fun-filled Trivia Night hosted by Marky Mark! \n📍 Cabeza Grande\n🍗 $10 Wings with amazing flavors:\nChipotle Tabasco\, Tajín Spice\, Salt & Pepper\, Hot\, Dill Pickle\, Honey Dill\, Honey Garlic\, Trifecta\, and Jarrito BBQ \nBring your friends\, test your knowledge\, and enjoy some seriously good eats. See you there!
URL:https://urbancasual.ca/cochrane-event/cabeza-grande-trivia-night-april/
LOCATION:Cabeza Grande\, Heartland\, Cochrane\, Alberta\, Canada
CATEGORIES:Entertainment & Games,Family Friendly,Food,Heartland,Pub/Bar Event,Restaurant,Trivia
ATTACH;FMTTYPE=image/jpeg:https://urbancasual.ca/wp-content/uploads/2026/03/inbound4361270510236692555.jpg
END:VEVENT
END:VCALENDAR