BEGIN:VCALENDAR
VERSION:2.0
PRODID:-//Urbancasual.ca - ECPv6.15.20//NONSGML v1.0//EN
CALSCALE:GREGORIAN
METHOD:PUBLISH
X-ORIGINAL-URL:https://urbancasual.ca
X-WR-CALDESC:Events for Urbancasual.ca
REFRESH-INTERVAL;VALUE=DURATION:PT1H
X-Robots-Tag:noindex
X-PUBLISHED-TTL:PT1H
BEGIN:VTIMEZONE
TZID:America/Edmonton
BEGIN:DAYLIGHT
TZOFFSETFROM:-0700
TZOFFSETTO:-0600
TZNAME:MDT
DTSTART:20240310T090000
END:DAYLIGHT
BEGIN:STANDARD
TZOFFSETFROM:-0600
TZOFFSETTO:-0700
TZNAME:MST
DTSTART:20241103T080000
END:STANDARD
BEGIN:DAYLIGHT
TZOFFSETFROM:-0700
TZOFFSETTO:-0600
TZNAME:MDT
DTSTART:20250309T090000
END:DAYLIGHT
BEGIN:STANDARD
TZOFFSETFROM:-0600
TZOFFSETTO:-0700
TZNAME:MST
DTSTART:20251102T080000
END:STANDARD
BEGIN:DAYLIGHT
TZOFFSETFROM:-0700
TZOFFSETTO:-0600
TZNAME:MDT
DTSTART:20260308T090000
END:DAYLIGHT
BEGIN:STANDARD
TZOFFSETFROM:-0600
TZOFFSETTO:-0700
TZNAME:MST
DTSTART:20261101T080000
END:STANDARD
END:VTIMEZONE
BEGIN:VEVENT
DTSTART;TZID=America/Edmonton:20250827T100000
DTEND;TZID=America/Edmonton:20250827T110000
DTSTAMP:20260419T202524
CREATED:20250827T185435Z
LAST-MODIFIED:20250831T193415Z
UID:10050282-1756288800-1756292400@urbancasual.ca
SUMMARY:57th Annual Cochrane Labour Day Parade
DESCRIPTION:Round off your summer by joining us for the\n57th Annual Cochrane Labour Day Parade\non September 1\, 2025!\nGrab your lawn chairs\, claim your spot\nand enjoy pre-parade entertainment starting at 9am.\nThe parade follows at 10am with a variety of businesses & groups strutting their stuff\nwith eye-catching floats down 1st Street and Railway Street.\nPlease note that barricades will be going up\nthroughout downtown at 8:00am sharp\,\nso please plan accordingly.\nFollow us on social media for the most up to date information.\nInstagram: @cochrane_area_events_society\nPlease email labourdayparade@gmail.com if you have any questions.
URL:https://urbancasual.ca/cochrane-event/57th-annual-cochrane-labour-day-parade/
LOCATION:Alberta
CATEGORIES:Community,Culture,DISCOVERY DAYS,Entertainment & Games,Family Friendly,Free,Parade,Parents & Caregivers
ATTACH;FMTTYPE=image/jpeg:https://urbancasual.ca/wp-content/uploads/2025/08/515013891_1167021862122554_3143740929561026270_n.jpg
END:VEVENT
BEGIN:VEVENT
DTSTART;TZID=America/Edmonton:20250827T120000
DTEND;TZID=America/Edmonton:20250827T160000
DTSTAMP:20260419T202524
CREATED:20250529T163927Z
LAST-MODIFIED:20250529T163927Z
UID:10048462-1756296000-1756310400@urbancasual.ca
SUMMARY:Cochrane Historical Museum
DESCRIPTION:Visit the Cochrane Historical Museum Wednesday through Sunday (plus stat Mondays) until September 1st\, 12pm to 4pm. \nLearn more: https://urbancasual.ca/history-live-here-cochrane-historical-museum-opens-at-the-ranche-may-17th/
URL:https://urbancasual.ca/cochrane-event/cochrane-historical-museum/2025-08-27/
LOCATION:Cochrane Ranche\, Hwy 1A\, Cochrane\, Alberta
CATEGORIES:Community,Culture,Entertainment & Games,Family Friendly,Free,Learning,Newcomers,Parents & Caregivers
ATTACH;FMTTYPE=image/jpeg:https://urbancasual.ca/wp-content/uploads/2025/05/497640714_10162442038179061_4194824443753130805_n-e1747167844472.jpg
END:VEVENT
BEGIN:VEVENT
DTSTART;TZID=America/Edmonton:20250828T120000
DTEND;TZID=America/Edmonton:20250828T160000
DTSTAMP:20260419T202524
CREATED:20250529T163927Z
LAST-MODIFIED:20250529T163927Z
UID:10048463-1756382400-1756396800@urbancasual.ca
SUMMARY:Cochrane Historical Museum
DESCRIPTION:Visit the Cochrane Historical Museum Wednesday through Sunday (plus stat Mondays) until September 1st\, 12pm to 4pm. \nLearn more: https://urbancasual.ca/history-live-here-cochrane-historical-museum-opens-at-the-ranche-may-17th/
URL:https://urbancasual.ca/cochrane-event/cochrane-historical-museum/2025-08-28/
LOCATION:Cochrane Ranche\, Hwy 1A\, Cochrane\, Alberta
CATEGORIES:Community,Culture,Entertainment & Games,Family Friendly,Free,Learning,Newcomers,Parents & Caregivers
ATTACH;FMTTYPE=image/jpeg:https://urbancasual.ca/wp-content/uploads/2025/05/497640714_10162442038179061_4194824443753130805_n-e1747167844472.jpg
END:VEVENT
BEGIN:VEVENT
DTSTART;TZID=America/Edmonton:20250828T170000
DTEND;TZID=America/Edmonton:20250828T200000
DTSTAMP:20260419T202524
CREATED:20250414T191316Z
LAST-MODIFIED:20250414T191339Z
UID:10047023-1756400400-1756411200@urbancasual.ca
SUMMARY:Cochrane Classic Car Club meet Up
DESCRIPTION:Cochrane Classic Car Club Thursday Night Show and Shine will start on Thursday April 17th (Weather Permitting) from 5:00 to 8:00. \nThe event will be held every Thursday during the season unless otherwise posted on Facebook at the A&W Westside Cochrane.\nHope to see everyone soon
URL:https://urbancasual.ca/cochrane-event/cochrane-classic-car-club-meet-up/2025-08-28/
LOCATION:A&W WESTSIDE DRIVE
CATEGORIES:Car Show,Club,Community,Entertainment & Games,Free
ATTACH;FMTTYPE=image/jpeg:https://urbancasual.ca/wp-content/uploads/2025/04/491590669_639196252206581_9038313815574729107_n.jpg
END:VEVENT
BEGIN:VEVENT
DTSTART;TZID=America/Edmonton:20250829T100000
DTEND;TZID=America/Edmonton:20250829T180000
DTSTAMP:20260419T202524
CREATED:20250807T165043Z
LAST-MODIFIED:20250807T165044Z
UID:10049899-1756461600-1756490400@urbancasual.ca
SUMMARY:TRADING POST LABOUR DAY WEEKEND MARKET
DESCRIPTION: Big News\, Cochrane! \nWe’re proud to present the First-Ever Trading Post Market — happening August 29\, 30\, 31 & September 1 — alongside the Cochrane Lions Rodeo! \n\n\n\n Step inside the Cochrane Lions Event Centre to explore 50+ amazing vendors offering:\n Handmade goods\n Western wear\n Home décor\n Unique gifts\n Tasty treats\n… and so much more!\n\n\n\n Venue: Cochrane Lions Event Centre\n Address: 109 5th Ave W\, Cochrane\, AB\n Dates: August 29 – September 1\n Time: 10 AM – 6 PM daily\n\n\n\n FREE ADMISSION – No rodeo ticket required to attend the market!\n\n\n\nCelebrate Rodeo Weekend in true western style. Shop local\, meet talented makers\, and enjoy the festive atmosphere! \n\n\n\n Stay tuned all month as we feature our fantastic vendors\, including:\nCool Shirts • Glass n Stuff • 3D Printing • Thick Boys Spices• Cochrane Lions Rodeo Regalia• Jolly 23 • BBB Honey • Enlightened Oils • Rara Joy • Valley General Store • Midnight Silver • IV Therapy • Good Spirit Photo • Super Dips • White Lightning Distillery • Red Neck Rough & Tough • Woody Worn • Phoenix Fudge • Angelica Roberts • Jordan Ridge Sauces • Dark Horse Design • Purple Pantry • Happily Homemade Creations • Rocky Mountain Mules • Catrina Toffee • Frayed Knot • M3 Custom Metals • Norwex • Sweets by the Creek • Vintage Buckskin • Sasquatch Trails • Rad Crafts • A Strong Impression • Leaf Filter • Busted Bronco • Heritage Soap Works • Emerson Cree Designs • ENMAX Energy • Let Them Play • Stunning Creations • Cody & Sioux • Ukrainian Fine Foods • Memories of the Bay • My Teepee • Imagine That Art • Juice Plus • Made by CJ-Bethel Masterpiece\n\n\n\n Don’t miss this one-of-a-kind market experience!
URL:https://urbancasual.ca/cochrane-event/trading-post-labour-day-weekend-market/2025-08-29/
LOCATION:The Lions Event Centre\, 109 5th Avenue\, Cochrane\, Alberta\, Canada
CATEGORIES:Business,Community,Family Friendly,Free,LIONS EVENTS CENTRE,Market
ATTACH;FMTTYPE=image/jpeg:https://urbancasual.ca/wp-content/uploads/2025/07/inbound8547588370205317883.jpg
END:VEVENT
BEGIN:VEVENT
DTSTART;TZID=America/Edmonton:20250829T120000
DTEND;TZID=America/Edmonton:20250829T160000
DTSTAMP:20260419T202524
CREATED:20250529T163927Z
LAST-MODIFIED:20250529T163927Z
UID:10048464-1756468800-1756483200@urbancasual.ca
SUMMARY:Cochrane Historical Museum
DESCRIPTION:Visit the Cochrane Historical Museum Wednesday through Sunday (plus stat Mondays) until September 1st\, 12pm to 4pm. \nLearn more: https://urbancasual.ca/history-live-here-cochrane-historical-museum-opens-at-the-ranche-may-17th/
URL:https://urbancasual.ca/cochrane-event/cochrane-historical-museum/2025-08-29/
LOCATION:Cochrane Ranche\, Hwy 1A\, Cochrane\, Alberta
CATEGORIES:Community,Culture,Entertainment & Games,Family Friendly,Free,Learning,Newcomers,Parents & Caregivers
ATTACH;FMTTYPE=image/jpeg:https://urbancasual.ca/wp-content/uploads/2025/05/497640714_10162442038179061_4194824443753130805_n-e1747167844472.jpg
END:VEVENT
BEGIN:VEVENT
DTSTART;TZID=America/Edmonton:20250830T100000
DTEND;TZID=America/Edmonton:20250830T180000
DTSTAMP:20260419T202524
CREATED:20250807T165043Z
LAST-MODIFIED:20250807T165044Z
UID:10049900-1756548000-1756576800@urbancasual.ca
SUMMARY:TRADING POST LABOUR DAY WEEKEND MARKET
DESCRIPTION: Big News\, Cochrane! \nWe’re proud to present the First-Ever Trading Post Market — happening August 29\, 30\, 31 & September 1 — alongside the Cochrane Lions Rodeo! \n\n\n\n Step inside the Cochrane Lions Event Centre to explore 50+ amazing vendors offering:\n Handmade goods\n Western wear\n Home décor\n Unique gifts\n Tasty treats\n… and so much more!\n\n\n\n Venue: Cochrane Lions Event Centre\n Address: 109 5th Ave W\, Cochrane\, AB\n Dates: August 29 – September 1\n Time: 10 AM – 6 PM daily\n\n\n\n FREE ADMISSION – No rodeo ticket required to attend the market!\n\n\n\nCelebrate Rodeo Weekend in true western style. Shop local\, meet talented makers\, and enjoy the festive atmosphere! \n\n\n\n Stay tuned all month as we feature our fantastic vendors\, including:\nCool Shirts • Glass n Stuff • 3D Printing • Thick Boys Spices• Cochrane Lions Rodeo Regalia• Jolly 23 • BBB Honey • Enlightened Oils • Rara Joy • Valley General Store • Midnight Silver • IV Therapy • Good Spirit Photo • Super Dips • White Lightning Distillery • Red Neck Rough & Tough • Woody Worn • Phoenix Fudge • Angelica Roberts • Jordan Ridge Sauces • Dark Horse Design • Purple Pantry • Happily Homemade Creations • Rocky Mountain Mules • Catrina Toffee • Frayed Knot • M3 Custom Metals • Norwex • Sweets by the Creek • Vintage Buckskin • Sasquatch Trails • Rad Crafts • A Strong Impression • Leaf Filter • Busted Bronco • Heritage Soap Works • Emerson Cree Designs • ENMAX Energy • Let Them Play • Stunning Creations • Cody & Sioux • Ukrainian Fine Foods • Memories of the Bay • My Teepee • Imagine That Art • Juice Plus • Made by CJ-Bethel Masterpiece\n\n\n\n Don’t miss this one-of-a-kind market experience!
URL:https://urbancasual.ca/cochrane-event/trading-post-labour-day-weekend-market/2025-08-30/
LOCATION:The Lions Event Centre\, 109 5th Avenue\, Cochrane\, Alberta\, Canada
CATEGORIES:Business,Community,Family Friendly,Free,LIONS EVENTS CENTRE,Market
ATTACH;FMTTYPE=image/jpeg:https://urbancasual.ca/wp-content/uploads/2025/07/inbound8547588370205317883.jpg
END:VEVENT
BEGIN:VEVENT
DTSTART;TZID=America/Edmonton:20250830T110000
DTEND;TZID=America/Edmonton:20250830T120000
DTSTAMP:20260419T202524
CREATED:20240121T193907Z
LAST-MODIFIED:20240619T195906Z
UID:10022648-1756551600-1756555200@urbancasual.ca
SUMMARY:Let's Go Lego at the Cochrane Public Library
DESCRIPTION:Join us for our all-ages Let’s Go Lego drop-in\, where you can learn while having fun! We have lots of Lego Education and Steam sets and will be spending hands-on time letting our imaginations go wild! \nWe play on Saturdays between 11:00am and 12:00pm. \n\n 
URL:https://urbancasual.ca/cochrane-event/lets-go-lego-at-the-cochrane-public-library/2025-08-30/
LOCATION:Cochrane Public Library\, 405 Railway Street W\, Cochrane\, Alberta
CATEGORIES:Community,Downtown,Entertainment & Games,Family Friendly,Free,Library,Parents & Caregivers
ATTACH;FMTTYPE=image/jpeg:https://urbancasual.ca/wp-content/uploads/2024/01/Let-s-Go-LEGO.jpg
END:VEVENT
BEGIN:VEVENT
DTSTART;TZID=America/Edmonton:20250830T120000
DTEND;TZID=America/Edmonton:20250830T160000
DTSTAMP:20260419T202524
CREATED:20250529T163927Z
LAST-MODIFIED:20250529T163927Z
UID:10048465-1756555200-1756569600@urbancasual.ca
SUMMARY:Cochrane Historical Museum
DESCRIPTION:Visit the Cochrane Historical Museum Wednesday through Sunday (plus stat Mondays) until September 1st\, 12pm to 4pm. \nLearn more: https://urbancasual.ca/history-live-here-cochrane-historical-museum-opens-at-the-ranche-may-17th/
URL:https://urbancasual.ca/cochrane-event/cochrane-historical-museum/2025-08-30/
LOCATION:Cochrane Ranche\, Hwy 1A\, Cochrane\, Alberta
CATEGORIES:Community,Culture,Entertainment & Games,Family Friendly,Free,Learning,Newcomers,Parents & Caregivers
ATTACH;FMTTYPE=image/jpeg:https://urbancasual.ca/wp-content/uploads/2025/05/497640714_10162442038179061_4194824443753130805_n-e1747167844472.jpg
END:VEVENT
BEGIN:VEVENT
DTSTART;TZID=America/Edmonton:20250831T090000
DTEND;TZID=America/Edmonton:20250831T110000
DTSTAMP:20260419T202524
CREATED:20250814T164846Z
LAST-MODIFIED:20250814T164846Z
UID:10050189-1756630800-1756638000@urbancasual.ca
SUMMARY:FREE Pancake Breakfast
DESCRIPTION:Cochrane Alliance Church is excited to invite the community of Cochrane for our FREE Annual Pancake Breakfast! \nServing breakfast on Sunday\, August 31 from 9:00am to 11:00am (rain or shine). \nMeet on the grass to the west of the church (or inside the church if the weather doesn’t cooperate). Enjoy great food\, live music by the Backroad Traveler Band and connecting with friends!
URL:https://urbancasual.ca/cochrane-event/free-pancake-breakfast/
LOCATION:Cochrane Alliance Church\, 902 Glenbow Drive\, Cochrane\, Alberta\, Canada
CATEGORIES:Church Events,Community,Family Friendly,Food,Free
ATTACH;FMTTYPE=image/jpeg:https://urbancasual.ca/wp-content/uploads/2025/08/Pancake_Breakfast_2025.jpg
END:VEVENT
BEGIN:VEVENT
DTSTART;TZID=America/Edmonton:20250831T100000
DTEND;TZID=America/Edmonton:20250831T180000
DTSTAMP:20260419T202524
CREATED:20250807T165043Z
LAST-MODIFIED:20250807T165044Z
UID:10049901-1756634400-1756663200@urbancasual.ca
SUMMARY:TRADING POST LABOUR DAY WEEKEND MARKET
DESCRIPTION: Big News\, Cochrane! \nWe’re proud to present the First-Ever Trading Post Market — happening August 29\, 30\, 31 & September 1 — alongside the Cochrane Lions Rodeo! \n\n\n\n Step inside the Cochrane Lions Event Centre to explore 50+ amazing vendors offering:\n Handmade goods\n Western wear\n Home décor\n Unique gifts\n Tasty treats\n… and so much more!\n\n\n\n Venue: Cochrane Lions Event Centre\n Address: 109 5th Ave W\, Cochrane\, AB\n Dates: August 29 – September 1\n Time: 10 AM – 6 PM daily\n\n\n\n FREE ADMISSION – No rodeo ticket required to attend the market!\n\n\n\nCelebrate Rodeo Weekend in true western style. Shop local\, meet talented makers\, and enjoy the festive atmosphere! \n\n\n\n Stay tuned all month as we feature our fantastic vendors\, including:\nCool Shirts • Glass n Stuff • 3D Printing • Thick Boys Spices• Cochrane Lions Rodeo Regalia• Jolly 23 • BBB Honey • Enlightened Oils • Rara Joy • Valley General Store • Midnight Silver • IV Therapy • Good Spirit Photo • Super Dips • White Lightning Distillery • Red Neck Rough & Tough • Woody Worn • Phoenix Fudge • Angelica Roberts • Jordan Ridge Sauces • Dark Horse Design • Purple Pantry • Happily Homemade Creations • Rocky Mountain Mules • Catrina Toffee • Frayed Knot • M3 Custom Metals • Norwex • Sweets by the Creek • Vintage Buckskin • Sasquatch Trails • Rad Crafts • A Strong Impression • Leaf Filter • Busted Bronco • Heritage Soap Works • Emerson Cree Designs • ENMAX Energy • Let Them Play • Stunning Creations • Cody & Sioux • Ukrainian Fine Foods • Memories of the Bay • My Teepee • Imagine That Art • Juice Plus • Made by CJ-Bethel Masterpiece\n\n\n\n Don’t miss this one-of-a-kind market experience!
URL:https://urbancasual.ca/cochrane-event/trading-post-labour-day-weekend-market/2025-08-31/
LOCATION:The Lions Event Centre\, 109 5th Avenue\, Cochrane\, Alberta\, Canada
CATEGORIES:Business,Community,Family Friendly,Free,LIONS EVENTS CENTRE,Market
ATTACH;FMTTYPE=image/jpeg:https://urbancasual.ca/wp-content/uploads/2025/07/inbound8547588370205317883.jpg
END:VEVENT
BEGIN:VEVENT
DTSTART;TZID=America/Edmonton:20250831T120000
DTEND;TZID=America/Edmonton:20250831T160000
DTSTAMP:20260419T202524
CREATED:20250529T163927Z
LAST-MODIFIED:20250529T163927Z
UID:10048466-1756641600-1756656000@urbancasual.ca
SUMMARY:Cochrane Historical Museum
DESCRIPTION:Visit the Cochrane Historical Museum Wednesday through Sunday (plus stat Mondays) until September 1st\, 12pm to 4pm. \nLearn more: https://urbancasual.ca/history-live-here-cochrane-historical-museum-opens-at-the-ranche-may-17th/
URL:https://urbancasual.ca/cochrane-event/cochrane-historical-museum/2025-08-31/
LOCATION:Cochrane Ranche\, Hwy 1A\, Cochrane\, Alberta
CATEGORIES:Community,Culture,Entertainment & Games,Family Friendly,Free,Learning,Newcomers,Parents & Caregivers
ATTACH;FMTTYPE=image/jpeg:https://urbancasual.ca/wp-content/uploads/2025/05/497640714_10162442038179061_4194824443753130805_n-e1747167844472.jpg
END:VEVENT
END:VCALENDAR