BEGIN:VCALENDAR
VERSION:2.0
PRODID:-//Urbancasual.ca - ECPv6.15.20//NONSGML v1.0//EN
CALSCALE:GREGORIAN
METHOD:PUBLISH
X-ORIGINAL-URL:https://urbancasual.ca
X-WR-CALDESC:Events for Urbancasual.ca
REFRESH-INTERVAL;VALUE=DURATION:PT1H
X-Robots-Tag:noindex
X-PUBLISHED-TTL:PT1H
BEGIN:VTIMEZONE
TZID:America/Edmonton
BEGIN:DAYLIGHT
TZOFFSETFROM:-0700
TZOFFSETTO:-0600
TZNAME:MDT
DTSTART:20240310T090000
END:DAYLIGHT
BEGIN:STANDARD
TZOFFSETFROM:-0600
TZOFFSETTO:-0700
TZNAME:MST
DTSTART:20241103T080000
END:STANDARD
BEGIN:DAYLIGHT
TZOFFSETFROM:-0700
TZOFFSETTO:-0600
TZNAME:MDT
DTSTART:20250309T090000
END:DAYLIGHT
BEGIN:STANDARD
TZOFFSETFROM:-0600
TZOFFSETTO:-0700
TZNAME:MST
DTSTART:20251102T080000
END:STANDARD
BEGIN:DAYLIGHT
TZOFFSETFROM:-0700
TZOFFSETTO:-0600
TZNAME:MDT
DTSTART:20260308T090000
END:DAYLIGHT
BEGIN:STANDARD
TZOFFSETFROM:-0600
TZOFFSETTO:-0700
TZNAME:MST
DTSTART:20261101T080000
END:STANDARD
END:VTIMEZONE
BEGIN:VEVENT
DTSTART;TZID=America/Edmonton:20250808T100000
DTEND;TZID=America/Edmonton:20250808T130000
DTSTAMP:20260420T122835
CREATED:20250626T150758Z
LAST-MODIFIED:20250626T150758Z
UID:10049571-1754647200-1754658000@urbancasual.ca
SUMMARY:A Turning Tide: Indigenous Peoples in a Time of Change
DESCRIPTION:This session with dr. linda manyguns delves into a crucial period of change for Indigenous peoples between 1860 and the early 1900s. Uncover the stories behind population changes\, the introduction of agriculture\, and the complex process of treaty signings that dramatically altered the landscape and lives of Indigenous communities. \nThis program is part of the “Unpacking the Past\, Understanding the Present” series by dr. linda manyguns and is made possible by an ethnocultural grant provided by the Government of Alberta. This series will take place on the eighth of each month from June to October. \nYou can register for this session and find more information on upcoming sessions by visiting cochranepubliclibrary.ca/Events/A-Turning-Tide-Indigenous-Peoples-in-a-Time-of-Change-1860-1900s!
URL:https://urbancasual.ca/cochrane-event/a-turning-tide-indigenous-peoples-in-a-time-of-change/
LOCATION:Cochrane Public Library\, 405 Railway Street W\, Cochrane\, Alberta
CATEGORIES:Community,Free,Indigenous,Learning,Library
ATTACH;FMTTYPE=image/jpeg:https://urbancasual.ca/wp-content/uploads/2025/06/August-8th.jpg
END:VEVENT
BEGIN:VEVENT
DTSTART;TZID=America/Edmonton:20250808T111500
DTEND;TZID=America/Edmonton:20250808T114500
DTSTAMP:20260420T122835
CREATED:20250623T223338Z
LAST-MODIFIED:20250623T223338Z
UID:10049526-1754651700-1754653500@urbancasual.ca
SUMMARY:Drop-in Summer Stories in the Garden (Parented)
DESCRIPTION:Come to the Library for exciting stories\, songs\, rhymes\, and bubbles in our garden. These sessions will keep your little one involved from start to finish! \nFor ages 0-5. \nThis program occurs from 11:15am – 11:45am on Mondays and Fridays.
URL:https://urbancasual.ca/cochrane-event/drop-in-summer-stories-in-the-garden-parented/2025-08-08/
LOCATION:Cochrane Public Library\, 405 Railway Street W\, Cochrane\, Alberta
CATEGORIES:Community,Free,Library,Parents & Caregivers
ATTACH;FMTTYPE=image/png:https://urbancasual.ca/wp-content/uploads/2025/06/Summer-Stories-in-the-Garden-2025-Poster-1.png
END:VEVENT
BEGIN:VEVENT
DTSTART;TZID=America/Edmonton:20250808T120000
DTEND;TZID=America/Edmonton:20250808T160000
DTSTAMP:20260420T122835
CREATED:20250529T163927Z
LAST-MODIFIED:20250529T163927Z
UID:10048449-1754654400-1754668800@urbancasual.ca
SUMMARY:Cochrane Historical Museum
DESCRIPTION:Visit the Cochrane Historical Museum Wednesday through Sunday (plus stat Mondays) until September 1st\, 12pm to 4pm. \nLearn more: https://urbancasual.ca/history-live-here-cochrane-historical-museum-opens-at-the-ranche-may-17th/
URL:https://urbancasual.ca/cochrane-event/cochrane-historical-museum/2025-08-08/
LOCATION:Cochrane Ranche\, Hwy 1A\, Cochrane\, Alberta
CATEGORIES:Community,Culture,Entertainment & Games,Family Friendly,Free,Learning,Newcomers,Parents & Caregivers
ATTACH;FMTTYPE=image/jpeg:https://urbancasual.ca/wp-content/uploads/2025/05/497640714_10162442038179061_4194824443753130805_n-e1747167844472.jpg
END:VEVENT
END:VCALENDAR