BEGIN:VCALENDAR
VERSION:2.0
PRODID:-//Urbancasual.ca - ECPv6.15.20//NONSGML v1.0//EN
CALSCALE:GREGORIAN
METHOD:PUBLISH
X-ORIGINAL-URL:https://urbancasual.ca
X-WR-CALDESC:Events for Urbancasual.ca
REFRESH-INTERVAL;VALUE=DURATION:PT1H
X-Robots-Tag:noindex
X-PUBLISHED-TTL:PT1H
BEGIN:VTIMEZONE
TZID:America/Edmonton
BEGIN:DAYLIGHT
TZOFFSETFROM:-0700
TZOFFSETTO:-0600
TZNAME:MDT
DTSTART:20270314T090000
END:DAYLIGHT
BEGIN:STANDARD
TZOFFSETFROM:-0600
TZOFFSETTO:-0700
TZNAME:MST
DTSTART:20271107T080000
END:STANDARD
BEGIN:DAYLIGHT
TZOFFSETFROM:-0700
TZOFFSETTO:-0600
TZNAME:MDT
DTSTART:20280312T090000
END:DAYLIGHT
BEGIN:STANDARD
TZOFFSETFROM:-0600
TZOFFSETTO:-0700
TZNAME:MST
DTSTART:20281105T080000
END:STANDARD
BEGIN:DAYLIGHT
TZOFFSETFROM:-0700
TZOFFSETTO:-0600
TZNAME:MDT
DTSTART:20290311T090000
END:DAYLIGHT
BEGIN:STANDARD
TZOFFSETFROM:-0600
TZOFFSETTO:-0700
TZNAME:MST
DTSTART:20291104T080000
END:STANDARD
END:VTIMEZONE
BEGIN:VEVENT
DTSTART;TZID=America/Edmonton:20280920T160000
DTEND;TZID=America/Edmonton:20280920T220000
DTSTAMP:20260425T072952
CREATED:20260311T161917Z
LAST-MODIFIED:20260311T161929Z
UID:10056819-1853078400-1853100000@urbancasual.ca
SUMMARY:Wings Night at MR MIKES
DESCRIPTION:Wing Wednesday gets seriously saucy…Come down to Mr Mikes Cochrane and dive in wings first to a plate of hot and delicious wings for $10 from 4pm- close!
URL:https://urbancasual.ca/cochrane-event/wings-night-at-mr-mikes/2028-09-20/
LOCATION:Mr. Mike’s Steakhouse
CATEGORIES:Business,Family Friendly,Food,Pub/Bar Event,Restaurant
ATTACH;FMTTYPE=image/jpeg:https://urbancasual.ca/wp-content/uploads/2023/11/649881287_18331633033168933_61308077822206636_n.jpg
END:VEVENT
BEGIN:VEVENT
DTSTART;TZID=America/Edmonton:20280920T163000
DTEND;TZID=America/Edmonton:20280920T193000
DTSTAMP:20260425T072952
CREATED:20260304T000609Z
LAST-MODIFIED:20260304T000609Z
UID:10056441-1853080200-1853091000@urbancasual.ca
SUMMARY:Wing Wednesdays at The Legion
DESCRIPTION:$8.75 per order \n4:30pm to 7:30pm \n  \n*********** \nTAKE OUT $11.75
URL:https://urbancasual.ca/cochrane-event/wing-wednesdays-at-the-legion/2028-09-20/
LOCATION:The Legion\, 114 Fifth Ave\, Cochrane\, Canada
CATEGORIES:Family Friendly,Food,Legion,Pub/Bar Event
ATTACH;FMTTYPE=image/jpeg:https://urbancasual.ca/wp-content/uploads/2023/11/641426488_122211457496544523_2350288989248374889_n.jpg
END:VEVENT
BEGIN:VEVENT
DTSTART;TZID=America/Edmonton:20280920T170000
DTEND;TZID=America/Edmonton:20280920T203000
DTSTAMP:20260425T072953
CREATED:20241210T012230Z
LAST-MODIFIED:20260211T225039Z
UID:10039896-1853082000-1853094600@urbancasual.ca
SUMMARY:Wing Night at The Taproom
DESCRIPTION:Join us every Wednesday from 5pm to 8:30pm for $8.50/lb wings! \nWe have a variety of flavours from you to choose from. You won’t wanna miss it!
URL:https://urbancasual.ca/cochrane-event/wing-night-at-the-taproom/2028-09-20/
LOCATION:Rocky View Taproom\, 420 1st Street\, Cochrane\, AB
CATEGORIES:Business,Entertainment & Games,Food,Pub/Bar Event,Restaurant
ATTACH;FMTTYPE=image/jpeg:https://urbancasual.ca/wp-content/uploads/2024/12/465707656_18375053353104462_8115185856607810178_n.jpg
END:VEVENT
BEGIN:VEVENT
DTSTART;TZID=America/Edmonton:20280920T180000
DTEND;TZID=America/Edmonton:20280920T210000
DTSTAMP:20260425T072953
CREATED:20241202T000531Z
LAST-MODIFIED:20241202T000605Z
UID:10037899-1853085600-1853096400@urbancasual.ca
SUMMARY:Country Music with Turner Bates at the Venue
DESCRIPTION:
URL:https://urbancasual.ca/cochrane-event/country-music-with-turner-bates-at-the-venue/2028-09-20/
CATEGORIES:Adults Only,Business,Entertainment & Games,Food,Music,Pub/Bar Event
ATTACH;FMTTYPE=image/jpeg:https://urbancasual.ca/wp-content/uploads/2024/12/463385392_17920216139988797_9181419957565291331_n.jpg
END:VEVENT
BEGIN:VEVENT
DTSTART;TZID=America/Edmonton:20280927T160000
DTEND;TZID=America/Edmonton:20280927T220000
DTSTAMP:20260425T072953
CREATED:20260311T161917Z
LAST-MODIFIED:20260311T161929Z
UID:10056820-1853683200-1853704800@urbancasual.ca
SUMMARY:Wings Night at MR MIKES
DESCRIPTION:Wing Wednesday gets seriously saucy…Come down to Mr Mikes Cochrane and dive in wings first to a plate of hot and delicious wings for $10 from 4pm- close!
URL:https://urbancasual.ca/cochrane-event/wings-night-at-mr-mikes/2028-09-27/
LOCATION:Mr. Mike’s Steakhouse
CATEGORIES:Business,Family Friendly,Food,Pub/Bar Event,Restaurant
ATTACH;FMTTYPE=image/jpeg:https://urbancasual.ca/wp-content/uploads/2023/11/649881287_18331633033168933_61308077822206636_n.jpg
END:VEVENT
BEGIN:VEVENT
DTSTART;TZID=America/Edmonton:20280927T163000
DTEND;TZID=America/Edmonton:20280927T193000
DTSTAMP:20260425T072953
CREATED:20260304T000609Z
LAST-MODIFIED:20260304T000609Z
UID:10056442-1853685000-1853695800@urbancasual.ca
SUMMARY:Wing Wednesdays at The Legion
DESCRIPTION:$8.75 per order \n4:30pm to 7:30pm \n  \n*********** \nTAKE OUT $11.75
URL:https://urbancasual.ca/cochrane-event/wing-wednesdays-at-the-legion/2028-09-27/
LOCATION:The Legion\, 114 Fifth Ave\, Cochrane\, Canada
CATEGORIES:Family Friendly,Food,Legion,Pub/Bar Event
ATTACH;FMTTYPE=image/jpeg:https://urbancasual.ca/wp-content/uploads/2023/11/641426488_122211457496544523_2350288989248374889_n.jpg
END:VEVENT
BEGIN:VEVENT
DTSTART;TZID=America/Edmonton:20280927T170000
DTEND;TZID=America/Edmonton:20280927T203000
DTSTAMP:20260425T072953
CREATED:20241210T012230Z
LAST-MODIFIED:20260211T225039Z
UID:10039897-1853686800-1853699400@urbancasual.ca
SUMMARY:Wing Night at The Taproom
DESCRIPTION:Join us every Wednesday from 5pm to 8:30pm for $8.50/lb wings! \nWe have a variety of flavours from you to choose from. You won’t wanna miss it!
URL:https://urbancasual.ca/cochrane-event/wing-night-at-the-taproom/2028-09-27/
LOCATION:Rocky View Taproom\, 420 1st Street\, Cochrane\, AB
CATEGORIES:Business,Entertainment & Games,Food,Pub/Bar Event,Restaurant
ATTACH;FMTTYPE=image/jpeg:https://urbancasual.ca/wp-content/uploads/2024/12/465707656_18375053353104462_8115185856607810178_n.jpg
END:VEVENT
BEGIN:VEVENT
DTSTART;TZID=America/Edmonton:20280927T180000
DTEND;TZID=America/Edmonton:20280927T210000
DTSTAMP:20260425T072953
CREATED:20241202T000531Z
LAST-MODIFIED:20241202T000605Z
UID:10037900-1853690400-1853701200@urbancasual.ca
SUMMARY:Country Music with Turner Bates at the Venue
DESCRIPTION:
URL:https://urbancasual.ca/cochrane-event/country-music-with-turner-bates-at-the-venue/2028-09-27/
CATEGORIES:Adults Only,Business,Entertainment & Games,Food,Music,Pub/Bar Event
ATTACH;FMTTYPE=image/jpeg:https://urbancasual.ca/wp-content/uploads/2024/12/463385392_17920216139988797_9181419957565291331_n.jpg
END:VEVENT
BEGIN:VEVENT
DTSTART;TZID=America/Edmonton:20281004T160000
DTEND;TZID=America/Edmonton:20281004T220000
DTSTAMP:20260425T072953
CREATED:20260311T161917Z
LAST-MODIFIED:20260311T161929Z
UID:10056821-1854288000-1854309600@urbancasual.ca
SUMMARY:Wings Night at MR MIKES
DESCRIPTION:Wing Wednesday gets seriously saucy…Come down to Mr Mikes Cochrane and dive in wings first to a plate of hot and delicious wings for $10 from 4pm- close!
URL:https://urbancasual.ca/cochrane-event/wings-night-at-mr-mikes/2028-10-04/
LOCATION:Mr. Mike’s Steakhouse
CATEGORIES:Business,Family Friendly,Food,Pub/Bar Event,Restaurant
ATTACH;FMTTYPE=image/jpeg:https://urbancasual.ca/wp-content/uploads/2023/11/649881287_18331633033168933_61308077822206636_n.jpg
END:VEVENT
BEGIN:VEVENT
DTSTART;TZID=America/Edmonton:20281004T163000
DTEND;TZID=America/Edmonton:20281004T193000
DTSTAMP:20260425T072953
CREATED:20260304T000609Z
LAST-MODIFIED:20260304T000609Z
UID:10056443-1854289800-1854300600@urbancasual.ca
SUMMARY:Wing Wednesdays at The Legion
DESCRIPTION:$8.75 per order \n4:30pm to 7:30pm \n  \n*********** \nTAKE OUT $11.75
URL:https://urbancasual.ca/cochrane-event/wing-wednesdays-at-the-legion/2028-10-04/
LOCATION:The Legion\, 114 Fifth Ave\, Cochrane\, Canada
CATEGORIES:Family Friendly,Food,Legion,Pub/Bar Event
ATTACH;FMTTYPE=image/jpeg:https://urbancasual.ca/wp-content/uploads/2023/11/641426488_122211457496544523_2350288989248374889_n.jpg
END:VEVENT
BEGIN:VEVENT
DTSTART;TZID=America/Edmonton:20281004T170000
DTEND;TZID=America/Edmonton:20281004T203000
DTSTAMP:20260425T072953
CREATED:20241210T012230Z
LAST-MODIFIED:20260211T225039Z
UID:10039898-1854291600-1854304200@urbancasual.ca
SUMMARY:Wing Night at The Taproom
DESCRIPTION:Join us every Wednesday from 5pm to 8:30pm for $8.50/lb wings! \nWe have a variety of flavours from you to choose from. You won’t wanna miss it!
URL:https://urbancasual.ca/cochrane-event/wing-night-at-the-taproom/2028-10-04/
LOCATION:Rocky View Taproom\, 420 1st Street\, Cochrane\, AB
CATEGORIES:Business,Entertainment & Games,Food,Pub/Bar Event,Restaurant
ATTACH;FMTTYPE=image/jpeg:https://urbancasual.ca/wp-content/uploads/2024/12/465707656_18375053353104462_8115185856607810178_n.jpg
END:VEVENT
BEGIN:VEVENT
DTSTART;TZID=America/Edmonton:20281004T180000
DTEND;TZID=America/Edmonton:20281004T210000
DTSTAMP:20260425T072953
CREATED:20241202T000531Z
LAST-MODIFIED:20241202T000605Z
UID:10037901-1854295200-1854306000@urbancasual.ca
SUMMARY:Country Music with Turner Bates at the Venue
DESCRIPTION:
URL:https://urbancasual.ca/cochrane-event/country-music-with-turner-bates-at-the-venue/2028-10-04/
CATEGORIES:Adults Only,Business,Entertainment & Games,Food,Music,Pub/Bar Event
ATTACH;FMTTYPE=image/jpeg:https://urbancasual.ca/wp-content/uploads/2024/12/463385392_17920216139988797_9181419957565291331_n.jpg
END:VEVENT
BEGIN:VEVENT
DTSTART;TZID=America/Edmonton:20281011T160000
DTEND;TZID=America/Edmonton:20281011T220000
DTSTAMP:20260425T072953
CREATED:20260311T161917Z
LAST-MODIFIED:20260311T161929Z
UID:10056822-1854892800-1854914400@urbancasual.ca
SUMMARY:Wings Night at MR MIKES
DESCRIPTION:Wing Wednesday gets seriously saucy…Come down to Mr Mikes Cochrane and dive in wings first to a plate of hot and delicious wings for $10 from 4pm- close!
URL:https://urbancasual.ca/cochrane-event/wings-night-at-mr-mikes/2028-10-11/
LOCATION:Mr. Mike’s Steakhouse
CATEGORIES:Business,Family Friendly,Food,Pub/Bar Event,Restaurant
ATTACH;FMTTYPE=image/jpeg:https://urbancasual.ca/wp-content/uploads/2023/11/649881287_18331633033168933_61308077822206636_n.jpg
END:VEVENT
BEGIN:VEVENT
DTSTART;TZID=America/Edmonton:20281011T163000
DTEND;TZID=America/Edmonton:20281011T193000
DTSTAMP:20260425T072953
CREATED:20260304T000609Z
LAST-MODIFIED:20260304T000609Z
UID:10056444-1854894600-1854905400@urbancasual.ca
SUMMARY:Wing Wednesdays at The Legion
DESCRIPTION:$8.75 per order \n4:30pm to 7:30pm \n  \n*********** \nTAKE OUT $11.75
URL:https://urbancasual.ca/cochrane-event/wing-wednesdays-at-the-legion/2028-10-11/
LOCATION:The Legion\, 114 Fifth Ave\, Cochrane\, Canada
CATEGORIES:Family Friendly,Food,Legion,Pub/Bar Event
ATTACH;FMTTYPE=image/jpeg:https://urbancasual.ca/wp-content/uploads/2023/11/641426488_122211457496544523_2350288989248374889_n.jpg
END:VEVENT
BEGIN:VEVENT
DTSTART;TZID=America/Edmonton:20281011T170000
DTEND;TZID=America/Edmonton:20281011T203000
DTSTAMP:20260425T072953
CREATED:20241210T012230Z
LAST-MODIFIED:20260211T225039Z
UID:10039899-1854896400-1854909000@urbancasual.ca
SUMMARY:Wing Night at The Taproom
DESCRIPTION:Join us every Wednesday from 5pm to 8:30pm for $8.50/lb wings! \nWe have a variety of flavours from you to choose from. You won’t wanna miss it!
URL:https://urbancasual.ca/cochrane-event/wing-night-at-the-taproom/2028-10-11/
LOCATION:Rocky View Taproom\, 420 1st Street\, Cochrane\, AB
CATEGORIES:Business,Entertainment & Games,Food,Pub/Bar Event,Restaurant
ATTACH;FMTTYPE=image/jpeg:https://urbancasual.ca/wp-content/uploads/2024/12/465707656_18375053353104462_8115185856607810178_n.jpg
END:VEVENT
BEGIN:VEVENT
DTSTART;TZID=America/Edmonton:20281011T180000
DTEND;TZID=America/Edmonton:20281011T210000
DTSTAMP:20260425T072953
CREATED:20241202T000531Z
LAST-MODIFIED:20241202T000605Z
UID:10037902-1854900000-1854910800@urbancasual.ca
SUMMARY:Country Music with Turner Bates at the Venue
DESCRIPTION:
URL:https://urbancasual.ca/cochrane-event/country-music-with-turner-bates-at-the-venue/2028-10-11/
CATEGORIES:Adults Only,Business,Entertainment & Games,Food,Music,Pub/Bar Event
ATTACH;FMTTYPE=image/jpeg:https://urbancasual.ca/wp-content/uploads/2024/12/463385392_17920216139988797_9181419957565291331_n.jpg
END:VEVENT
BEGIN:VEVENT
DTSTART;TZID=America/Edmonton:20281018T160000
DTEND;TZID=America/Edmonton:20281018T220000
DTSTAMP:20260425T072953
CREATED:20260311T161917Z
LAST-MODIFIED:20260311T161929Z
UID:10056823-1855497600-1855519200@urbancasual.ca
SUMMARY:Wings Night at MR MIKES
DESCRIPTION:Wing Wednesday gets seriously saucy…Come down to Mr Mikes Cochrane and dive in wings first to a plate of hot and delicious wings for $10 from 4pm- close!
URL:https://urbancasual.ca/cochrane-event/wings-night-at-mr-mikes/2028-10-18/
LOCATION:Mr. Mike’s Steakhouse
CATEGORIES:Business,Family Friendly,Food,Pub/Bar Event,Restaurant
ATTACH;FMTTYPE=image/jpeg:https://urbancasual.ca/wp-content/uploads/2023/11/649881287_18331633033168933_61308077822206636_n.jpg
END:VEVENT
BEGIN:VEVENT
DTSTART;TZID=America/Edmonton:20281018T163000
DTEND;TZID=America/Edmonton:20281018T193000
DTSTAMP:20260425T072953
CREATED:20260304T000609Z
LAST-MODIFIED:20260304T000609Z
UID:10056445-1855499400-1855510200@urbancasual.ca
SUMMARY:Wing Wednesdays at The Legion
DESCRIPTION:$8.75 per order \n4:30pm to 7:30pm \n  \n*********** \nTAKE OUT $11.75
URL:https://urbancasual.ca/cochrane-event/wing-wednesdays-at-the-legion/2028-10-18/
LOCATION:The Legion\, 114 Fifth Ave\, Cochrane\, Canada
CATEGORIES:Family Friendly,Food,Legion,Pub/Bar Event
ATTACH;FMTTYPE=image/jpeg:https://urbancasual.ca/wp-content/uploads/2023/11/641426488_122211457496544523_2350288989248374889_n.jpg
END:VEVENT
BEGIN:VEVENT
DTSTART;TZID=America/Edmonton:20281018T170000
DTEND;TZID=America/Edmonton:20281018T203000
DTSTAMP:20260425T072953
CREATED:20241210T012230Z
LAST-MODIFIED:20260211T225039Z
UID:10039900-1855501200-1855513800@urbancasual.ca
SUMMARY:Wing Night at The Taproom
DESCRIPTION:Join us every Wednesday from 5pm to 8:30pm for $8.50/lb wings! \nWe have a variety of flavours from you to choose from. You won’t wanna miss it!
URL:https://urbancasual.ca/cochrane-event/wing-night-at-the-taproom/2028-10-18/
LOCATION:Rocky View Taproom\, 420 1st Street\, Cochrane\, AB
CATEGORIES:Business,Entertainment & Games,Food,Pub/Bar Event,Restaurant
ATTACH;FMTTYPE=image/jpeg:https://urbancasual.ca/wp-content/uploads/2024/12/465707656_18375053353104462_8115185856607810178_n.jpg
END:VEVENT
BEGIN:VEVENT
DTSTART;TZID=America/Edmonton:20281018T180000
DTEND;TZID=America/Edmonton:20281018T210000
DTSTAMP:20260425T072953
CREATED:20241202T000531Z
LAST-MODIFIED:20241202T000605Z
UID:10037903-1855504800-1855515600@urbancasual.ca
SUMMARY:Country Music with Turner Bates at the Venue
DESCRIPTION:
URL:https://urbancasual.ca/cochrane-event/country-music-with-turner-bates-at-the-venue/2028-10-18/
CATEGORIES:Adults Only,Business,Entertainment & Games,Food,Music,Pub/Bar Event
ATTACH;FMTTYPE=image/jpeg:https://urbancasual.ca/wp-content/uploads/2024/12/463385392_17920216139988797_9181419957565291331_n.jpg
END:VEVENT
BEGIN:VEVENT
DTSTART;TZID=America/Edmonton:20281025T160000
DTEND;TZID=America/Edmonton:20281025T220000
DTSTAMP:20260425T072953
CREATED:20260311T161917Z
LAST-MODIFIED:20260311T161929Z
UID:10056824-1856102400-1856124000@urbancasual.ca
SUMMARY:Wings Night at MR MIKES
DESCRIPTION:Wing Wednesday gets seriously saucy…Come down to Mr Mikes Cochrane and dive in wings first to a plate of hot and delicious wings for $10 from 4pm- close!
URL:https://urbancasual.ca/cochrane-event/wings-night-at-mr-mikes/2028-10-25/
LOCATION:Mr. Mike’s Steakhouse
CATEGORIES:Business,Family Friendly,Food,Pub/Bar Event,Restaurant
ATTACH;FMTTYPE=image/jpeg:https://urbancasual.ca/wp-content/uploads/2023/11/649881287_18331633033168933_61308077822206636_n.jpg
END:VEVENT
BEGIN:VEVENT
DTSTART;TZID=America/Edmonton:20281025T163000
DTEND;TZID=America/Edmonton:20281025T193000
DTSTAMP:20260425T072953
CREATED:20260304T000609Z
LAST-MODIFIED:20260304T000609Z
UID:10056446-1856104200-1856115000@urbancasual.ca
SUMMARY:Wing Wednesdays at The Legion
DESCRIPTION:$8.75 per order \n4:30pm to 7:30pm \n  \n*********** \nTAKE OUT $11.75
URL:https://urbancasual.ca/cochrane-event/wing-wednesdays-at-the-legion/2028-10-25/
LOCATION:The Legion\, 114 Fifth Ave\, Cochrane\, Canada
CATEGORIES:Family Friendly,Food,Legion,Pub/Bar Event
ATTACH;FMTTYPE=image/jpeg:https://urbancasual.ca/wp-content/uploads/2023/11/641426488_122211457496544523_2350288989248374889_n.jpg
END:VEVENT
BEGIN:VEVENT
DTSTART;TZID=America/Edmonton:20281025T170000
DTEND;TZID=America/Edmonton:20281025T203000
DTSTAMP:20260425T072953
CREATED:20241210T012230Z
LAST-MODIFIED:20260211T225039Z
UID:10039901-1856106000-1856118600@urbancasual.ca
SUMMARY:Wing Night at The Taproom
DESCRIPTION:Join us every Wednesday from 5pm to 8:30pm for $8.50/lb wings! \nWe have a variety of flavours from you to choose from. You won’t wanna miss it!
URL:https://urbancasual.ca/cochrane-event/wing-night-at-the-taproom/2028-10-25/
LOCATION:Rocky View Taproom\, 420 1st Street\, Cochrane\, AB
CATEGORIES:Business,Entertainment & Games,Food,Pub/Bar Event,Restaurant
ATTACH;FMTTYPE=image/jpeg:https://urbancasual.ca/wp-content/uploads/2024/12/465707656_18375053353104462_8115185856607810178_n.jpg
END:VEVENT
BEGIN:VEVENT
DTSTART;TZID=America/Edmonton:20281025T180000
DTEND;TZID=America/Edmonton:20281025T210000
DTSTAMP:20260425T072953
CREATED:20241202T000531Z
LAST-MODIFIED:20241202T000605Z
UID:10037904-1856109600-1856120400@urbancasual.ca
SUMMARY:Country Music with Turner Bates at the Venue
DESCRIPTION:
URL:https://urbancasual.ca/cochrane-event/country-music-with-turner-bates-at-the-venue/2028-10-25/
CATEGORIES:Adults Only,Business,Entertainment & Games,Food,Music,Pub/Bar Event
ATTACH;FMTTYPE=image/jpeg:https://urbancasual.ca/wp-content/uploads/2024/12/463385392_17920216139988797_9181419957565291331_n.jpg
END:VEVENT
BEGIN:VEVENT
DTSTART;TZID=America/Edmonton:20281101T160000
DTEND;TZID=America/Edmonton:20281101T220000
DTSTAMP:20260425T072953
CREATED:20260311T161917Z
LAST-MODIFIED:20260311T161929Z
UID:10056825-1856707200-1856728800@urbancasual.ca
SUMMARY:Wings Night at MR MIKES
DESCRIPTION:Wing Wednesday gets seriously saucy…Come down to Mr Mikes Cochrane and dive in wings first to a plate of hot and delicious wings for $10 from 4pm- close!
URL:https://urbancasual.ca/cochrane-event/wings-night-at-mr-mikes/2028-11-01/
LOCATION:Mr. Mike’s Steakhouse
CATEGORIES:Business,Family Friendly,Food,Pub/Bar Event,Restaurant
ATTACH;FMTTYPE=image/jpeg:https://urbancasual.ca/wp-content/uploads/2023/11/649881287_18331633033168933_61308077822206636_n.jpg
END:VEVENT
BEGIN:VEVENT
DTSTART;TZID=America/Edmonton:20281101T163000
DTEND;TZID=America/Edmonton:20281101T193000
DTSTAMP:20260425T072953
CREATED:20260304T000609Z
LAST-MODIFIED:20260304T000609Z
UID:10056447-1856709000-1856719800@urbancasual.ca
SUMMARY:Wing Wednesdays at The Legion
DESCRIPTION:$8.75 per order \n4:30pm to 7:30pm \n  \n*********** \nTAKE OUT $11.75
URL:https://urbancasual.ca/cochrane-event/wing-wednesdays-at-the-legion/2028-11-01/
LOCATION:The Legion\, 114 Fifth Ave\, Cochrane\, Canada
CATEGORIES:Family Friendly,Food,Legion,Pub/Bar Event
ATTACH;FMTTYPE=image/jpeg:https://urbancasual.ca/wp-content/uploads/2023/11/641426488_122211457496544523_2350288989248374889_n.jpg
END:VEVENT
BEGIN:VEVENT
DTSTART;TZID=America/Edmonton:20281101T170000
DTEND;TZID=America/Edmonton:20281101T203000
DTSTAMP:20260425T072953
CREATED:20241210T012230Z
LAST-MODIFIED:20260211T225039Z
UID:10039902-1856710800-1856723400@urbancasual.ca
SUMMARY:Wing Night at The Taproom
DESCRIPTION:Join us every Wednesday from 5pm to 8:30pm for $8.50/lb wings! \nWe have a variety of flavours from you to choose from. You won’t wanna miss it!
URL:https://urbancasual.ca/cochrane-event/wing-night-at-the-taproom/2028-11-01/
LOCATION:Rocky View Taproom\, 420 1st Street\, Cochrane\, AB
CATEGORIES:Business,Entertainment & Games,Food,Pub/Bar Event,Restaurant
ATTACH;FMTTYPE=image/jpeg:https://urbancasual.ca/wp-content/uploads/2024/12/465707656_18375053353104462_8115185856607810178_n.jpg
END:VEVENT
BEGIN:VEVENT
DTSTART;TZID=America/Edmonton:20281101T180000
DTEND;TZID=America/Edmonton:20281101T210000
DTSTAMP:20260425T072953
CREATED:20241202T000531Z
LAST-MODIFIED:20241202T000605Z
UID:10037905-1856714400-1856725200@urbancasual.ca
SUMMARY:Country Music with Turner Bates at the Venue
DESCRIPTION:
URL:https://urbancasual.ca/cochrane-event/country-music-with-turner-bates-at-the-venue/2028-11-01/
CATEGORIES:Adults Only,Business,Entertainment & Games,Food,Music,Pub/Bar Event
ATTACH;FMTTYPE=image/jpeg:https://urbancasual.ca/wp-content/uploads/2024/12/463385392_17920216139988797_9181419957565291331_n.jpg
END:VEVENT
BEGIN:VEVENT
DTSTART;TZID=America/Edmonton:20281108T160000
DTEND;TZID=America/Edmonton:20281108T220000
DTSTAMP:20260425T072953
CREATED:20260311T161917Z
LAST-MODIFIED:20260311T161929Z
UID:10056826-1857312000-1857333600@urbancasual.ca
SUMMARY:Wings Night at MR MIKES
DESCRIPTION:Wing Wednesday gets seriously saucy…Come down to Mr Mikes Cochrane and dive in wings first to a plate of hot and delicious wings for $10 from 4pm- close!
URL:https://urbancasual.ca/cochrane-event/wings-night-at-mr-mikes/2028-11-08/
LOCATION:Mr. Mike’s Steakhouse
CATEGORIES:Business,Family Friendly,Food,Pub/Bar Event,Restaurant
ATTACH;FMTTYPE=image/jpeg:https://urbancasual.ca/wp-content/uploads/2023/11/649881287_18331633033168933_61308077822206636_n.jpg
END:VEVENT
BEGIN:VEVENT
DTSTART;TZID=America/Edmonton:20281108T163000
DTEND;TZID=America/Edmonton:20281108T193000
DTSTAMP:20260425T072953
CREATED:20260304T000609Z
LAST-MODIFIED:20260304T000609Z
UID:10056448-1857313800-1857324600@urbancasual.ca
SUMMARY:Wing Wednesdays at The Legion
DESCRIPTION:$8.75 per order \n4:30pm to 7:30pm \n  \n*********** \nTAKE OUT $11.75
URL:https://urbancasual.ca/cochrane-event/wing-wednesdays-at-the-legion/2028-11-08/
LOCATION:The Legion\, 114 Fifth Ave\, Cochrane\, Canada
CATEGORIES:Family Friendly,Food,Legion,Pub/Bar Event
ATTACH;FMTTYPE=image/jpeg:https://urbancasual.ca/wp-content/uploads/2023/11/641426488_122211457496544523_2350288989248374889_n.jpg
END:VEVENT
END:VCALENDAR