BEGIN:VCALENDAR
VERSION:2.0
PRODID:-//Urbancasual.ca - ECPv6.15.20//NONSGML v1.0//EN
CALSCALE:GREGORIAN
METHOD:PUBLISH
X-WR-CALNAME:Urbancasual.ca
X-ORIGINAL-URL:https://urbancasual.ca
X-WR-CALDESC:Events for Urbancasual.ca
REFRESH-INTERVAL;VALUE=DURATION:PT1H
X-Robots-Tag:noindex
X-PUBLISHED-TTL:PT1H
BEGIN:VTIMEZONE
TZID:America/Edmonton
BEGIN:DAYLIGHT
TZOFFSETFROM:-0700
TZOFFSETTO:-0600
TZNAME:MDT
DTSTART:20270314T090000
END:DAYLIGHT
BEGIN:STANDARD
TZOFFSETFROM:-0600
TZOFFSETTO:-0700
TZNAME:MST
DTSTART:20271107T080000
END:STANDARD
BEGIN:DAYLIGHT
TZOFFSETFROM:-0700
TZOFFSETTO:-0600
TZNAME:MDT
DTSTART:20280312T090000
END:DAYLIGHT
BEGIN:STANDARD
TZOFFSETFROM:-0600
TZOFFSETTO:-0700
TZNAME:MST
DTSTART:20281105T080000
END:STANDARD
BEGIN:DAYLIGHT
TZOFFSETFROM:-0700
TZOFFSETTO:-0600
TZNAME:MDT
DTSTART:20290311T090000
END:DAYLIGHT
BEGIN:STANDARD
TZOFFSETFROM:-0600
TZOFFSETTO:-0700
TZNAME:MST
DTSTART:20291104T080000
END:STANDARD
BEGIN:DAYLIGHT
TZOFFSETFROM:-0700
TZOFFSETTO:-0600
TZNAME:MDT
DTSTART:20300310T090000
END:DAYLIGHT
BEGIN:STANDARD
TZOFFSETFROM:-0600
TZOFFSETTO:-0700
TZNAME:MST
DTSTART:20301103T080000
END:STANDARD
END:VTIMEZONE
BEGIN:VEVENT
DTSTART;TZID=America/Edmonton:20281206T163000
DTEND;TZID=America/Edmonton:20281206T193000
DTSTAMP:20260425T103017
CREATED:20260304T000609Z
LAST-MODIFIED:20260304T000609Z
UID:10056452-1859733000-1859743800@urbancasual.ca
SUMMARY:Wing Wednesdays at The Legion
DESCRIPTION:$8.75 per order \n4:30pm to 7:30pm \n  \n*********** \nTAKE OUT $11.75
URL:https://urbancasual.ca/cochrane-event/wing-wednesdays-at-the-legion/2028-12-06/
LOCATION:The Legion\, 114 Fifth Ave\, Cochrane\, Canada
CATEGORIES:Family Friendly,Food,Legion,Pub/Bar Event
ATTACH;FMTTYPE=image/jpeg:https://urbancasual.ca/wp-content/uploads/2023/11/641426488_122211457496544523_2350288989248374889_n.jpg
END:VEVENT
BEGIN:VEVENT
DTSTART;TZID=America/Edmonton:20281206T170000
DTEND;TZID=America/Edmonton:20281206T203000
DTSTAMP:20260425T103017
CREATED:20241210T012230Z
LAST-MODIFIED:20260211T225039Z
UID:10039907-1859734800-1859747400@urbancasual.ca
SUMMARY:Wing Night at The Taproom
DESCRIPTION:Join us every Wednesday from 5pm to 8:30pm for $8.50/lb wings! \nWe have a variety of flavours from you to choose from. You won’t wanna miss it!
URL:https://urbancasual.ca/cochrane-event/wing-night-at-the-taproom/2028-12-06/
LOCATION:Rocky View Taproom\, 420 1st Street\, Cochrane\, AB
CATEGORIES:Business,Entertainment & Games,Food,Pub/Bar Event,Restaurant
ATTACH;FMTTYPE=image/jpeg:https://urbancasual.ca/wp-content/uploads/2024/12/465707656_18375053353104462_8115185856607810178_n.jpg
END:VEVENT
BEGIN:VEVENT
DTSTART;TZID=America/Edmonton:20281206T180000
DTEND;TZID=America/Edmonton:20281206T210000
DTSTAMP:20260425T103017
CREATED:20241202T000531Z
LAST-MODIFIED:20241202T000605Z
UID:10037910-1859738400-1859749200@urbancasual.ca
SUMMARY:Country Music with Turner Bates at the Venue
DESCRIPTION:
URL:https://urbancasual.ca/cochrane-event/country-music-with-turner-bates-at-the-venue/2028-12-06/
CATEGORIES:Adults Only,Business,Entertainment & Games,Food,Music,Pub/Bar Event
ATTACH;FMTTYPE=image/jpeg:https://urbancasual.ca/wp-content/uploads/2024/12/463385392_17920216139988797_9181419957565291331_n.jpg
END:VEVENT
BEGIN:VEVENT
DTSTART;TZID=America/Edmonton:20281213T160000
DTEND;TZID=America/Edmonton:20281213T220000
DTSTAMP:20260425T103017
CREATED:20260311T161917Z
LAST-MODIFIED:20260311T161929Z
UID:10056831-1860336000-1860357600@urbancasual.ca
SUMMARY:Wings Night at MR MIKES
DESCRIPTION:Wing Wednesday gets seriously saucy…Come down to Mr Mikes Cochrane and dive in wings first to a plate of hot and delicious wings for $10 from 4pm- close!
URL:https://urbancasual.ca/cochrane-event/wings-night-at-mr-mikes/2028-12-13/
LOCATION:Mr. Mike’s Steakhouse
CATEGORIES:Business,Family Friendly,Food,Pub/Bar Event,Restaurant
ATTACH;FMTTYPE=image/jpeg:https://urbancasual.ca/wp-content/uploads/2023/11/649881287_18331633033168933_61308077822206636_n.jpg
END:VEVENT
BEGIN:VEVENT
DTSTART;TZID=America/Edmonton:20281213T163000
DTEND;TZID=America/Edmonton:20281213T193000
DTSTAMP:20260425T103017
CREATED:20260304T000609Z
LAST-MODIFIED:20260304T000609Z
UID:10056453-1860337800-1860348600@urbancasual.ca
SUMMARY:Wing Wednesdays at The Legion
DESCRIPTION:$8.75 per order \n4:30pm to 7:30pm \n  \n*********** \nTAKE OUT $11.75
URL:https://urbancasual.ca/cochrane-event/wing-wednesdays-at-the-legion/2028-12-13/
LOCATION:The Legion\, 114 Fifth Ave\, Cochrane\, Canada
CATEGORIES:Family Friendly,Food,Legion,Pub/Bar Event
ATTACH;FMTTYPE=image/jpeg:https://urbancasual.ca/wp-content/uploads/2023/11/641426488_122211457496544523_2350288989248374889_n.jpg
END:VEVENT
BEGIN:VEVENT
DTSTART;TZID=America/Edmonton:20281213T170000
DTEND;TZID=America/Edmonton:20281213T203000
DTSTAMP:20260425T103017
CREATED:20241210T012230Z
LAST-MODIFIED:20260211T225039Z
UID:10039908-1860339600-1860352200@urbancasual.ca
SUMMARY:Wing Night at The Taproom
DESCRIPTION:Join us every Wednesday from 5pm to 8:30pm for $8.50/lb wings! \nWe have a variety of flavours from you to choose from. You won’t wanna miss it!
URL:https://urbancasual.ca/cochrane-event/wing-night-at-the-taproom/2028-12-13/
LOCATION:Rocky View Taproom\, 420 1st Street\, Cochrane\, AB
CATEGORIES:Business,Entertainment & Games,Food,Pub/Bar Event,Restaurant
ATTACH;FMTTYPE=image/jpeg:https://urbancasual.ca/wp-content/uploads/2024/12/465707656_18375053353104462_8115185856607810178_n.jpg
END:VEVENT
BEGIN:VEVENT
DTSTART;TZID=America/Edmonton:20281213T180000
DTEND;TZID=America/Edmonton:20281213T210000
DTSTAMP:20260425T103017
CREATED:20241202T000531Z
LAST-MODIFIED:20241202T000605Z
UID:10037911-1860343200-1860354000@urbancasual.ca
SUMMARY:Country Music with Turner Bates at the Venue
DESCRIPTION:
URL:https://urbancasual.ca/cochrane-event/country-music-with-turner-bates-at-the-venue/2028-12-13/
CATEGORIES:Adults Only,Business,Entertainment & Games,Food,Music,Pub/Bar Event
ATTACH;FMTTYPE=image/jpeg:https://urbancasual.ca/wp-content/uploads/2024/12/463385392_17920216139988797_9181419957565291331_n.jpg
END:VEVENT
BEGIN:VEVENT
DTSTART;TZID=America/Edmonton:20281220T160000
DTEND;TZID=America/Edmonton:20281220T220000
DTSTAMP:20260425T103017
CREATED:20260311T161917Z
LAST-MODIFIED:20260311T161929Z
UID:10056832-1860940800-1860962400@urbancasual.ca
SUMMARY:Wings Night at MR MIKES
DESCRIPTION:Wing Wednesday gets seriously saucy…Come down to Mr Mikes Cochrane and dive in wings first to a plate of hot and delicious wings for $10 from 4pm- close!
URL:https://urbancasual.ca/cochrane-event/wings-night-at-mr-mikes/2028-12-20/
LOCATION:Mr. Mike’s Steakhouse
CATEGORIES:Business,Family Friendly,Food,Pub/Bar Event,Restaurant
ATTACH;FMTTYPE=image/jpeg:https://urbancasual.ca/wp-content/uploads/2023/11/649881287_18331633033168933_61308077822206636_n.jpg
END:VEVENT
BEGIN:VEVENT
DTSTART;TZID=America/Edmonton:20281220T163000
DTEND;TZID=America/Edmonton:20281220T193000
DTSTAMP:20260425T103017
CREATED:20260304T000609Z
LAST-MODIFIED:20260304T000609Z
UID:10056454-1860942600-1860953400@urbancasual.ca
SUMMARY:Wing Wednesdays at The Legion
DESCRIPTION:$8.75 per order \n4:30pm to 7:30pm \n  \n*********** \nTAKE OUT $11.75
URL:https://urbancasual.ca/cochrane-event/wing-wednesdays-at-the-legion/2028-12-20/
LOCATION:The Legion\, 114 Fifth Ave\, Cochrane\, Canada
CATEGORIES:Family Friendly,Food,Legion,Pub/Bar Event
ATTACH;FMTTYPE=image/jpeg:https://urbancasual.ca/wp-content/uploads/2023/11/641426488_122211457496544523_2350288989248374889_n.jpg
END:VEVENT
BEGIN:VEVENT
DTSTART;TZID=America/Edmonton:20281220T170000
DTEND;TZID=America/Edmonton:20281220T203000
DTSTAMP:20260425T103017
CREATED:20241210T012230Z
LAST-MODIFIED:20260211T225039Z
UID:10039909-1860944400-1860957000@urbancasual.ca
SUMMARY:Wing Night at The Taproom
DESCRIPTION:Join us every Wednesday from 5pm to 8:30pm for $8.50/lb wings! \nWe have a variety of flavours from you to choose from. You won’t wanna miss it!
URL:https://urbancasual.ca/cochrane-event/wing-night-at-the-taproom/2028-12-20/
LOCATION:Rocky View Taproom\, 420 1st Street\, Cochrane\, AB
CATEGORIES:Business,Entertainment & Games,Food,Pub/Bar Event,Restaurant
ATTACH;FMTTYPE=image/jpeg:https://urbancasual.ca/wp-content/uploads/2024/12/465707656_18375053353104462_8115185856607810178_n.jpg
END:VEVENT
BEGIN:VEVENT
DTSTART;TZID=America/Edmonton:20281220T180000
DTEND;TZID=America/Edmonton:20281220T210000
DTSTAMP:20260425T103017
CREATED:20241202T000531Z
LAST-MODIFIED:20241202T000605Z
UID:10037912-1860948000-1860958800@urbancasual.ca
SUMMARY:Country Music with Turner Bates at the Venue
DESCRIPTION:
URL:https://urbancasual.ca/cochrane-event/country-music-with-turner-bates-at-the-venue/2028-12-20/
CATEGORIES:Adults Only,Business,Entertainment & Games,Food,Music,Pub/Bar Event
ATTACH;FMTTYPE=image/jpeg:https://urbancasual.ca/wp-content/uploads/2024/12/463385392_17920216139988797_9181419957565291331_n.jpg
END:VEVENT
BEGIN:VEVENT
DTSTART;TZID=America/Edmonton:20281227T160000
DTEND;TZID=America/Edmonton:20281227T220000
DTSTAMP:20260425T103017
CREATED:20260311T161917Z
LAST-MODIFIED:20260311T161929Z
UID:10056833-1861545600-1861567200@urbancasual.ca
SUMMARY:Wings Night at MR MIKES
DESCRIPTION:Wing Wednesday gets seriously saucy…Come down to Mr Mikes Cochrane and dive in wings first to a plate of hot and delicious wings for $10 from 4pm- close!
URL:https://urbancasual.ca/cochrane-event/wings-night-at-mr-mikes/2028-12-27/
LOCATION:Mr. Mike’s Steakhouse
CATEGORIES:Business,Family Friendly,Food,Pub/Bar Event,Restaurant
ATTACH;FMTTYPE=image/jpeg:https://urbancasual.ca/wp-content/uploads/2023/11/649881287_18331633033168933_61308077822206636_n.jpg
END:VEVENT
BEGIN:VEVENT
DTSTART;TZID=America/Edmonton:20281227T163000
DTEND;TZID=America/Edmonton:20281227T193000
DTSTAMP:20260425T103017
CREATED:20260304T000609Z
LAST-MODIFIED:20260304T000609Z
UID:10056455-1861547400-1861558200@urbancasual.ca
SUMMARY:Wing Wednesdays at The Legion
DESCRIPTION:$8.75 per order \n4:30pm to 7:30pm \n  \n*********** \nTAKE OUT $11.75
URL:https://urbancasual.ca/cochrane-event/wing-wednesdays-at-the-legion/2028-12-27/
LOCATION:The Legion\, 114 Fifth Ave\, Cochrane\, Canada
CATEGORIES:Family Friendly,Food,Legion,Pub/Bar Event
ATTACH;FMTTYPE=image/jpeg:https://urbancasual.ca/wp-content/uploads/2023/11/641426488_122211457496544523_2350288989248374889_n.jpg
END:VEVENT
BEGIN:VEVENT
DTSTART;TZID=America/Edmonton:20281227T170000
DTEND;TZID=America/Edmonton:20281227T203000
DTSTAMP:20260425T103017
CREATED:20241210T012230Z
LAST-MODIFIED:20260211T225039Z
UID:10039910-1861549200-1861561800@urbancasual.ca
SUMMARY:Wing Night at The Taproom
DESCRIPTION:Join us every Wednesday from 5pm to 8:30pm for $8.50/lb wings! \nWe have a variety of flavours from you to choose from. You won’t wanna miss it!
URL:https://urbancasual.ca/cochrane-event/wing-night-at-the-taproom/2028-12-27/
LOCATION:Rocky View Taproom\, 420 1st Street\, Cochrane\, AB
CATEGORIES:Business,Entertainment & Games,Food,Pub/Bar Event,Restaurant
ATTACH;FMTTYPE=image/jpeg:https://urbancasual.ca/wp-content/uploads/2024/12/465707656_18375053353104462_8115185856607810178_n.jpg
END:VEVENT
BEGIN:VEVENT
DTSTART;TZID=America/Edmonton:20281227T180000
DTEND;TZID=America/Edmonton:20281227T210000
DTSTAMP:20260425T103017
CREATED:20241202T000531Z
LAST-MODIFIED:20241202T000605Z
UID:10037913-1861552800-1861563600@urbancasual.ca
SUMMARY:Country Music with Turner Bates at the Venue
DESCRIPTION:
URL:https://urbancasual.ca/cochrane-event/country-music-with-turner-bates-at-the-venue/2028-12-27/
CATEGORIES:Adults Only,Business,Entertainment & Games,Food,Music,Pub/Bar Event
ATTACH;FMTTYPE=image/jpeg:https://urbancasual.ca/wp-content/uploads/2024/12/463385392_17920216139988797_9181419957565291331_n.jpg
END:VEVENT
BEGIN:VEVENT
DTSTART;TZID=America/Edmonton:20290103T160000
DTEND;TZID=America/Edmonton:20290103T220000
DTSTAMP:20260425T103017
CREATED:20260311T161917Z
LAST-MODIFIED:20260311T161929Z
UID:10056834-1862150400-1862172000@urbancasual.ca
SUMMARY:Wings Night at MR MIKES
DESCRIPTION:Wing Wednesday gets seriously saucy…Come down to Mr Mikes Cochrane and dive in wings first to a plate of hot and delicious wings for $10 from 4pm- close!
URL:https://urbancasual.ca/cochrane-event/wings-night-at-mr-mikes/2029-01-03/
LOCATION:Mr. Mike’s Steakhouse
CATEGORIES:Business,Family Friendly,Food,Pub/Bar Event,Restaurant
ATTACH;FMTTYPE=image/jpeg:https://urbancasual.ca/wp-content/uploads/2023/11/649881287_18331633033168933_61308077822206636_n.jpg
END:VEVENT
BEGIN:VEVENT
DTSTART;TZID=America/Edmonton:20290103T163000
DTEND;TZID=America/Edmonton:20290103T193000
DTSTAMP:20260425T103017
CREATED:20260304T000609Z
LAST-MODIFIED:20260304T000609Z
UID:10056456-1862152200-1862163000@urbancasual.ca
SUMMARY:Wing Wednesdays at The Legion
DESCRIPTION:$8.75 per order \n4:30pm to 7:30pm \n  \n*********** \nTAKE OUT $11.75
URL:https://urbancasual.ca/cochrane-event/wing-wednesdays-at-the-legion/2029-01-03/
LOCATION:The Legion\, 114 Fifth Ave\, Cochrane\, Canada
CATEGORIES:Family Friendly,Food,Legion,Pub/Bar Event
ATTACH;FMTTYPE=image/jpeg:https://urbancasual.ca/wp-content/uploads/2023/11/641426488_122211457496544523_2350288989248374889_n.jpg
END:VEVENT
BEGIN:VEVENT
DTSTART;TZID=America/Edmonton:20290103T170000
DTEND;TZID=America/Edmonton:20290103T203000
DTSTAMP:20260425T103017
CREATED:20241210T012230Z
LAST-MODIFIED:20260211T225039Z
UID:10039911-1862154000-1862166600@urbancasual.ca
SUMMARY:Wing Night at The Taproom
DESCRIPTION:Join us every Wednesday from 5pm to 8:30pm for $8.50/lb wings! \nWe have a variety of flavours from you to choose from. You won’t wanna miss it!
URL:https://urbancasual.ca/cochrane-event/wing-night-at-the-taproom/2029-01-03/
LOCATION:Rocky View Taproom\, 420 1st Street\, Cochrane\, AB
CATEGORIES:Business,Entertainment & Games,Food,Pub/Bar Event,Restaurant
ATTACH;FMTTYPE=image/jpeg:https://urbancasual.ca/wp-content/uploads/2024/12/465707656_18375053353104462_8115185856607810178_n.jpg
END:VEVENT
BEGIN:VEVENT
DTSTART;TZID=America/Edmonton:20290103T180000
DTEND;TZID=America/Edmonton:20290103T210000
DTSTAMP:20260425T103017
CREATED:20241202T000531Z
LAST-MODIFIED:20241202T000605Z
UID:10037914-1862157600-1862168400@urbancasual.ca
SUMMARY:Country Music with Turner Bates at the Venue
DESCRIPTION:
URL:https://urbancasual.ca/cochrane-event/country-music-with-turner-bates-at-the-venue/2029-01-03/
CATEGORIES:Adults Only,Business,Entertainment & Games,Food,Music,Pub/Bar Event
ATTACH;FMTTYPE=image/jpeg:https://urbancasual.ca/wp-content/uploads/2024/12/463385392_17920216139988797_9181419957565291331_n.jpg
END:VEVENT
BEGIN:VEVENT
DTSTART;TZID=America/Edmonton:20290110T160000
DTEND;TZID=America/Edmonton:20290110T220000
DTSTAMP:20260425T103017
CREATED:20260311T161917Z
LAST-MODIFIED:20260311T161929Z
UID:10056835-1862755200-1862776800@urbancasual.ca
SUMMARY:Wings Night at MR MIKES
DESCRIPTION:Wing Wednesday gets seriously saucy…Come down to Mr Mikes Cochrane and dive in wings first to a plate of hot and delicious wings for $10 from 4pm- close!
URL:https://urbancasual.ca/cochrane-event/wings-night-at-mr-mikes/2029-01-10/
LOCATION:Mr. Mike’s Steakhouse
CATEGORIES:Business,Family Friendly,Food,Pub/Bar Event,Restaurant
ATTACH;FMTTYPE=image/jpeg:https://urbancasual.ca/wp-content/uploads/2023/11/649881287_18331633033168933_61308077822206636_n.jpg
END:VEVENT
BEGIN:VEVENT
DTSTART;TZID=America/Edmonton:20290110T163000
DTEND;TZID=America/Edmonton:20290110T193000
DTSTAMP:20260425T103017
CREATED:20260304T000609Z
LAST-MODIFIED:20260304T000609Z
UID:10056457-1862757000-1862767800@urbancasual.ca
SUMMARY:Wing Wednesdays at The Legion
DESCRIPTION:$8.75 per order \n4:30pm to 7:30pm \n  \n*********** \nTAKE OUT $11.75
URL:https://urbancasual.ca/cochrane-event/wing-wednesdays-at-the-legion/2029-01-10/
LOCATION:The Legion\, 114 Fifth Ave\, Cochrane\, Canada
CATEGORIES:Family Friendly,Food,Legion,Pub/Bar Event
ATTACH;FMTTYPE=image/jpeg:https://urbancasual.ca/wp-content/uploads/2023/11/641426488_122211457496544523_2350288989248374889_n.jpg
END:VEVENT
BEGIN:VEVENT
DTSTART;TZID=America/Edmonton:20290110T170000
DTEND;TZID=America/Edmonton:20290110T203000
DTSTAMP:20260425T103017
CREATED:20241210T012230Z
LAST-MODIFIED:20260211T225039Z
UID:10039912-1862758800-1862771400@urbancasual.ca
SUMMARY:Wing Night at The Taproom
DESCRIPTION:Join us every Wednesday from 5pm to 8:30pm for $8.50/lb wings! \nWe have a variety of flavours from you to choose from. You won’t wanna miss it!
URL:https://urbancasual.ca/cochrane-event/wing-night-at-the-taproom/2029-01-10/
LOCATION:Rocky View Taproom\, 420 1st Street\, Cochrane\, AB
CATEGORIES:Business,Entertainment & Games,Food,Pub/Bar Event,Restaurant
ATTACH;FMTTYPE=image/jpeg:https://urbancasual.ca/wp-content/uploads/2024/12/465707656_18375053353104462_8115185856607810178_n.jpg
END:VEVENT
BEGIN:VEVENT
DTSTART;TZID=America/Edmonton:20290110T180000
DTEND;TZID=America/Edmonton:20290110T210000
DTSTAMP:20260425T103017
CREATED:20241202T000531Z
LAST-MODIFIED:20241202T000605Z
UID:10037915-1862762400-1862773200@urbancasual.ca
SUMMARY:Country Music with Turner Bates at the Venue
DESCRIPTION:
URL:https://urbancasual.ca/cochrane-event/country-music-with-turner-bates-at-the-venue/2029-01-10/
CATEGORIES:Adults Only,Business,Entertainment & Games,Food,Music,Pub/Bar Event
ATTACH;FMTTYPE=image/jpeg:https://urbancasual.ca/wp-content/uploads/2024/12/463385392_17920216139988797_9181419957565291331_n.jpg
END:VEVENT
BEGIN:VEVENT
DTSTART;TZID=America/Edmonton:20290117T160000
DTEND;TZID=America/Edmonton:20290117T220000
DTSTAMP:20260425T103017
CREATED:20260311T161917Z
LAST-MODIFIED:20260311T161929Z
UID:10056836-1863360000-1863381600@urbancasual.ca
SUMMARY:Wings Night at MR MIKES
DESCRIPTION:Wing Wednesday gets seriously saucy…Come down to Mr Mikes Cochrane and dive in wings first to a plate of hot and delicious wings for $10 from 4pm- close!
URL:https://urbancasual.ca/cochrane-event/wings-night-at-mr-mikes/2029-01-17/
LOCATION:Mr. Mike’s Steakhouse
CATEGORIES:Business,Family Friendly,Food,Pub/Bar Event,Restaurant
ATTACH;FMTTYPE=image/jpeg:https://urbancasual.ca/wp-content/uploads/2023/11/649881287_18331633033168933_61308077822206636_n.jpg
END:VEVENT
BEGIN:VEVENT
DTSTART;TZID=America/Edmonton:20290117T163000
DTEND;TZID=America/Edmonton:20290117T193000
DTSTAMP:20260425T103017
CREATED:20260304T000609Z
LAST-MODIFIED:20260304T000609Z
UID:10056458-1863361800-1863372600@urbancasual.ca
SUMMARY:Wing Wednesdays at The Legion
DESCRIPTION:$8.75 per order \n4:30pm to 7:30pm \n  \n*********** \nTAKE OUT $11.75
URL:https://urbancasual.ca/cochrane-event/wing-wednesdays-at-the-legion/2029-01-17/
LOCATION:The Legion\, 114 Fifth Ave\, Cochrane\, Canada
CATEGORIES:Family Friendly,Food,Legion,Pub/Bar Event
ATTACH;FMTTYPE=image/jpeg:https://urbancasual.ca/wp-content/uploads/2023/11/641426488_122211457496544523_2350288989248374889_n.jpg
END:VEVENT
BEGIN:VEVENT
DTSTART;TZID=America/Edmonton:20290117T170000
DTEND;TZID=America/Edmonton:20290117T203000
DTSTAMP:20260425T103017
CREATED:20241210T012230Z
LAST-MODIFIED:20260211T225039Z
UID:10039913-1863363600-1863376200@urbancasual.ca
SUMMARY:Wing Night at The Taproom
DESCRIPTION:Join us every Wednesday from 5pm to 8:30pm for $8.50/lb wings! \nWe have a variety of flavours from you to choose from. You won’t wanna miss it!
URL:https://urbancasual.ca/cochrane-event/wing-night-at-the-taproom/2029-01-17/
LOCATION:Rocky View Taproom\, 420 1st Street\, Cochrane\, AB
CATEGORIES:Business,Entertainment & Games,Food,Pub/Bar Event,Restaurant
ATTACH;FMTTYPE=image/jpeg:https://urbancasual.ca/wp-content/uploads/2024/12/465707656_18375053353104462_8115185856607810178_n.jpg
END:VEVENT
BEGIN:VEVENT
DTSTART;TZID=America/Edmonton:20290117T180000
DTEND;TZID=America/Edmonton:20290117T210000
DTSTAMP:20260425T103017
CREATED:20241202T000531Z
LAST-MODIFIED:20241202T000605Z
UID:10037916-1863367200-1863378000@urbancasual.ca
SUMMARY:Country Music with Turner Bates at the Venue
DESCRIPTION:
URL:https://urbancasual.ca/cochrane-event/country-music-with-turner-bates-at-the-venue/2029-01-17/
CATEGORIES:Adults Only,Business,Entertainment & Games,Food,Music,Pub/Bar Event
ATTACH;FMTTYPE=image/jpeg:https://urbancasual.ca/wp-content/uploads/2024/12/463385392_17920216139988797_9181419957565291331_n.jpg
END:VEVENT
BEGIN:VEVENT
DTSTART;TZID=America/Edmonton:20290124T160000
DTEND;TZID=America/Edmonton:20290124T220000
DTSTAMP:20260425T103017
CREATED:20260311T161917Z
LAST-MODIFIED:20260311T161929Z
UID:10056837-1863964800-1863986400@urbancasual.ca
SUMMARY:Wings Night at MR MIKES
DESCRIPTION:Wing Wednesday gets seriously saucy…Come down to Mr Mikes Cochrane and dive in wings first to a plate of hot and delicious wings for $10 from 4pm- close!
URL:https://urbancasual.ca/cochrane-event/wings-night-at-mr-mikes/2029-01-24/
LOCATION:Mr. Mike’s Steakhouse
CATEGORIES:Business,Family Friendly,Food,Pub/Bar Event,Restaurant
ATTACH;FMTTYPE=image/jpeg:https://urbancasual.ca/wp-content/uploads/2023/11/649881287_18331633033168933_61308077822206636_n.jpg
END:VEVENT
BEGIN:VEVENT
DTSTART;TZID=America/Edmonton:20290124T163000
DTEND;TZID=America/Edmonton:20290124T193000
DTSTAMP:20260425T103017
CREATED:20260304T000609Z
LAST-MODIFIED:20260304T000609Z
UID:10056459-1863966600-1863977400@urbancasual.ca
SUMMARY:Wing Wednesdays at The Legion
DESCRIPTION:$8.75 per order \n4:30pm to 7:30pm \n  \n*********** \nTAKE OUT $11.75
URL:https://urbancasual.ca/cochrane-event/wing-wednesdays-at-the-legion/2029-01-24/
LOCATION:The Legion\, 114 Fifth Ave\, Cochrane\, Canada
CATEGORIES:Family Friendly,Food,Legion,Pub/Bar Event
ATTACH;FMTTYPE=image/jpeg:https://urbancasual.ca/wp-content/uploads/2023/11/641426488_122211457496544523_2350288989248374889_n.jpg
END:VEVENT
BEGIN:VEVENT
DTSTART;TZID=America/Edmonton:20290124T170000
DTEND;TZID=America/Edmonton:20290124T203000
DTSTAMP:20260425T103017
CREATED:20241210T012230Z
LAST-MODIFIED:20260211T225039Z
UID:10039914-1863968400-1863981000@urbancasual.ca
SUMMARY:Wing Night at The Taproom
DESCRIPTION:Join us every Wednesday from 5pm to 8:30pm for $8.50/lb wings! \nWe have a variety of flavours from you to choose from. You won’t wanna miss it!
URL:https://urbancasual.ca/cochrane-event/wing-night-at-the-taproom/2029-01-24/
LOCATION:Rocky View Taproom\, 420 1st Street\, Cochrane\, AB
CATEGORIES:Business,Entertainment & Games,Food,Pub/Bar Event,Restaurant
ATTACH;FMTTYPE=image/jpeg:https://urbancasual.ca/wp-content/uploads/2024/12/465707656_18375053353104462_8115185856607810178_n.jpg
END:VEVENT
END:VCALENDAR