BEGIN:VCALENDAR
VERSION:2.0
PRODID:-//Urbancasual.ca - ECPv6.15.20//NONSGML v1.0//EN
CALSCALE:GREGORIAN
METHOD:PUBLISH
X-WR-CALNAME:Urbancasual.ca
X-ORIGINAL-URL:https://urbancasual.ca
X-WR-CALDESC:Events for Urbancasual.ca
REFRESH-INTERVAL;VALUE=DURATION:PT1H
X-Robots-Tag:noindex
X-PUBLISHED-TTL:PT1H
BEGIN:VTIMEZONE
TZID:America/Edmonton
BEGIN:DAYLIGHT
TZOFFSETFROM:-0700
TZOFFSETTO:-0600
TZNAME:MDT
DTSTART:20250309T090000
END:DAYLIGHT
BEGIN:STANDARD
TZOFFSETFROM:-0600
TZOFFSETTO:-0700
TZNAME:MST
DTSTART:20251102T080000
END:STANDARD
BEGIN:DAYLIGHT
TZOFFSETFROM:-0700
TZOFFSETTO:-0600
TZNAME:MDT
DTSTART:20260308T090000
END:DAYLIGHT
BEGIN:STANDARD
TZOFFSETFROM:-0600
TZOFFSETTO:-0700
TZNAME:MST
DTSTART:20261101T080000
END:STANDARD
BEGIN:DAYLIGHT
TZOFFSETFROM:-0700
TZOFFSETTO:-0600
TZNAME:MDT
DTSTART:20270314T090000
END:DAYLIGHT
BEGIN:STANDARD
TZOFFSETFROM:-0600
TZOFFSETTO:-0700
TZNAME:MST
DTSTART:20271107T080000
END:STANDARD
END:VTIMEZONE
BEGIN:VEVENT
DTSTART;TZID=America/Edmonton:20260425T090000
DTEND;TZID=America/Edmonton:20260425T140000
DTSTAMP:20260425T102959
CREATED:20260223T155453Z
LAST-MODIFIED:20260223T155551Z
UID:10055735-1777107600-1777125600@urbancasual.ca
SUMMARY:Cochrane Spring Farmers Market
DESCRIPTION:Cochrane SPRING Farmers’ Market – FIVE Days Only!\n| February 28 | March 14 | March 28 | April 11 | April 25 | Saturdays – 9am to 2pm | SLS Centre – Indoors\n\n\n\n\nAre you missing the Farmers’ Market? The Spring Markets are what you need to satisfy your market craving. These markets may be smaller\, but they are packed with a variety of products and vendors – farmers & growers\, food artisans\, bakers & makers\, craft beverages\, sweet treats & more… A great way to shop & support local vendors while we wait for opening day at the summer market.\n\n\nMarkets are scheduled every second Saturday through March and April. The first THREE markets are located in the Main Entrance Atrium – AND – the final TWO markets will be ‘SUPER-SIZED’ Spring Markets located in the Curling Club at the SLS Centre.\n\n\n\n\nVisit our Website for Market info and Vendor gallery: https://bit.ly/CFMspring\n\n\n\n\nReceive weekly vendor lists\, market highlights and updates delivered directly to your inbox by signing up for our e-news: http://eepurl.com/hPCVnj\n\n\n\n\nWatch for Updates on Event Page:\nhttps://www.facebook.com/events/1622063595464736/1622063612131401/
URL:https://urbancasual.ca/cochrane-event/cochrane-spring-farmers-market-2026/2026-04-25/
LOCATION:Spray Lake Sawmill Family Sports Centre\, 800 Griffin Road\, Cochrane\, AB
CATEGORIES:Community,Farmers Market,Free,Market,Shopping,Spray Lakes Sawmill Rec Centre
ATTACH;FMTTYPE=image/jpeg:https://urbancasual.ca/wp-content/uploads/2026/02/inbound4863388103455399595.jpg
END:VEVENT
BEGIN:VEVENT
DTSTART;TZID=America/Edmonton:20260904T160000
DTEND;TZID=America/Edmonton:20260904T200000
DTSTAMP:20260425T102959
CREATED:20260223T235548Z
LAST-MODIFIED:20260223T235548Z
UID:10056261-1788537600-1788552000@urbancasual.ca
SUMMARY:Trading Post Market at the Lion's Club Event Centre
DESCRIPTION: Trading Post Market – September Long Weekend 2026! Join us September 4th\, 5th\, 6th & 7th in conjunction with the Cochrane Rodeo for an incredible weekend of shopping\, food\, and western fun! Legacy Hall – Cochrane Event Centre109 5th Ave W 403-999-1793 Market Hours:• Friday: 4 PM – 8 PM• Saturday: 11 AM – 7 PM• Sunday: 11 AM – 7 PM• Monday: 11 AM – 7 PM You may attend one day or enjoy all four days — the choice is yours! Featuring: Artisans Crafts Antiques Western Goods Food & MoreSupport local vendors and make a day of it at the rodeo and market! Interested in becoming a vendor?Visit eventscentre.ca
URL:https://urbancasual.ca/cochrane-event/trading-post-market-at-the-lions-club-event-centre/2026-09-04/
LOCATION:The Lions Event Centre\, 109 5th Avenue\, Cochrane\, Alberta\, Canada
CATEGORIES:Entertainment & Games,Family Friendly,Farmers Market,Free,LIONS EVENTS CENTRE,Market
ATTACH;FMTTYPE=image/jpeg:https://urbancasual.ca/wp-content/uploads/2026/02/637187229_1332598108891899_807647177720987619_n.jpg
END:VEVENT
BEGIN:VEVENT
DTSTART;TZID=America/Edmonton:20260905T110000
DTEND;TZID=America/Edmonton:20260905T190000
DTSTAMP:20260425T102959
CREATED:20260223T235548Z
LAST-MODIFIED:20260223T235548Z
UID:10056262-1788606000-1788634800@urbancasual.ca
SUMMARY:Trading Post Market at the Lion's Club Event Centre
DESCRIPTION: Trading Post Market – September Long Weekend 2026! Join us September 4th\, 5th\, 6th & 7th in conjunction with the Cochrane Rodeo for an incredible weekend of shopping\, food\, and western fun! Legacy Hall – Cochrane Event Centre109 5th Ave W 403-999-1793 Market Hours:• Friday: 4 PM – 8 PM• Saturday: 11 AM – 7 PM• Sunday: 11 AM – 7 PM• Monday: 11 AM – 7 PM You may attend one day or enjoy all four days — the choice is yours! Featuring: Artisans Crafts Antiques Western Goods Food & MoreSupport local vendors and make a day of it at the rodeo and market! Interested in becoming a vendor?Visit eventscentre.ca
URL:https://urbancasual.ca/cochrane-event/trading-post-market-at-the-lions-club-event-centre/2026-09-05/
LOCATION:The Lions Event Centre\, 109 5th Avenue\, Cochrane\, Alberta\, Canada
CATEGORIES:Entertainment & Games,Family Friendly,Farmers Market,Free,LIONS EVENTS CENTRE,Market
ATTACH;FMTTYPE=image/jpeg:https://urbancasual.ca/wp-content/uploads/2026/02/637187229_1332598108891899_807647177720987619_n.jpg
END:VEVENT
BEGIN:VEVENT
DTSTART;TZID=America/Edmonton:20260906T110000
DTEND;TZID=America/Edmonton:20260906T190000
DTSTAMP:20260425T102959
CREATED:20260223T235548Z
LAST-MODIFIED:20260223T235548Z
UID:10056263-1788692400-1788721200@urbancasual.ca
SUMMARY:Trading Post Market at the Lion's Club Event Centre
DESCRIPTION: Trading Post Market – September Long Weekend 2026! Join us September 4th\, 5th\, 6th & 7th in conjunction with the Cochrane Rodeo for an incredible weekend of shopping\, food\, and western fun! Legacy Hall – Cochrane Event Centre109 5th Ave W 403-999-1793 Market Hours:• Friday: 4 PM – 8 PM• Saturday: 11 AM – 7 PM• Sunday: 11 AM – 7 PM• Monday: 11 AM – 7 PM You may attend one day or enjoy all four days — the choice is yours! Featuring: Artisans Crafts Antiques Western Goods Food & MoreSupport local vendors and make a day of it at the rodeo and market! Interested in becoming a vendor?Visit eventscentre.ca
URL:https://urbancasual.ca/cochrane-event/trading-post-market-at-the-lions-club-event-centre/2026-09-06/
LOCATION:The Lions Event Centre\, 109 5th Avenue\, Cochrane\, Alberta\, Canada
CATEGORIES:Entertainment & Games,Family Friendly,Farmers Market,Free,LIONS EVENTS CENTRE,Market
ATTACH;FMTTYPE=image/jpeg:https://urbancasual.ca/wp-content/uploads/2026/02/637187229_1332598108891899_807647177720987619_n.jpg
END:VEVENT
BEGIN:VEVENT
DTSTART;TZID=America/Edmonton:20260907T110000
DTEND;TZID=America/Edmonton:20260907T190000
DTSTAMP:20260425T102959
CREATED:20260223T235548Z
LAST-MODIFIED:20260223T235548Z
UID:10056264-1788778800-1788807600@urbancasual.ca
SUMMARY:Trading Post Market at the Lion's Club Event Centre
DESCRIPTION: Trading Post Market – September Long Weekend 2026! Join us September 4th\, 5th\, 6th & 7th in conjunction with the Cochrane Rodeo for an incredible weekend of shopping\, food\, and western fun! Legacy Hall – Cochrane Event Centre109 5th Ave W 403-999-1793 Market Hours:• Friday: 4 PM – 8 PM• Saturday: 11 AM – 7 PM• Sunday: 11 AM – 7 PM• Monday: 11 AM – 7 PM You may attend one day or enjoy all four days — the choice is yours! Featuring: Artisans Crafts Antiques Western Goods Food & MoreSupport local vendors and make a day of it at the rodeo and market! Interested in becoming a vendor?Visit eventscentre.ca
URL:https://urbancasual.ca/cochrane-event/trading-post-market-at-the-lions-club-event-centre/2026-09-07/
LOCATION:The Lions Event Centre\, 109 5th Avenue\, Cochrane\, Alberta\, Canada
CATEGORIES:Entertainment & Games,Family Friendly,Farmers Market,Free,LIONS EVENTS CENTRE,Market
ATTACH;FMTTYPE=image/jpeg:https://urbancasual.ca/wp-content/uploads/2026/02/637187229_1332598108891899_807647177720987619_n.jpg
END:VEVENT
END:VCALENDAR