BEGIN:VCALENDAR
VERSION:2.0
PRODID:-//Urbancasual.ca - ECPv6.15.20//NONSGML v1.0//EN
CALSCALE:GREGORIAN
METHOD:PUBLISH
X-WR-CALNAME:Urbancasual.ca
X-ORIGINAL-URL:https://urbancasual.ca
X-WR-CALDESC:Events for Urbancasual.ca
REFRESH-INTERVAL;VALUE=DURATION:PT1H
X-Robots-Tag:noindex
X-PUBLISHED-TTL:PT1H
BEGIN:VTIMEZONE
TZID:America/Edmonton
BEGIN:DAYLIGHT
TZOFFSETFROM:-0700
TZOFFSETTO:-0600
TZNAME:MDT
DTSTART:20240310T090000
END:DAYLIGHT
BEGIN:STANDARD
TZOFFSETFROM:-0600
TZOFFSETTO:-0700
TZNAME:MST
DTSTART:20241103T080000
END:STANDARD
BEGIN:DAYLIGHT
TZOFFSETFROM:-0700
TZOFFSETTO:-0600
TZNAME:MDT
DTSTART:20250309T090000
END:DAYLIGHT
BEGIN:STANDARD
TZOFFSETFROM:-0600
TZOFFSETTO:-0700
TZNAME:MST
DTSTART:20251102T080000
END:STANDARD
BEGIN:DAYLIGHT
TZOFFSETFROM:-0700
TZOFFSETTO:-0600
TZNAME:MDT
DTSTART:20260308T090000
END:DAYLIGHT
BEGIN:STANDARD
TZOFFSETFROM:-0600
TZOFFSETTO:-0700
TZNAME:MST
DTSTART:20261101T080000
END:STANDARD
END:VTIMEZONE
BEGIN:VEVENT
DTSTART;TZID=America/Edmonton:20250907T100000
DTEND;TZID=America/Edmonton:20250907T150000
DTSTAMP:20260419T150325
CREATED:20250508T211654Z
LAST-MODIFIED:20250508T211654Z
UID:10048023-1757239200-1757257200@urbancasual.ca
SUMMARY:BRAGG CREEK FARMERS MARKET
DESCRIPTION:The Bragg Creek Community Centre Farmers Market opens for the season on Sunday June 15 and very limited vendor space is still available. \nMore information is available at rental@braggcreekca.com and at https://braggcreekca.com/…/21/summer-farmers-market-2025/
URL:https://urbancasual.ca/cochrane-event/bragg-creek-farmers-market/2025-09-07/
LOCATION:Bragg Creek Community Centre
CATEGORIES:Bragg Creek,Community,Family Friendly,Farmers Market,Market
ATTACH;FMTTYPE=image/jpeg:https://urbancasual.ca/wp-content/uploads/2025/05/495540431_1104111908421976_2059797905174767868_n.jpg
END:VEVENT
BEGIN:VEVENT
DTSTART;TZID=America/Edmonton:20250907T100000
DTEND;TZID=America/Edmonton:20250907T150000
DTSTAMP:20260419T150325
CREATED:20250904T173411Z
LAST-MODIFIED:20250904T173804Z
UID:10050319-1757239200-1757257200@urbancasual.ca
SUMMARY:FALL COLOURS SHOW & SHINE
DESCRIPTION:Cochrane Classic Car Club Fall Colours Show and Shine.\n\nSunday\, September 7th\, 2025. Gates open at 8:00am.\n\nShow starts at 10:00am to 3:00pm.\n\nMain Entrance is 1st Street (Main) and 1st Avenue only\, all other entrances will be closed with barricades.
URL:https://urbancasual.ca/cochrane-event/fall-colours-show-shine/
LOCATION:Alberta
CATEGORIES:AUTO SHOW,Club,Community,Downtown,Entertainment & Games,Family Friendly,Free
ATTACH;FMTTYPE=image/jpeg:https://urbancasual.ca/wp-content/uploads/2025/09/540943029_742663868526485_393380219379021932_n.jpg
END:VEVENT
BEGIN:VEVENT
DTSTART;TZID=America/Edmonton:20250907T130000
DTEND;TZID=America/Edmonton:20250907T170000
DTSTAMP:20260419T150325
CREATED:20250808T234555Z
LAST-MODIFIED:20250808T234555Z
UID:10049917-1757250000-1757264400@urbancasual.ca
SUMMARY:SUNDAY JAM AT THE LEGION
DESCRIPTION:DOORS OPEN AT 1PM \nJAM STARTS AT 2PM
URL:https://urbancasual.ca/cochrane-event/sunday-jam-at-the-legion-3/2025-09-07/
LOCATION:The Legion\, 114 Fifth Ave\, Cochrane\, Canada
CATEGORIES:Community,Entertainment & Games,Family Friendly,Music,OPEN MIC,Parents & Caregivers
ATTACH;FMTTYPE=image/jpeg:https://urbancasual.ca/wp-content/uploads/2025/08/528714354_122185878086544523_8264551211710086241_n-1.jpg
END:VEVENT
END:VCALENDAR