BEGIN:VCALENDAR
VERSION:2.0
PRODID:-//Urbancasual.ca - ECPv6.15.20//NONSGML v1.0//EN
CALSCALE:GREGORIAN
METHOD:PUBLISH
X-ORIGINAL-URL:https://urbancasual.ca
X-WR-CALDESC:Events for Urbancasual.ca
REFRESH-INTERVAL;VALUE=DURATION:PT1H
X-Robots-Tag:noindex
X-PUBLISHED-TTL:PT1H
BEGIN:VTIMEZONE
TZID:America/Edmonton
BEGIN:DAYLIGHT
TZOFFSETFROM:-0700
TZOFFSETTO:-0600
TZNAME:MDT
DTSTART:20240310T090000
END:DAYLIGHT
BEGIN:STANDARD
TZOFFSETFROM:-0600
TZOFFSETTO:-0700
TZNAME:MST
DTSTART:20241103T080000
END:STANDARD
BEGIN:DAYLIGHT
TZOFFSETFROM:-0700
TZOFFSETTO:-0600
TZNAME:MDT
DTSTART:20250309T090000
END:DAYLIGHT
BEGIN:STANDARD
TZOFFSETFROM:-0600
TZOFFSETTO:-0700
TZNAME:MST
DTSTART:20251102T080000
END:STANDARD
BEGIN:DAYLIGHT
TZOFFSETFROM:-0700
TZOFFSETTO:-0600
TZNAME:MDT
DTSTART:20260308T090000
END:DAYLIGHT
BEGIN:STANDARD
TZOFFSETFROM:-0600
TZOFFSETTO:-0700
TZNAME:MST
DTSTART:20261101T080000
END:STANDARD
END:VTIMEZONE
BEGIN:VEVENT
DTSTART;VALUE=DATE:20250801
DTEND;VALUE=DATE:20250806
DTSTAMP:20260419T134819
CREATED:20250707T164309Z
LAST-MODIFIED:20250707T164309Z
UID:10049600-1754017200-1754362799@urbancasual.ca
SUMMARY:The Western Canadian Pony Classic
DESCRIPTION:🌟 The Western Canadian Pony Classic – August 1–4\, 2025 • Cochrane\, Alberta 🌟\nMark your calendars—an exciting new multi-discipline pony show is coming to Alberta! \nWe’re thrilled to welcome judges Shawn Bigley\, Brian McClelland\, and Astrid Hryciuk to the Western Canadian Pony Classic. \n2025 Show Highlights:\n✨ Over $2\,000 available in prize money! \n✨ Royal Winter Fair Qualifiers\n• Welsh Champion of Champions Qualifying Classes\n• Starsearch Sport Pony Qualifying Classes \n✨ National Dressage Pony Cup Classes\n• Under Saddle and Dressage Breeding Classes on the triangle \n✨ Full slate of Welsh Classes \n✨ Open to both Junior & Senior competitors – that’s right\, we’re offering pony classes for Adults! \n✨ Early Bird Perks:\n• Lower entry fees\n• You will be automatically entered to win your stall! \n✨ Disciplines Include:\n• Pony Hunter Breeding\n• Welsh Breed & Sport Pony Classes\n• Hunters • Jumpers • Dressage • Driving • Trail\n• English Flat • Fun/Novelty Classes \n✨ Spectators – admission is free! \n✨ Sale Pony Package available for sale ponies competing at the show \n✨ Want to help out? Volunteers welcome! \n✨ Sponsorship opportunities available – connect with a dedicated equestrian audience! \nJoin us for four unforgettable days of pony sport\, community\, and celebration.\nFollow us for updates on Facebook and Instagram – We can’t wait to see you in Cochrane! \nOur prize book is available at: https://poshalta.com/shows/
URL:https://urbancasual.ca/cochrane-event/the-western-canadian-pony-classic/
LOCATION:Cochrane AG Society Grounds
CATEGORIES:Animals,Entertainment & Games,Sports
ATTACH;FMTTYPE=image/jpeg:https://urbancasual.ca/wp-content/uploads/2025/07/inbound7976259944876071304.jpg
END:VEVENT
BEGIN:VEVENT
DTSTART;TZID=America/Edmonton:20250802T110000
DTEND;TZID=America/Edmonton:20250802T120000
DTSTAMP:20260419T134819
CREATED:20240121T193907Z
LAST-MODIFIED:20240619T195906Z
UID:10022644-1754132400-1754136000@urbancasual.ca
SUMMARY:Let's Go Lego at the Cochrane Public Library
DESCRIPTION:Join us for our all-ages Let’s Go Lego drop-in\, where you can learn while having fun! We have lots of Lego Education and Steam sets and will be spending hands-on time letting our imaginations go wild! \nWe play on Saturdays between 11:00am and 12:00pm. \n\n 
URL:https://urbancasual.ca/cochrane-event/lets-go-lego-at-the-cochrane-public-library/2025-08-02/
LOCATION:Cochrane Public Library\, 405 Railway Street W\, Cochrane\, Alberta
CATEGORIES:Community,Downtown,Entertainment & Games,Family Friendly,Free,Library,Parents & Caregivers
ATTACH;FMTTYPE=image/jpeg:https://urbancasual.ca/wp-content/uploads/2024/01/Let-s-Go-LEGO.jpg
END:VEVENT
BEGIN:VEVENT
DTSTART;TZID=America/Edmonton:20250802T120000
DTEND;TZID=America/Edmonton:20250802T160000
DTSTAMP:20260419T134819
CREATED:20250529T163927Z
LAST-MODIFIED:20250529T163927Z
UID:10048445-1754136000-1754150400@urbancasual.ca
SUMMARY:Cochrane Historical Museum
DESCRIPTION:Visit the Cochrane Historical Museum Wednesday through Sunday (plus stat Mondays) until September 1st\, 12pm to 4pm. \nLearn more: https://urbancasual.ca/history-live-here-cochrane-historical-museum-opens-at-the-ranche-may-17th/
URL:https://urbancasual.ca/cochrane-event/cochrane-historical-museum/2025-08-02/
LOCATION:Cochrane Ranche\, Hwy 1A\, Cochrane\, Alberta
CATEGORIES:Community,Culture,Entertainment & Games,Family Friendly,Free,Learning,Newcomers,Parents & Caregivers
ATTACH;FMTTYPE=image/jpeg:https://urbancasual.ca/wp-content/uploads/2025/05/497640714_10162442038179061_4194824443753130805_n-e1747167844472.jpg
END:VEVENT
BEGIN:VEVENT
DTSTART;TZID=America/Edmonton:20250802T160000
DTEND;TZID=America/Edmonton:20250802T180000
DTSTAMP:20260419T134819
CREATED:20250116T214209Z
LAST-MODIFIED:20250416T174217Z
UID:10043468-1754150400-1754157600@urbancasual.ca
SUMMARY:LEGION: SHUFFLE BOARD
DESCRIPTION:DROP IN TUESDAYS AND THURSDAYS AT 4PM \nDROP IN SATURDAYS AT 2PM \n  \n 
URL:https://urbancasual.ca/cochrane-event/legion-shuffle-board-2/2025-08-02/
LOCATION:The Legion\, 114 Fifth Ave\, Cochrane\, Canada
CATEGORIES:Adults Only,Community,Entertainment & Games,Legion,Networking,Parents & Caregivers,Seniors
ATTACH;FMTTYPE=image/jpeg:https://urbancasual.ca/wp-content/uploads/2025/01/Shuffleboard.jpg
END:VEVENT
BEGIN:VEVENT
DTSTART;TZID=America/Edmonton:20250802T180000
DTEND;TZID=America/Edmonton:20250802T210000
DTSTAMP:20260419T134819
CREATED:20241219T180111Z
LAST-MODIFIED:20260312T155218Z
UID:10032342-1754157600-1754168400@urbancasual.ca
SUMMARY:LIVE music Saturdays at Rocky View Brewing
DESCRIPTION:  \n  \n  \nLive music Saturdays in the taproom starting at 6pm. \n  \n  \n  \n  \n  \n  \n 
URL:https://urbancasual.ca/cochrane-event/live-music-saturdays-at-rocky-view-brewing-9-15-2-2/2025-08-02/
LOCATION:Rocky View Taproom\, 420 1st Street\, Cochrane\, AB
CATEGORIES:Business,Downtown,Entertainment & Games,Music,Pub/Bar Event,Restaurant
ATTACH;FMTTYPE=image/jpeg:https://urbancasual.ca/wp-content/uploads/2024/07/241712073_342240897364337_6168788210147837504_n-3.jpg
END:VEVENT
BEGIN:VEVENT
DTSTART;TZID=America/Edmonton:20250802T220000
DTEND;TZID=America/Edmonton:20250802T233000
DTSTAMP:20260419T134820
CREATED:20240917T161425Z
LAST-MODIFIED:20240917T161426Z
UID:10030919-1754172000-1754177400@urbancasual.ca
SUMMARY:The Rockyview Hotel - All Request DJ
DESCRIPTION:THE ROCKYVIEW HOTEL | EST’D IN 1904 – Celebrating 120 years in Historic Downtown. \n+ Dance the night away at the @texasgate.cochrane ! \n+ Tuesdays – learn to line dance\, 7pm\n+ Thursdays – karaoke\, 8pm\n+ Fridays / Saturdays – all request DJ\, 10pm +\n+ Sundays – All day free pool! \nTo book your stay & for more info: rockyviewhotel.ca \n  \n  \n  \n\n\n  \n\n\n\n\n\n\n\n\n\n\nView this post on Instagram\n\n\n\n\n\n\n\n\n\n\n\n\n\n\n\n\n\n\n\n\n\n\n  \nA post shared by Urban Casual Cochrane (@urbancasual.ca)
URL:https://urbancasual.ca/cochrane-event/the-rockyview-hotel-all-request-dj-2/2025-08-02/
LOCATION:Rockyview Hotel
CATEGORIES:Business,Downtown,Entertainment & Games,Pub/Bar Event,Restaurant
ATTACH;FMTTYPE=image/jpeg:https://urbancasual.ca/wp-content/uploads/2024/06/305308494_488593543275767_6866078460144404837_n.jpg
END:VEVENT
END:VCALENDAR