BEGIN:VCALENDAR
VERSION:2.0
PRODID:-//Urbancasual.ca - ECPv6.15.20//NONSGML v1.0//EN
CALSCALE:GREGORIAN
METHOD:PUBLISH
X-WR-CALNAME:Urbancasual.ca
X-ORIGINAL-URL:https://urbancasual.ca
X-WR-CALDESC:Events for Urbancasual.ca
REFRESH-INTERVAL;VALUE=DURATION:PT1H
X-Robots-Tag:noindex
X-PUBLISHED-TTL:PT1H
BEGIN:VTIMEZONE
TZID:America/Edmonton
BEGIN:DAYLIGHT
TZOFFSETFROM:-0700
TZOFFSETTO:-0600
TZNAME:MDT
DTSTART:20230312T090000
END:DAYLIGHT
BEGIN:STANDARD
TZOFFSETFROM:-0600
TZOFFSETTO:-0700
TZNAME:MST
DTSTART:20231105T080000
END:STANDARD
BEGIN:DAYLIGHT
TZOFFSETFROM:-0700
TZOFFSETTO:-0600
TZNAME:MDT
DTSTART:20240310T090000
END:DAYLIGHT
BEGIN:STANDARD
TZOFFSETFROM:-0600
TZOFFSETTO:-0700
TZNAME:MST
DTSTART:20241103T080000
END:STANDARD
BEGIN:DAYLIGHT
TZOFFSETFROM:-0700
TZOFFSETTO:-0600
TZNAME:MDT
DTSTART:20250309T090000
END:DAYLIGHT
BEGIN:STANDARD
TZOFFSETFROM:-0600
TZOFFSETTO:-0700
TZNAME:MST
DTSTART:20251102T080000
END:STANDARD
END:VTIMEZONE
BEGIN:VEVENT
DTSTART;TZID=America/Edmonton:20240921T090000
DTEND;TZID=America/Edmonton:20240921T110000
DTSTAMP:20260419T090118
CREATED:20240911T011206Z
LAST-MODIFIED:20240911T011344Z
UID:10035697-1726909200-1726916400@urbancasual.ca
SUMMARY:Silent Book Club
DESCRIPTION:Join us on September 21 at Found Books to connect with fellow readers and dedicate an hour to reading.\n\nFree registration at: https://buytickets.at/silentbookclubcochrane/1390865
URL:https://urbancasual.ca/cochrane-event/silent-book-club-3/
LOCATION:Found Book Shop\, 206 1st Street W\, Cochrane\, AB
CATEGORIES:Book Club,Community,Entertainment & Games,Learning
ATTACH;FMTTYPE=image/jpeg:https://urbancasual.ca/wp-content/uploads/2024/09/inbound1398335292214733026.jpg
END:VEVENT
BEGIN:VEVENT
DTSTART;TZID=America/Edmonton:20240921T100000
DTEND;TZID=America/Edmonton:20240921T140000
DTSTAMP:20260419T090118
CREATED:20240910T200650Z
LAST-MODIFIED:20240910T200650Z
UID:10035690-1726912800-1726927200@urbancasual.ca
SUMMARY:XC RACE SERIES - COCHRANE BMX
DESCRIPTION:Are you ready to kick off fall?! \nJoin us every Wednesday for some fun XC racing at Buffalo Bean! \nAre you and your family curious about BMX racing?! \nVisit @cochrane_bmx on Sept 21 to give it a try! \nSept 27 brings our first (and definitely not last) Dual Slalom race night!! \n  \n530pm to 7pm at Buffalo Bean – Timed XC rates for ages 7+ \n  \n  \n********************* \nSEPTEMBER 21ST – COCHRANE BMX TRY IT DAY \n10AM TO 12PM\, COCHRANE BMX TRACK \nOPEN TO ANY AGE \n  \n********************* \nSEPTEMBER 27TH – DUAL SLALOM RACE NIGHT + BBQ \n5PM – 7:30PM BUFFALO BEAN \n$5 CASH ENTRY FEE\, INCLUDES A HOT DOG AND DRINK \n  \n  \nPLEASE REGISTER: https://www.bikecochrane.com/events
URL:https://urbancasual.ca/cochrane-event/xc-race-series-cochrane-bmx/2024-09-21/
LOCATION:cochrane bmx
CATEGORIES:Bike Cochrane,Club,Community,Entertainment & Games,Family Friendly,Fitness,Parents & Caregivers
ATTACH;FMTTYPE=image/jpeg:https://urbancasual.ca/wp-content/uploads/2024/09/459219626_18242234305284359_7726850318286546567_n.jpg
END:VEVENT
BEGIN:VEVENT
DTSTART;TZID=America/Edmonton:20240921T110000
DTEND;TZID=America/Edmonton:20240921T120000
DTSTAMP:20260419T090118
CREATED:20240121T193907Z
LAST-MODIFIED:20240619T195906Z
UID:10022599-1726916400-1726920000@urbancasual.ca
SUMMARY:Let's Go Lego at the Cochrane Public Library
DESCRIPTION:Join us for our all-ages Let’s Go Lego drop-in\, where you can learn while having fun! We have lots of Lego Education and Steam sets and will be spending hands-on time letting our imaginations go wild! \nWe play on Saturdays between 11:00am and 12:00pm. \n\n 
URL:https://urbancasual.ca/cochrane-event/lets-go-lego-at-the-cochrane-public-library/2024-09-21/
LOCATION:Cochrane Public Library\, 405 Railway Street W\, Cochrane\, Alberta
CATEGORIES:Community,Downtown,Entertainment & Games,Family Friendly,Free,Library,Parents & Caregivers
ATTACH;FMTTYPE=image/jpeg:https://urbancasual.ca/wp-content/uploads/2024/01/Let-s-Go-LEGO.jpg
END:VEVENT
BEGIN:VEVENT
DTSTART;TZID=America/Edmonton:20240921T180000
DTEND;TZID=America/Edmonton:20240921T210000
DTSTAMP:20260419T090118
CREATED:20240917T193129Z
LAST-MODIFIED:20240917T193129Z
UID:10032297-1726941600-1726952400@urbancasual.ca
SUMMARY:LIVE music Saturdays at Rocky View Brewing
DESCRIPTION:Live music Saturdays on the patio (weather permitting) starting at 6pm. \n  \nSATURDAY\, SEPTEMBER 21ST – Grant Kannigan
URL:https://urbancasual.ca/cochrane-event/live-music-saturdays-at-rocky-view-brewing-9-9/
LOCATION:Rocky View Taproom\, 420 1st Street\, Cochrane\, AB
CATEGORIES:Business,Downtown,Entertainment & Games,Music,Pub/Bar Event,Restaurant
ATTACH;FMTTYPE=image/jpeg:https://urbancasual.ca/wp-content/uploads/2024/07/241712073_342240897364337_6168788210147837504_n-3.jpg
END:VEVENT
BEGIN:VEVENT
DTSTART;TZID=America/Edmonton:20240921T190000
DTEND;TZID=America/Edmonton:20240921T235900
DTSTAMP:20260419T090118
CREATED:20240823T173709Z
LAST-MODIFIED:20240823T175049Z
UID:10035562-1726945200-1726963140@urbancasual.ca
SUMMARY:Cochrane's Oktoberfest 2024
DESCRIPTION:PROST! Cochrane’s Annual Oktoberfest returns for 2024 celebrations on September 21st!\n\nJoin us at the Lion’s Event Centre for endless steins of craft beer\, live music\, and Bavarian snacks!\n\nGet ready for games\, prizes\, and dancing in your Oktoberfest best as Premium Akkord delivers a mix of traditional Oktoberfest tunes\, Schlager hits\, and contemporary pop-rock & country. Plus\, don’t miss the unforgettable Yodel Ladies making a special appearance. It’s the Oktoberfest you know and love—bigger and better than ever!\n\nAdmission is $30General admission includes entry\, entertainment & prizes\, with food and drinks available for purchase onsite.\nDoors at 7pm – Band starts at 8pmAGE 18+\nJoin us as we kick-off this awesome annual celebration! It’s going to be one hell of a good time\, ya!\n\nCochrane Lions Club Event Centre109 Fifth Avenue Cochrane\, AB T4C 0A4\n\nPurchase tickets here now:  https://www.eventbrite.ca/e/cochrane-oktoberfest-2024-tickets-1000351868367?aff=oddtdtcreator&fbclid=IwY2xjawE1p8NleHRuA2FlbQIxMAABHZOGP1hHosiaxXxAOGBsZJgMAAg8nvA8wZztLEkUhX5o3ibdCwkdLlVk2g_aem_C4LkNR8iXWZnn8taHoTi-g
URL:https://urbancasual.ca/cochrane-event/cochranes-oktoberfest-2024/
LOCATION:AB
CATEGORIES:Adults Only,Dance,Downtown,Entertainment & Games,Oktoberfest 2024,Pub/Bar Event
ATTACH;FMTTYPE=image/jpeg:https://urbancasual.ca/wp-content/uploads/2024/08/456325398_1036153991847363_7263978390188813061_n-1.jpg
END:VEVENT
BEGIN:VEVENT
DTSTART;TZID=America/Edmonton:20240921T203000
DTEND;TZID=America/Edmonton:20240921T235900
DTSTAMP:20260419T090118
CREATED:20240823T155727Z
LAST-MODIFIED:20240917T161400Z
UID:10035649-1726950600-1726963140@urbancasual.ca
SUMMARY:Live Music at the Venue
DESCRIPTION:SEPTEMBER 6 /7 – SIRENS’ GATE \nSEPTEMBER 13 / 14 – BLACK LIGHT \nSEPTEMBER 20 – SLACK ALICE \nSEPTEMBER 21 – ROCK BOTTOM \nSEPTEMBER 27 / 28 – JEFF CATTO \n 
URL:https://urbancasual.ca/cochrane-event/live-music-at-the-venue/2024-09-21/
LOCATION:Venue Bar & Grill\, 79 Railway St E\, Cochrane\, AB\, Canada
CATEGORIES:Downtown,Entertainment & Games,Music,Pub/Bar Event,Restaurant
ATTACH;FMTTYPE=image/jpeg:https://urbancasual.ca/wp-content/uploads/2024/08/458334436_17902049475019573_1136524907138365792_n.jpg
END:VEVENT
BEGIN:VEVENT
DTSTART;TZID=America/Edmonton:20240921T220000
DTEND;TZID=America/Edmonton:20240921T233000
DTSTAMP:20260419T090118
CREATED:20240917T161425Z
LAST-MODIFIED:20240917T161426Z
UID:10030829-1726956000-1726961400@urbancasual.ca
SUMMARY:The Rockyview Hotel - All Request DJ
DESCRIPTION:THE ROCKYVIEW HOTEL | EST’D IN 1904 – Celebrating 120 years in Historic Downtown. \n+ Dance the night away at the @texasgate.cochrane ! \n+ Tuesdays – learn to line dance\, 7pm\n+ Thursdays – karaoke\, 8pm\n+ Fridays / Saturdays – all request DJ\, 10pm +\n+ Sundays – All day free pool! \nTo book your stay & for more info: rockyviewhotel.ca \n  \n  \n  \n\n\n  \n\n\n\n\n\n\n\n\n\n\nView this post on Instagram\n\n\n\n\n\n\n\n\n\n\n\n\n\n\n\n\n\n\n\n\n\n\n  \nA post shared by Urban Casual Cochrane (@urbancasual.ca)
URL:https://urbancasual.ca/cochrane-event/the-rockyview-hotel-all-request-dj-2/2024-09-21/
LOCATION:Rockyview Hotel
CATEGORIES:Business,Downtown,Entertainment & Games,Pub/Bar Event,Restaurant
ATTACH;FMTTYPE=image/jpeg:https://urbancasual.ca/wp-content/uploads/2024/06/305308494_488593543275767_6866078460144404837_n.jpg
END:VEVENT
END:VCALENDAR