BEGIN:VCALENDAR
VERSION:2.0
PRODID:-//Urbancasual.ca - ECPv6.15.20//NONSGML v1.0//EN
CALSCALE:GREGORIAN
METHOD:PUBLISH
X-WR-CALNAME:Urbancasual.ca
X-ORIGINAL-URL:https://urbancasual.ca
X-WR-CALDESC:Events for Urbancasual.ca
REFRESH-INTERVAL;VALUE=DURATION:PT1H
X-Robots-Tag:noindex
X-PUBLISHED-TTL:PT1H
BEGIN:VTIMEZONE
TZID:America/Edmonton
BEGIN:DAYLIGHT
TZOFFSETFROM:-0700
TZOFFSETTO:-0600
TZNAME:MDT
DTSTART:20230312T090000
END:DAYLIGHT
BEGIN:STANDARD
TZOFFSETFROM:-0600
TZOFFSETTO:-0700
TZNAME:MST
DTSTART:20231105T080000
END:STANDARD
BEGIN:DAYLIGHT
TZOFFSETFROM:-0700
TZOFFSETTO:-0600
TZNAME:MDT
DTSTART:20240310T090000
END:DAYLIGHT
BEGIN:STANDARD
TZOFFSETFROM:-0600
TZOFFSETTO:-0700
TZNAME:MST
DTSTART:20241103T080000
END:STANDARD
BEGIN:DAYLIGHT
TZOFFSETFROM:-0700
TZOFFSETTO:-0600
TZNAME:MDT
DTSTART:20250309T090000
END:DAYLIGHT
BEGIN:STANDARD
TZOFFSETFROM:-0600
TZOFFSETTO:-0700
TZNAME:MST
DTSTART:20251102T080000
END:STANDARD
END:VTIMEZONE
BEGIN:VEVENT
DTSTART;TZID=America/Edmonton:20240920T160000
DTEND;TZID=America/Edmonton:20240920T173000
DTSTAMP:20260421T012613
CREATED:20240911T015708Z
LAST-MODIFIED:20240911T015708Z
UID:10036008-1726848000-1726853400@urbancasual.ca
SUMMARY:Games Afternoon at CPL
DESCRIPTION:Join us for an afternoon of games\, puzzles\, and more! All skill levels and ages are welcome. \n\nEvent dates\n\nEvery week on Friday ends on October 18\, 2024\, 4:00 p.m. – 5:30 p.m.\nEvery week on Friday ends on December 13\, 2024\, 4:00 p.m. – 5:30 p.m.
URL:https://urbancasual.ca/cochrane-event/games-afternoon-at-cpl/2024-09-20/
LOCATION:Cochrane Public Library\, 405 Railway Street W\, Cochrane\, Alberta
CATEGORIES:Entertainment & Games,Family Friendly,Free,Library,Parents & Caregivers
ATTACH;FMTTYPE=image/jpeg:https://urbancasual.ca/wp-content/uploads/2024/09/Games-Afternoon_ultrawide_1440.jpg
END:VEVENT
BEGIN:VEVENT
DTSTART;TZID=America/Edmonton:20240920T160000
DTEND;TZID=America/Edmonton:20240920T180000
DTSTAMP:20260421T012613
CREATED:20240106T194614Z
LAST-MODIFIED:20240106T194614Z
UID:10021562-1726848000-1726855200@urbancasual.ca
SUMMARY:Friending Fridays at the Taproom
DESCRIPTION:New in town? Looking to meet new people and make new friends?\n.\nJoin us every Friday from 4-6pm for FRIENDING FRIDAYS!\n.\n$20 Pitchers\nComplimentary Popcorn\nBuy a stranger a pint for 10% off\n\nJoin their Friending Fridays Facebook group HERE.
URL:https://urbancasual.ca/cochrane-event/friending-fridays-at-the-taproom/2024-09-20/
LOCATION:Rocky View Taproom\, 420 1st Street\, Cochrane\, AB
CATEGORIES:Club,Community,Downtown,Entertainment & Games,Food,Networking,Pub/Bar Event,Restaurant
ATTACH;FMTTYPE=image/jpeg:https://urbancasual.ca/wp-content/uploads/2024/01/417112676_958261299095624_2169347946227142531_n.jpg
END:VEVENT
BEGIN:VEVENT
DTSTART;TZID=America/Edmonton:20240920T170000
DTEND;TZID=America/Edmonton:20240920T210000
DTSTAMP:20260421T012613
CREATED:20240822T000757Z
LAST-MODIFIED:20240917T191635Z
UID:10035537-1726851600-1726866000@urbancasual.ca
SUMMARY:Autumn Evening Pop-Up Market
DESCRIPTION:VENDOR LIST  Come out this Friday for our Autumn Evening Pop-Up Market!\n\n\n\nEnjoy live music by Jeff Catto & a drink as you shop through the local vendors \n\n\n\nSept. 20th\, 5-9pm\n\nCochrane Lion’s Event Centre\n\n$2 entry\n\n\n\nVendors:\nDam Goat Soap\nHomemade by Kerr\nwoodworn_yyc\nArt cards by Allie\nThe Knitwitt\nArt by Jeannine\nWild Rose Gift Box Co\nAya Glam Boutique\nBack of the Spoon\nRobin’s Nest\nFifth Avenue Collection\nSuperior Health and Safety\nSnapitz\nTotally Hooked \nDesign66\nMemories of the Bay\nHerbal Infusion Made by Lena\nTHriv Apparel\nLeafFilter Gutter Protection
URL:https://urbancasual.ca/cochrane-event/autumn-evening-pop-up-market/
LOCATION:Cochrane Lions Club Event Centre\, 109 Fifth Avenue\, Cochrane\, Alberta\, T4C 0A4\, Canada
CATEGORIES:Community,Entertainment & Games,Market
ATTACH;FMTTYPE=image/jpeg:https://urbancasual.ca/wp-content/uploads/2024/08/Fall-Market-2024.jpg
ORGANIZER;CN="Quirk Social":MAILTO:hello@quirksocial.ca
END:VEVENT
BEGIN:VEVENT
DTSTART;TZID=America/Edmonton:20240920T190000
DTEND;TZID=America/Edmonton:20240920T210000
DTSTAMP:20260421T012613
CREATED:20240911T020927Z
LAST-MODIFIED:20240911T020927Z
UID:10036021-1726858800-1726866000@urbancasual.ca
SUMMARY:A Night with the Stars at CPL
DESCRIPTION:The Calgary Centre of the Royal Astronomical Society of Canada will be bringing the stars and more back to Cochrane! Join us for informative presentations on the wonders of the night sky\, including solar & nighttime telescope viewing. Travel through space and explore the stars with the indoor planetarium and take part in activities that are out of this world! \nDress for the weather as part of this program will take place outdoors. \nIn partnership with The Royal Astronomical Society of Canada – Calgary Centre.
URL:https://urbancasual.ca/cochrane-event/a-night-with-the-stars-at-cpl/
LOCATION:Cochrane Public Library\, 405 Railway Street W\, Cochrane\, Alberta
CATEGORIES:Entertainment & Games,Family Friendly,Learning,Library
ATTACH;FMTTYPE=image/jpeg:https://urbancasual.ca/wp-content/uploads/2024/09/A-Night-with-the-Stars_ultrawide_1440.jpg
END:VEVENT
BEGIN:VEVENT
DTSTART;TZID=America/Edmonton:20240920T203000
DTEND;TZID=America/Edmonton:20240920T235900
DTSTAMP:20260421T012613
CREATED:20240823T155727Z
LAST-MODIFIED:20240917T161400Z
UID:10035648-1726864200-1726876740@urbancasual.ca
SUMMARY:Live Music at the Venue
DESCRIPTION:SEPTEMBER 6 /7 – SIRENS’ GATE \nSEPTEMBER 13 / 14 – BLACK LIGHT \nSEPTEMBER 20 – SLACK ALICE \nSEPTEMBER 21 – ROCK BOTTOM \nSEPTEMBER 27 / 28 – JEFF CATTO \n 
URL:https://urbancasual.ca/cochrane-event/live-music-at-the-venue/2024-09-20/
LOCATION:Venue Bar & Grill\, 79 Railway St E\, Cochrane\, AB\, Canada
CATEGORIES:Downtown,Entertainment & Games,Music,Pub/Bar Event,Restaurant
ATTACH;FMTTYPE=image/jpeg:https://urbancasual.ca/wp-content/uploads/2024/08/458334436_17902049475019573_1136524907138365792_n.jpg
END:VEVENT
BEGIN:VEVENT
DTSTART;TZID=America/Edmonton:20240920T220000
DTEND;TZID=America/Edmonton:20240920T233000
DTSTAMP:20260421T012613
CREATED:20240917T161425Z
LAST-MODIFIED:20240917T161426Z
UID:10030828-1726869600-1726875000@urbancasual.ca
SUMMARY:The Rockyview Hotel - All Request DJ
DESCRIPTION:THE ROCKYVIEW HOTEL | EST’D IN 1904 – Celebrating 120 years in Historic Downtown. \n+ Dance the night away at the @texasgate.cochrane ! \n+ Tuesdays – learn to line dance\, 7pm\n+ Thursdays – karaoke\, 8pm\n+ Fridays / Saturdays – all request DJ\, 10pm +\n+ Sundays – All day free pool! \nTo book your stay & for more info: rockyviewhotel.ca \n  \n  \n  \n\n\n  \n\n\n\n\n\n\n\n\n\n\nView this post on Instagram\n\n\n\n\n\n\n\n\n\n\n\n\n\n\n\n\n\n\n\n\n\n\n  \nA post shared by Urban Casual Cochrane (@urbancasual.ca)
URL:https://urbancasual.ca/cochrane-event/the-rockyview-hotel-all-request-dj-2/2024-09-20/
LOCATION:Rockyview Hotel
CATEGORIES:Business,Downtown,Entertainment & Games,Pub/Bar Event,Restaurant
ATTACH;FMTTYPE=image/jpeg:https://urbancasual.ca/wp-content/uploads/2024/06/305308494_488593543275767_6866078460144404837_n.jpg
END:VEVENT
END:VCALENDAR