BEGIN:VCALENDAR
VERSION:2.0
PRODID:-//Urbancasual.ca - ECPv6.15.20//NONSGML v1.0//EN
CALSCALE:GREGORIAN
METHOD:PUBLISH
X-WR-CALNAME:Urbancasual.ca
X-ORIGINAL-URL:https://urbancasual.ca
X-WR-CALDESC:Events for Urbancasual.ca
REFRESH-INTERVAL;VALUE=DURATION:PT1H
X-Robots-Tag:noindex
X-PUBLISHED-TTL:PT1H
BEGIN:VTIMEZONE
TZID:America/Edmonton
BEGIN:DAYLIGHT
TZOFFSETFROM:-0700
TZOFFSETTO:-0600
TZNAME:MDT
DTSTART:20240310T090000
END:DAYLIGHT
BEGIN:STANDARD
TZOFFSETFROM:-0600
TZOFFSETTO:-0700
TZNAME:MST
DTSTART:20241103T080000
END:STANDARD
BEGIN:DAYLIGHT
TZOFFSETFROM:-0700
TZOFFSETTO:-0600
TZNAME:MDT
DTSTART:20250309T090000
END:DAYLIGHT
BEGIN:STANDARD
TZOFFSETFROM:-0600
TZOFFSETTO:-0700
TZNAME:MST
DTSTART:20251102T080000
END:STANDARD
BEGIN:DAYLIGHT
TZOFFSETFROM:-0700
TZOFFSETTO:-0600
TZNAME:MDT
DTSTART:20260308T090000
END:DAYLIGHT
BEGIN:STANDARD
TZOFFSETFROM:-0600
TZOFFSETTO:-0700
TZNAME:MST
DTSTART:20261101T080000
END:STANDARD
END:VTIMEZONE
BEGIN:VEVENT
DTSTART;TZID=America/Edmonton:20251021T070000
DTEND;TZID=America/Edmonton:20251021T090000
DTSTAMP:20260424T044613
CREATED:20251006T223007Z
LAST-MODIFIED:20251006T223007Z
UID:10050576-1761030000-1761037200@urbancasual.ca
SUMMARY:FOUNDERS COFFEE
DESCRIPTION:Join us for a morning of networking at our FOUNDERS COFFEE event on the 1st and 3rd Tuesday of the month at SUNNY SIDE UP in Cochrane\, at 7am. This event is free\, but you buy your own breakfast or coffee. \nDates: The 1st and 3rd Tuesday of each month \nTime: 7am to 9am \nWhere: SUNNY SIDE UP COCHRANE\, 205 1st Street W. in Cochrane\, AB \n*just show up!
URL:https://urbancasual.ca/cochrane-event/founders-coffee-4/2025-10-21/
LOCATION:Alberta
CATEGORIES:Business,Community,Employment,Networking
ATTACH;FMTTYPE=image/webp:https://urbancasual.ca/wp-content/uploads/2025/10/ICFOUNDERS1640X850.webp
END:VEVENT
BEGIN:VEVENT
DTSTART;TZID=America/Edmonton:20251024T170000
DTEND;TZID=America/Edmonton:20251024T220000
DTSTAMP:20260424T044613
CREATED:20250715T001243Z
LAST-MODIFIED:20250904T233052Z
UID:10049662-1761325200-1761343200@urbancasual.ca
SUMMARY:Business Excellence Awards
DESCRIPTION:A celebration of local entrepreneurship\, innovation\, and community spirit! \nThis annual event recognizes the outstanding achievements of Cochrane’s small businesses and brings together entrepreneurs\, community leaders\, and industry professionals. It’s a fantastic opportunity to network\, support local success\, and highlight the vital role small businesses play in our economy. \nDon’t forget to nominate your favourite businesses and help us shine a spotlight on those making a big impact in our community. \nSponsorship opportunities are also available for those looking to show their support and gain valuable exposure.
URL:https://urbancasual.ca/cochrane-event/business-excellence-awards/
LOCATION:Alberta
CATEGORIES:Business,Employment
ATTACH;FMTTYPE=image/jpeg:https://urbancasual.ca/wp-content/uploads/2025/07/517124224_741950251859722_866012525080805802_n-1.jpg
END:VEVENT
END:VCALENDAR