BEGIN:VCALENDAR
VERSION:2.0
PRODID:-//Urbancasual.ca - ECPv6.15.20//NONSGML v1.0//EN
CALSCALE:GREGORIAN
METHOD:PUBLISH
X-WR-CALNAME:Urbancasual.ca
X-ORIGINAL-URL:https://urbancasual.ca
X-WR-CALDESC:Events for Urbancasual.ca
REFRESH-INTERVAL;VALUE=DURATION:PT1H
X-Robots-Tag:noindex
X-PUBLISHED-TTL:PT1H
BEGIN:VTIMEZONE
TZID:America/Edmonton
BEGIN:DAYLIGHT
TZOFFSETFROM:-0700
TZOFFSETTO:-0600
TZNAME:MDT
DTSTART:20240310T090000
END:DAYLIGHT
BEGIN:STANDARD
TZOFFSETFROM:-0600
TZOFFSETTO:-0700
TZNAME:MST
DTSTART:20241103T080000
END:STANDARD
BEGIN:DAYLIGHT
TZOFFSETFROM:-0700
TZOFFSETTO:-0600
TZNAME:MDT
DTSTART:20250309T090000
END:DAYLIGHT
BEGIN:STANDARD
TZOFFSETFROM:-0600
TZOFFSETTO:-0700
TZNAME:MST
DTSTART:20251102T080000
END:STANDARD
BEGIN:DAYLIGHT
TZOFFSETFROM:-0700
TZOFFSETTO:-0600
TZNAME:MDT
DTSTART:20260308T090000
END:DAYLIGHT
BEGIN:STANDARD
TZOFFSETFROM:-0600
TZOFFSETTO:-0700
TZNAME:MST
DTSTART:20261101T080000
END:STANDARD
END:VTIMEZONE
BEGIN:VEVENT
DTSTART;TZID=America/Edmonton:20250907T100000
DTEND;TZID=America/Edmonton:20250907T150000
DTSTAMP:20260421T164140
CREATED:20250904T173411Z
LAST-MODIFIED:20250904T173804Z
UID:10050319-1757239200-1757257200@urbancasual.ca
SUMMARY:FALL COLOURS SHOW & SHINE
DESCRIPTION:Cochrane Classic Car Club Fall Colours Show and Shine.\n\nSunday\, September 7th\, 2025. Gates open at 8:00am.\n\nShow starts at 10:00am to 3:00pm.\n\nMain Entrance is 1st Street (Main) and 1st Avenue only\, all other entrances will be closed with barricades.
URL:https://urbancasual.ca/cochrane-event/fall-colours-show-shine/
CATEGORIES:AUTO SHOW,Club,Community,Downtown,Entertainment & Games,Family Friendly,Free
ATTACH;FMTTYPE=image/jpeg:https://urbancasual.ca/wp-content/uploads/2025/09/540943029_742663868526485_393380219379021932_n.jpg
END:VEVENT
END:VCALENDAR