BEGIN:VCALENDAR
VERSION:2.0
PRODID:-//Urbancasual.ca - ECPv6.15.20//NONSGML v1.0//EN
CALSCALE:GREGORIAN
METHOD:PUBLISH
X-ORIGINAL-URL:https://urbancasual.ca
X-WR-CALDESC:Events for Urbancasual.ca
REFRESH-INTERVAL;VALUE=DURATION:PT1H
X-Robots-Tag:noindex
X-PUBLISHED-TTL:PT1H
BEGIN:VTIMEZONE
TZID:America/Edmonton
BEGIN:DAYLIGHT
TZOFFSETFROM:-0700
TZOFFSETTO:-0600
TZNAME:MDT
DTSTART:20260308T090000
END:DAYLIGHT
BEGIN:STANDARD
TZOFFSETFROM:-0600
TZOFFSETTO:-0700
TZNAME:MST
DTSTART:20261101T080000
END:STANDARD
BEGIN:DAYLIGHT
TZOFFSETFROM:-0700
TZOFFSETTO:-0600
TZNAME:MDT
DTSTART:20270314T090000
END:DAYLIGHT
BEGIN:STANDARD
TZOFFSETFROM:-0600
TZOFFSETTO:-0700
TZNAME:MST
DTSTART:20271107T080000
END:STANDARD
BEGIN:DAYLIGHT
TZOFFSETFROM:-0700
TZOFFSETTO:-0600
TZNAME:MDT
DTSTART:20280312T090000
END:DAYLIGHT
BEGIN:STANDARD
TZOFFSETFROM:-0600
TZOFFSETTO:-0700
TZNAME:MST
DTSTART:20281105T080000
END:STANDARD
END:VTIMEZONE
BEGIN:VEVENT
DTSTART;TZID=America/Edmonton:20270306T130000
DTEND;TZID=America/Edmonton:20270306T170000
DTSTAMP:20260423T173012
CREATED:20250123T184432Z
LAST-MODIFIED:20250123T184432Z
UID:10044274-1804338000-1804352400@urbancasual.ca
SUMMARY:Saturday Meat Draws at the Legion
DESCRIPTION:Come out and try your luck at winning one or more of our 16 weekly food and/or gift card prizes \nCheck out our website for other events: www.cochranelegion.ca\nFollow us on Facebook: Cochrane Legion\, Men of Vision\, Branch 15
URL:https://urbancasual.ca/cochrane-event/saturday-meat-draws-at-the-legion/2027-03-06/
LOCATION:Cochrane Legion\, 114 5th Ave\, Cochrane\, Alberta\, T4C 1A5\, Canada
CATEGORIES:Community,Dance
ATTACH;FMTTYPE=image/jpeg:https://urbancasual.ca/wp-content/uploads/2025/01/53.jpg
END:VEVENT
BEGIN:VEVENT
DTSTART;TZID=America/Edmonton:20270313T130000
DTEND;TZID=America/Edmonton:20270313T170000
DTSTAMP:20260423T173012
CREATED:20250123T184432Z
LAST-MODIFIED:20250123T184432Z
UID:10044275-1804942800-1804957200@urbancasual.ca
SUMMARY:Saturday Meat Draws at the Legion
DESCRIPTION:Come out and try your luck at winning one or more of our 16 weekly food and/or gift card prizes \nCheck out our website for other events: www.cochranelegion.ca\nFollow us on Facebook: Cochrane Legion\, Men of Vision\, Branch 15
URL:https://urbancasual.ca/cochrane-event/saturday-meat-draws-at-the-legion/2027-03-13/
LOCATION:Cochrane Legion\, 114 5th Ave\, Cochrane\, Alberta\, T4C 1A5\, Canada
CATEGORIES:Community,Dance
ATTACH;FMTTYPE=image/jpeg:https://urbancasual.ca/wp-content/uploads/2025/01/53.jpg
END:VEVENT
BEGIN:VEVENT
DTSTART;TZID=America/Edmonton:20270320T130000
DTEND;TZID=America/Edmonton:20270320T170000
DTSTAMP:20260423T173012
CREATED:20250123T184432Z
LAST-MODIFIED:20250123T184432Z
UID:10044276-1805547600-1805562000@urbancasual.ca
SUMMARY:Saturday Meat Draws at the Legion
DESCRIPTION:Come out and try your luck at winning one or more of our 16 weekly food and/or gift card prizes \nCheck out our website for other events: www.cochranelegion.ca\nFollow us on Facebook: Cochrane Legion\, Men of Vision\, Branch 15
URL:https://urbancasual.ca/cochrane-event/saturday-meat-draws-at-the-legion/2027-03-20/
LOCATION:Cochrane Legion\, 114 5th Ave\, Cochrane\, Alberta\, T4C 1A5\, Canada
CATEGORIES:Community,Dance
ATTACH;FMTTYPE=image/jpeg:https://urbancasual.ca/wp-content/uploads/2025/01/53.jpg
END:VEVENT
BEGIN:VEVENT
DTSTART;TZID=America/Edmonton:20270327T130000
DTEND;TZID=America/Edmonton:20270327T170000
DTSTAMP:20260423T173012
CREATED:20250123T184432Z
LAST-MODIFIED:20250123T184432Z
UID:10044277-1806152400-1806166800@urbancasual.ca
SUMMARY:Saturday Meat Draws at the Legion
DESCRIPTION:Come out and try your luck at winning one or more of our 16 weekly food and/or gift card prizes \nCheck out our website for other events: www.cochranelegion.ca\nFollow us on Facebook: Cochrane Legion\, Men of Vision\, Branch 15
URL:https://urbancasual.ca/cochrane-event/saturday-meat-draws-at-the-legion/2027-03-27/
LOCATION:Cochrane Legion\, 114 5th Ave\, Cochrane\, Alberta\, T4C 1A5\, Canada
CATEGORIES:Community,Dance
ATTACH;FMTTYPE=image/jpeg:https://urbancasual.ca/wp-content/uploads/2025/01/53.jpg
END:VEVENT
END:VCALENDAR