BEGIN:VCALENDAR
VERSION:2.0
PRODID:-//Urbancasual.ca - ECPv6.15.20//NONSGML v1.0//EN
CALSCALE:GREGORIAN
METHOD:PUBLISH
X-ORIGINAL-URL:https://urbancasual.ca
X-WR-CALDESC:Events for Urbancasual.ca
REFRESH-INTERVAL;VALUE=DURATION:PT1H
X-Robots-Tag:noindex
X-PUBLISHED-TTL:PT1H
BEGIN:VTIMEZONE
TZID:America/Edmonton
BEGIN:DAYLIGHT
TZOFFSETFROM:-0700
TZOFFSETTO:-0600
TZNAME:MDT
DTSTART:20240310T090000
END:DAYLIGHT
BEGIN:STANDARD
TZOFFSETFROM:-0600
TZOFFSETTO:-0700
TZNAME:MST
DTSTART:20241103T080000
END:STANDARD
BEGIN:DAYLIGHT
TZOFFSETFROM:-0700
TZOFFSETTO:-0600
TZNAME:MDT
DTSTART:20250309T090000
END:DAYLIGHT
BEGIN:STANDARD
TZOFFSETFROM:-0600
TZOFFSETTO:-0700
TZNAME:MST
DTSTART:20251102T080000
END:STANDARD
BEGIN:DAYLIGHT
TZOFFSETFROM:-0700
TZOFFSETTO:-0600
TZNAME:MDT
DTSTART:20260308T090000
END:DAYLIGHT
BEGIN:STANDARD
TZOFFSETFROM:-0600
TZOFFSETTO:-0700
TZNAME:MST
DTSTART:20261101T080000
END:STANDARD
END:VTIMEZONE
BEGIN:VEVENT
DTSTART;TZID=America/Edmonton:20251128T190000
DTEND;TZID=America/Edmonton:20251128T210000
DTSTAMP:20260420T013649
CREATED:20251119T224056Z
LAST-MODIFIED:20251119T224056Z
UID:10051222-1764356400-1764363600@urbancasual.ca
SUMMARY:GOLDILOCKS - PANTOMIME
DESCRIPTION:Join Goldilocks and her family as they work together with three bears to stop the Squire’s evil plan! \nA silly\, topsy-turvy re-telling of the classic story that the whole family will enjoy! \nWritten by Ron Hall and Directed by Anita McDonald
URL:https://urbancasual.ca/cochrane-event/goldilocks-pantomime/2025-11-28/
LOCATION:Alberta
CATEGORIES:Community,Culture,Entertainment & Games,Family Friendly,Theatre
ATTACH;FMTTYPE=image/webp:https://urbancasual.ca/wp-content/uploads/2025/11/3dae99a8-e72.webp
END:VEVENT
BEGIN:VEVENT
DTSTART;TZID=America/Edmonton:20251129T140000
DTEND;TZID=America/Edmonton:20251129T160000
DTSTAMP:20260420T013649
CREATED:20251119T224056Z
LAST-MODIFIED:20251119T224056Z
UID:10051223-1764424800-1764432000@urbancasual.ca
SUMMARY:GOLDILOCKS - PANTOMIME
DESCRIPTION:Join Goldilocks and her family as they work together with three bears to stop the Squire’s evil plan! \nA silly\, topsy-turvy re-telling of the classic story that the whole family will enjoy! \nWritten by Ron Hall and Directed by Anita McDonald
URL:https://urbancasual.ca/cochrane-event/goldilocks-pantomime/2025-11-29/
LOCATION:Alberta
CATEGORIES:Community,Culture,Entertainment & Games,Family Friendly,Theatre
ATTACH;FMTTYPE=image/webp:https://urbancasual.ca/wp-content/uploads/2025/11/3dae99a8-e72.webp
END:VEVENT
BEGIN:VEVENT
DTSTART;TZID=America/Edmonton:20251130T140000
DTEND;TZID=America/Edmonton:20251130T160000
DTSTAMP:20260420T013649
CREATED:20251119T224056Z
LAST-MODIFIED:20251119T224056Z
UID:10051224-1764511200-1764518400@urbancasual.ca
SUMMARY:GOLDILOCKS - PANTOMIME
DESCRIPTION:Join Goldilocks and her family as they work together with three bears to stop the Squire’s evil plan! \nA silly\, topsy-turvy re-telling of the classic story that the whole family will enjoy! \nWritten by Ron Hall and Directed by Anita McDonald
URL:https://urbancasual.ca/cochrane-event/goldilocks-pantomime/2025-11-30/
LOCATION:Alberta
CATEGORIES:Community,Culture,Entertainment & Games,Family Friendly,Theatre
ATTACH;FMTTYPE=image/webp:https://urbancasual.ca/wp-content/uploads/2025/11/3dae99a8-e72.webp
END:VEVENT
END:VCALENDAR