BEGIN:VCALENDAR
VERSION:2.0
PRODID:-//Urbancasual.ca - ECPv6.15.20//NONSGML v1.0//EN
CALSCALE:GREGORIAN
METHOD:PUBLISH
X-WR-CALNAME:Urbancasual.ca
X-ORIGINAL-URL:https://urbancasual.ca
X-WR-CALDESC:Events for Urbancasual.ca
REFRESH-INTERVAL;VALUE=DURATION:PT1H
X-Robots-Tag:noindex
X-PUBLISHED-TTL:PT1H
BEGIN:VTIMEZONE
TZID:America/Edmonton
BEGIN:DAYLIGHT
TZOFFSETFROM:-0700
TZOFFSETTO:-0600
TZNAME:MDT
DTSTART:20250309T090000
END:DAYLIGHT
BEGIN:STANDARD
TZOFFSETFROM:-0600
TZOFFSETTO:-0700
TZNAME:MST
DTSTART:20251102T080000
END:STANDARD
BEGIN:DAYLIGHT
TZOFFSETFROM:-0700
TZOFFSETTO:-0600
TZNAME:MDT
DTSTART:20260308T090000
END:DAYLIGHT
BEGIN:STANDARD
TZOFFSETFROM:-0600
TZOFFSETTO:-0700
TZNAME:MST
DTSTART:20261101T080000
END:STANDARD
BEGIN:DAYLIGHT
TZOFFSETFROM:-0700
TZOFFSETTO:-0600
TZNAME:MDT
DTSTART:20270314T090000
END:DAYLIGHT
BEGIN:STANDARD
TZOFFSETFROM:-0600
TZOFFSETTO:-0700
TZNAME:MST
DTSTART:20271107T080000
END:STANDARD
END:VTIMEZONE
BEGIN:VEVENT
DTSTART;TZID=America/Edmonton:20260326T140000
DTEND;TZID=America/Edmonton:20260326T170000
DTSTAMP:20260425T042816
CREATED:20260319T223843Z
LAST-MODIFIED:20260319T223859Z
UID:10057506-1774533600-1774544400@urbancasual.ca
SUMMARY:CULTURAL COOKING WITHOUT BORDERS
DESCRIPTION:The Newcomer Safe Space Program invites you to Cultural Cooking Without Borders! Bringing cultures together one dish at a time! \nStep into a hands-on cultural experience where Theresa Valerie Amuzu will guide you through preparing traditional Ghanaian dishes. Cook side by side\, learn new skills\, and enjoy the meal together! \nJoin us as we explore the rich flavors of Ghana with Gobe (beans) served with Tatale (plantain) and fried mackerel. \n📅 Thursday\, March 26 from 2pm to 5pm\n📍 Frank Wills Hall\, 405 1st E\, Cochrane \nIn partnership with Two Pharmacy\, Rotary Club of Cochrane\, Frank Wills Community Hall\, Rocky View Immigrant Services and the Government of Alberta \n📧 To register\, please email cisccochrane@gmail.com\n📞 Or call 587-582-1771
URL:https://urbancasual.ca/cochrane-event/cultural-cooking-without-borders-march/
LOCATION:Frank Wills Memorial Hall\, 405 1st Street E\, Cochrane\, Alberta
CATEGORIES:cooking,Culture,Frank Wills Memorial Hall,Learning
ATTACH;FMTTYPE=image/jpeg:https://urbancasual.ca/wp-content/uploads/2026/03/inbound6875426911612889587.jpg
END:VEVENT
BEGIN:VEVENT
DTSTART;TZID=America/Edmonton:20260421T190000
DTEND;TZID=America/Edmonton:20260421T210000
DTSTAMP:20260425T042816
CREATED:20260107T214734Z
LAST-MODIFIED:20260107T214734Z
UID:10053446-1776798000-1776805200@urbancasual.ca
SUMMARY:JAM & DRAW MIXER AT FOUND
DESCRIPTION:A welcoming space for musicians and artists at any skill level; play non-stop music with each other in an open circle\, “living room” setting! If you don’t play\, we will have a variety of art supplies available. \nThis space offers a chance to jam with friends and meet new people in your community. All instruments & genres (even spoken word/emcees) are welcome. This is a queer-friendly space. \nCover by donation: RSVP HERE
URL:https://urbancasual.ca/cochrane-event/jam-draw-mixer-at-found/2026-04-21/
LOCATION:Found Book Shop\, 206 1st Street W\, Cochrane\, AB
CATEGORIES:Business,Community,Crafts,Culture,Entertainment & Games,Karaoke,Learning,Music,Networking,OPEN MIC,Pub/Bar Event
ATTACH;FMTTYPE=image/jpeg:https://urbancasual.ca/wp-content/uploads/2026/01/608858685_1466878862106263_800200169564951520_n.jpg
END:VEVENT
BEGIN:VEVENT
DTSTART;TZID=America/Edmonton:20260423T140000
DTEND;TZID=America/Edmonton:20260423T170000
DTSTAMP:20260425T042816
CREATED:20260421T223407Z
LAST-MODIFIED:20260421T223524Z
UID:10059318-1776952800-1776963600@urbancasual.ca
SUMMARY:Cultural Cooking without Borders
DESCRIPTION:Join us for a special afternoon of connection\, culture\, and delicious food at our Cultural Cooking Without Borders event.\n\n\n\nThis edition celebrates Brazil through one of its most beloved comfort dishes\, Arroz de Carreteiro (Trucker’s Rice). More than just a meal\, this dish carries stories\, traditions\, and the spirit of sharing around the table. Our guest chef for the day\, Fernando Battistella\, will guide participants through this flavorful experience.\n\n\n\nThe event will take place on Thursday\, April 23\, from 2:00 to 5:00 pm at the Frank Wills Hall Kitchen\, located at 405 1 St E\, Cochrane.\n\n\n\nHosted as part of the Newcomer Safe Space Program\, this gathering is all about bringing people together\, creating meaningful connections\, and celebrating the diversity that strengthens our community.\n\n\n\nWhether you come for the food\, the stories\, or the chance to meet new people\, you will be welcomed into a space where cultures meet and friendships begin.\n\n\n\nWe would also like to extend our sincere thanks to our sponsors and partners for making this event possible: Samba Brazilian Market\, Guatimi Specialty Coffee\, Frank Wills Community Hall\, Rotary Club of Cochrane\, Two Pharmacy\, Rocky View Immigrant Services\, and the Government of Alberta.\n\n\n\nCome cook\, taste\, and connect. One dish at a time.\n\n\nTo register\, please email cisccochrane@gmail.com or call 587-582-1771.\n\n\nWe look forward to sharing this experience with you
URL:https://urbancasual.ca/cochrane-event/cultural-cooking-without-borders-april/
LOCATION:Frank Wills Memorial Hall\, 405 1st Street E\, Cochrane\, Alberta
CATEGORIES:Club,Community,cooking,Culture,Frank Wills Memorial Hall,Newcomers
ATTACH;FMTTYPE=image/jpeg:https://urbancasual.ca/wp-content/uploads/2026/04/inbound9073478321329221588.jpg
END:VEVENT
BEGIN:VEVENT
DTSTART;TZID=America/Edmonton:20260519T190000
DTEND;TZID=America/Edmonton:20260519T210000
DTSTAMP:20260425T042816
CREATED:20260107T214734Z
LAST-MODIFIED:20260107T214734Z
UID:10053447-1779217200-1779224400@urbancasual.ca
SUMMARY:JAM & DRAW MIXER AT FOUND
DESCRIPTION:A welcoming space for musicians and artists at any skill level; play non-stop music with each other in an open circle\, “living room” setting! If you don’t play\, we will have a variety of art supplies available. \nThis space offers a chance to jam with friends and meet new people in your community. All instruments & genres (even spoken word/emcees) are welcome. This is a queer-friendly space. \nCover by donation: RSVP HERE
URL:https://urbancasual.ca/cochrane-event/jam-draw-mixer-at-found/2026-05-19/
LOCATION:Found Book Shop\, 206 1st Street W\, Cochrane\, AB
CATEGORIES:Business,Community,Crafts,Culture,Entertainment & Games,Karaoke,Learning,Music,Networking,OPEN MIC,Pub/Bar Event
ATTACH;FMTTYPE=image/jpeg:https://urbancasual.ca/wp-content/uploads/2026/01/608858685_1466878862106263_800200169564951520_n.jpg
END:VEVENT
BEGIN:VEVENT
DTSTART;TZID=America/Edmonton:20260616T190000
DTEND;TZID=America/Edmonton:20260616T210000
DTSTAMP:20260425T042816
CREATED:20260107T214734Z
LAST-MODIFIED:20260107T214734Z
UID:10053448-1781636400-1781643600@urbancasual.ca
SUMMARY:JAM & DRAW MIXER AT FOUND
DESCRIPTION:A welcoming space for musicians and artists at any skill level; play non-stop music with each other in an open circle\, “living room” setting! If you don’t play\, we will have a variety of art supplies available. \nThis space offers a chance to jam with friends and meet new people in your community. All instruments & genres (even spoken word/emcees) are welcome. This is a queer-friendly space. \nCover by donation: RSVP HERE
URL:https://urbancasual.ca/cochrane-event/jam-draw-mixer-at-found/2026-06-16/
LOCATION:Found Book Shop\, 206 1st Street W\, Cochrane\, AB
CATEGORIES:Business,Community,Crafts,Culture,Entertainment & Games,Karaoke,Learning,Music,Networking,OPEN MIC,Pub/Bar Event
ATTACH;FMTTYPE=image/jpeg:https://urbancasual.ca/wp-content/uploads/2026/01/608858685_1466878862106263_800200169564951520_n.jpg
END:VEVENT
BEGIN:VEVENT
DTSTART;VALUE=DATE:20260703
DTEND;VALUE=DATE:20260707
DTSTAMP:20260425T042816
CREATED:20260113T210357Z
LAST-MODIFIED:20260122T011132Z
UID:10053993-1783047600-1783306799@urbancasual.ca
SUMMARY:Western Canadian Pony Classic
DESCRIPTION: SAVE THE DATE \n2026 WESTERN CANADIAN PONY CLASSIC \n\nJuly 3rd – 5th\, 2026 • Cochrane\, Alberta\n\nGet ready\, pony enthusiasts — we’re back for 2026!\n\nThe Western Canadian Pony Classic returns July 3rd–5th\, 2026 in beautiful Cochrane\, Alberta. Join us for three days of competition\, community\, and celebration of ponies of all kinds!\n\nThis multi-discipline show offers something for everyone\, including:\n• Pony Hunter Breeding• Welsh Breed Classes• Sport Pony Classes• Hunters• Jumpers• Dressage• Driving• Trail• English Flat Classes• Fun & Games• And more!\n\nThe Western Canadian Pony Classic is open to both junior and adult competitors\, and ponies of all types.\n\n\n\nWHO CAN ENTER?\n\n\n\n\n\nThe Western Canadian Pony Classic is open to all ponies (14.2 hh and under)\, regardless of breed — with a few exceptions for specific awards and breed classes: \n\nMost classes are open to all ponies – registered and grade alike\nWe also have a small horse dressage division\nWelsh classes require Welsh registration papers (except pending foals of the current year)\nTo be eligible for breed-specific High Point Awards\, ponies must be registered with their breed association\nAll ponies are eligible for the Overall High Point Awards\n\nWe welcome all pony breeds and types in our open divisions — whether you show a registered purebred or a beloved backyard pony\, you’re welcome here! \n\n\n\nwww.poshalta.com
URL:https://urbancasual.ca/cochrane-event/western-canadian-pony-classic/
LOCATION:Cochrane AG Society Grounds
CATEGORIES:Animals,Culture,Entertainment & Games,Family Friendly,Sports
ATTACH;FMTTYPE=image/jpeg:https://urbancasual.ca/wp-content/uploads/2026/01/600325359_122167650512747227_6197554491438435125_n.jpg
END:VEVENT
BEGIN:VEVENT
DTSTART;TZID=America/Edmonton:20260721T190000
DTEND;TZID=America/Edmonton:20260721T210000
DTSTAMP:20260425T042816
CREATED:20260107T214734Z
LAST-MODIFIED:20260107T214734Z
UID:10053449-1784660400-1784667600@urbancasual.ca
SUMMARY:JAM & DRAW MIXER AT FOUND
DESCRIPTION:A welcoming space for musicians and artists at any skill level; play non-stop music with each other in an open circle\, “living room” setting! If you don’t play\, we will have a variety of art supplies available. \nThis space offers a chance to jam with friends and meet new people in your community. All instruments & genres (even spoken word/emcees) are welcome. This is a queer-friendly space. \nCover by donation: RSVP HERE
URL:https://urbancasual.ca/cochrane-event/jam-draw-mixer-at-found/2026-07-21/
LOCATION:Found Book Shop\, 206 1st Street W\, Cochrane\, AB
CATEGORIES:Business,Community,Crafts,Culture,Entertainment & Games,Karaoke,Learning,Music,Networking,OPEN MIC,Pub/Bar Event
ATTACH;FMTTYPE=image/jpeg:https://urbancasual.ca/wp-content/uploads/2026/01/608858685_1466878862106263_800200169564951520_n.jpg
END:VEVENT
BEGIN:VEVENT
DTSTART;TZID=America/Edmonton:20260809T120000
DTEND;TZID=America/Edmonton:20260809T190000
DTSTAMP:20260425T042816
CREATED:20260210T193326Z
LAST-MODIFIED:20260312T155545Z
UID:10054556-1786276800-1786302000@urbancasual.ca
SUMMARY:Cochrane Food Fest 2026
DESCRIPTION:Get ready for a day filled with flavours\, fun\, and family activities at the 6th Annual Cochrane Food Fest! \nJoin us on August 9th\, 2026\, at the Cochrane & District Agricultural Society Park to celebrate our local culinary scene with sample-sized portions\, perfect for tasting a bit of everything. \nTry something new and unique\, and enjoy some of your favourites – there’s something for everyone! \nAlongside the delicious food and drinks\, there will be beer gardens\, live entertainment\, family-friendly activities\, and a bustling marketplace to explore. \n\n\n\n\nSponsorship: Want to support the event? Please email hello@quirksocial.ca for opportunities to get involved.\n\nVolunteer opportunities will be available as well.
URL:https://urbancasual.ca/cochrane-event/cochrane-food-fest-2026/
LOCATION:Cochrane AG Society Grounds
CATEGORIES:COCHRANE FOOD FESTIVAL,Culture,Entertainment & Games,Family Friendly,Food
ATTACH;FMTTYPE=image/jpeg:https://urbancasual.ca/wp-content/uploads/2026/02/CFF-FB-BANNER-2.jpg
END:VEVENT
BEGIN:VEVENT
DTSTART;TZID=America/Edmonton:20260818T190000
DTEND;TZID=America/Edmonton:20260818T210000
DTSTAMP:20260425T042816
CREATED:20260107T214734Z
LAST-MODIFIED:20260107T214734Z
UID:10053450-1787079600-1787086800@urbancasual.ca
SUMMARY:JAM & DRAW MIXER AT FOUND
DESCRIPTION:A welcoming space for musicians and artists at any skill level; play non-stop music with each other in an open circle\, “living room” setting! If you don’t play\, we will have a variety of art supplies available. \nThis space offers a chance to jam with friends and meet new people in your community. All instruments & genres (even spoken word/emcees) are welcome. This is a queer-friendly space. \nCover by donation: RSVP HERE
URL:https://urbancasual.ca/cochrane-event/jam-draw-mixer-at-found/2026-08-18/
LOCATION:Found Book Shop\, 206 1st Street W\, Cochrane\, AB
CATEGORIES:Business,Community,Crafts,Culture,Entertainment & Games,Karaoke,Learning,Music,Networking,OPEN MIC,Pub/Bar Event
ATTACH;FMTTYPE=image/jpeg:https://urbancasual.ca/wp-content/uploads/2026/01/608858685_1466878862106263_800200169564951520_n.jpg
END:VEVENT
BEGIN:VEVENT
DTSTART;TZID=America/Edmonton:20260915T190000
DTEND;TZID=America/Edmonton:20260915T210000
DTSTAMP:20260425T042816
CREATED:20260107T214734Z
LAST-MODIFIED:20260107T214734Z
UID:10053451-1789498800-1789506000@urbancasual.ca
SUMMARY:JAM & DRAW MIXER AT FOUND
DESCRIPTION:A welcoming space for musicians and artists at any skill level; play non-stop music with each other in an open circle\, “living room” setting! If you don’t play\, we will have a variety of art supplies available. \nThis space offers a chance to jam with friends and meet new people in your community. All instruments & genres (even spoken word/emcees) are welcome. This is a queer-friendly space. \nCover by donation: RSVP HERE
URL:https://urbancasual.ca/cochrane-event/jam-draw-mixer-at-found/2026-09-15/
LOCATION:Found Book Shop\, 206 1st Street W\, Cochrane\, AB
CATEGORIES:Business,Community,Crafts,Culture,Entertainment & Games,Karaoke,Learning,Music,Networking,OPEN MIC,Pub/Bar Event
ATTACH;FMTTYPE=image/jpeg:https://urbancasual.ca/wp-content/uploads/2026/01/608858685_1466878862106263_800200169564951520_n.jpg
END:VEVENT
BEGIN:VEVENT
DTSTART;TZID=America/Edmonton:20261020T190000
DTEND;TZID=America/Edmonton:20261020T210000
DTSTAMP:20260425T042816
CREATED:20260107T214734Z
LAST-MODIFIED:20260107T214734Z
UID:10053452-1792522800-1792530000@urbancasual.ca
SUMMARY:JAM & DRAW MIXER AT FOUND
DESCRIPTION:A welcoming space for musicians and artists at any skill level; play non-stop music with each other in an open circle\, “living room” setting! If you don’t play\, we will have a variety of art supplies available. \nThis space offers a chance to jam with friends and meet new people in your community. All instruments & genres (even spoken word/emcees) are welcome. This is a queer-friendly space. \nCover by donation: RSVP HERE
URL:https://urbancasual.ca/cochrane-event/jam-draw-mixer-at-found/2026-10-20/
LOCATION:Found Book Shop\, 206 1st Street W\, Cochrane\, AB
CATEGORIES:Business,Community,Crafts,Culture,Entertainment & Games,Karaoke,Learning,Music,Networking,OPEN MIC,Pub/Bar Event
ATTACH;FMTTYPE=image/jpeg:https://urbancasual.ca/wp-content/uploads/2026/01/608858685_1466878862106263_800200169564951520_n.jpg
END:VEVENT
BEGIN:VEVENT
DTSTART;TZID=America/Edmonton:20261117T190000
DTEND;TZID=America/Edmonton:20261117T210000
DTSTAMP:20260425T042816
CREATED:20260107T214734Z
LAST-MODIFIED:20260107T214734Z
UID:10053453-1794942000-1794949200@urbancasual.ca
SUMMARY:JAM & DRAW MIXER AT FOUND
DESCRIPTION:A welcoming space for musicians and artists at any skill level; play non-stop music with each other in an open circle\, “living room” setting! If you don’t play\, we will have a variety of art supplies available. \nThis space offers a chance to jam with friends and meet new people in your community. All instruments & genres (even spoken word/emcees) are welcome. This is a queer-friendly space. \nCover by donation: RSVP HERE
URL:https://urbancasual.ca/cochrane-event/jam-draw-mixer-at-found/2026-11-17/
LOCATION:Found Book Shop\, 206 1st Street W\, Cochrane\, AB
CATEGORIES:Business,Community,Crafts,Culture,Entertainment & Games,Karaoke,Learning,Music,Networking,OPEN MIC,Pub/Bar Event
ATTACH;FMTTYPE=image/jpeg:https://urbancasual.ca/wp-content/uploads/2026/01/608858685_1466878862106263_800200169564951520_n.jpg
END:VEVENT
BEGIN:VEVENT
DTSTART;TZID=America/Edmonton:20261215T190000
DTEND;TZID=America/Edmonton:20261215T210000
DTSTAMP:20260425T042816
CREATED:20260107T214734Z
LAST-MODIFIED:20260107T214734Z
UID:10053454-1797361200-1797368400@urbancasual.ca
SUMMARY:JAM & DRAW MIXER AT FOUND
DESCRIPTION:A welcoming space for musicians and artists at any skill level; play non-stop music with each other in an open circle\, “living room” setting! If you don’t play\, we will have a variety of art supplies available. \nThis space offers a chance to jam with friends and meet new people in your community. All instruments & genres (even spoken word/emcees) are welcome. This is a queer-friendly space. \nCover by donation: RSVP HERE
URL:https://urbancasual.ca/cochrane-event/jam-draw-mixer-at-found/2026-12-15/
LOCATION:Found Book Shop\, 206 1st Street W\, Cochrane\, AB
CATEGORIES:Business,Community,Crafts,Culture,Entertainment & Games,Karaoke,Learning,Music,Networking,OPEN MIC,Pub/Bar Event
ATTACH;FMTTYPE=image/jpeg:https://urbancasual.ca/wp-content/uploads/2026/01/608858685_1466878862106263_800200169564951520_n.jpg
END:VEVENT
END:VCALENDAR