BEGIN:VCALENDAR
VERSION:2.0
PRODID:-//Urbancasual.ca - ECPv6.15.20//NONSGML v1.0//EN
CALSCALE:GREGORIAN
METHOD:PUBLISH
X-WR-CALNAME:Urbancasual.ca
X-ORIGINAL-URL:https://urbancasual.ca
X-WR-CALDESC:Events for Urbancasual.ca
REFRESH-INTERVAL;VALUE=DURATION:PT1H
X-Robots-Tag:noindex
X-PUBLISHED-TTL:PT1H
BEGIN:VTIMEZONE
TZID:America/Edmonton
BEGIN:DAYLIGHT
TZOFFSETFROM:-0700
TZOFFSETTO:-0600
TZNAME:MDT
DTSTART:20240310T090000
END:DAYLIGHT
BEGIN:STANDARD
TZOFFSETFROM:-0600
TZOFFSETTO:-0700
TZNAME:MST
DTSTART:20241103T080000
END:STANDARD
BEGIN:DAYLIGHT
TZOFFSETFROM:-0700
TZOFFSETTO:-0600
TZNAME:MDT
DTSTART:20250309T090000
END:DAYLIGHT
BEGIN:STANDARD
TZOFFSETFROM:-0600
TZOFFSETTO:-0700
TZNAME:MST
DTSTART:20251102T080000
END:STANDARD
BEGIN:DAYLIGHT
TZOFFSETFROM:-0700
TZOFFSETTO:-0600
TZNAME:MDT
DTSTART:20260308T090000
END:DAYLIGHT
BEGIN:STANDARD
TZOFFSETFROM:-0600
TZOFFSETTO:-0700
TZNAME:MST
DTSTART:20261101T080000
END:STANDARD
END:VTIMEZONE
BEGIN:VEVENT
DTSTART;VALUE=DATE:20250823
DTEND;VALUE=DATE:20250825
DTSTAMP:20260419T185541
CREATED:20250729T181815Z
LAST-MODIFIED:20250729T181815Z
UID:10049714-1755918000-1756004399@urbancasual.ca
SUMMARY:POPPY BROACH MAKING *FREE
DESCRIPTION:Help Make Poppy Brooches!Have some fun with clay and help make poppy brooches to donate to the local Cochrane Legion for Remembrance Day!All brooches will be donated to the local Cochrane Legion. We will be contributing to a Remembrance Gardens of Poppies— public installations honouring veterans and raising funds for Canadian Legions.All templates & materials will be provided\, there’s no experience necessary!DATE: 23 August\, 2025TIMES:– 1:00 PM – 2:30 PM– 3:00 PM – 4:30 PM– 5:00 PM – 6:30 PMCOST: Free: Register to save your spot!AGES: 8+For more information and registration:– Screenshot this post and scan the QR code to get registered now!– OR\, visit our website @ route22gallery.com under events for more information!
URL:https://urbancasual.ca/cochrane-event/poppy-broach-making-free/
LOCATION:Route 22 Artist Collective Gallery\, 208 1st Street W.\, Cochrane\, Alberta\, Canada
CATEGORIES:Art,Community,Crafts,Family Friendly,Free,Parents & Caregivers,Seniors
ATTACH;FMTTYPE=image/jpeg:https://urbancasual.ca/wp-content/uploads/2025/07/524879099_122257311668026072_1097452752586577833_n.jpg
END:VEVENT
END:VCALENDAR