BEGIN:VCALENDAR
VERSION:2.0
PRODID:-//Urbancasual.ca - ECPv6.15.20//NONSGML v1.0//EN
CALSCALE:GREGORIAN
METHOD:PUBLISH
X-ORIGINAL-URL:https://urbancasual.ca
X-WR-CALDESC:Events for Urbancasual.ca
REFRESH-INTERVAL;VALUE=DURATION:PT1H
X-Robots-Tag:noindex
X-PUBLISHED-TTL:PT1H
BEGIN:VTIMEZONE
TZID:America/Edmonton
BEGIN:DAYLIGHT
TZOFFSETFROM:-0700
TZOFFSETTO:-0600
TZNAME:MDT
DTSTART:20250309T090000
END:DAYLIGHT
BEGIN:STANDARD
TZOFFSETFROM:-0600
TZOFFSETTO:-0700
TZNAME:MST
DTSTART:20251102T080000
END:STANDARD
BEGIN:DAYLIGHT
TZOFFSETFROM:-0700
TZOFFSETTO:-0600
TZNAME:MDT
DTSTART:20260308T090000
END:DAYLIGHT
BEGIN:STANDARD
TZOFFSETFROM:-0600
TZOFFSETTO:-0700
TZNAME:MST
DTSTART:20261101T080000
END:STANDARD
BEGIN:DAYLIGHT
TZOFFSETFROM:-0700
TZOFFSETTO:-0600
TZNAME:MDT
DTSTART:20270314T090000
END:DAYLIGHT
BEGIN:STANDARD
TZOFFSETFROM:-0600
TZOFFSETTO:-0700
TZNAME:MST
DTSTART:20271107T080000
END:STANDARD
END:VTIMEZONE
BEGIN:VEVENT
DTSTART;TZID=America/Edmonton:20260219T140000
DTEND;TZID=America/Edmonton:20260219T170000
DTSTAMP:20260421T173846
CREATED:20260202T190907Z
LAST-MODIFIED:20260202T190907Z
UID:10054491-1771509600-1771520400@urbancasual.ca
SUMMARY:Cultural Cooking without Borders
DESCRIPTION:The Newcomer Safe Space Program warmly invites you to join us for Cultural Cooking Without Borders.This month\, we are traveling to the Netherlands through food as we cook and share a traditional Dutch Hotchpotch together. Come enjoy a relaxed afternoon of cooking\, conversation\, and connection in a welcoming and inclusive space. Thursday\, February 19 2:00 to 5:00 pm Frank Mills Community Hall\, 401 Street EastThis event is made possible through our partnership with the Alberta Government\, Rotary Club of Cochrane\, Two Pharmacy\, Rocky View Immigrant Services\, Frank Wills Community Hall\, and The Dutch Store.Spaces are limited\, so please RSVP by emailing CISCcochrane@gmail.com or calling 587-582-1771.
URL:https://urbancasual.ca/cochrane-event/cultural-cooking-without-borders/
LOCATION:Frank Wills Memorial Hall\, 405 1st Street E\, Cochrane\, Alberta
CATEGORIES:Community,cooking,Culture,Learning,Town of Cochrane
ATTACH;FMTTYPE=image/jpeg:https://urbancasual.ca/wp-content/uploads/2026/02/626760672_1196242359365379_7239537033388687388_n.jpg
END:VEVENT
BEGIN:VEVENT
DTSTART;TZID=America/Edmonton:20260308T100000
DTEND;TZID=America/Edmonton:20260308T123000
DTSTAMP:20260421T173846
CREATED:20260211T190601Z
LAST-MODIFIED:20260228T015221Z
UID:10054567-1772964000-1772973000@urbancasual.ca
SUMMARY:COOKING FOR KIDS 8 - 12 YRS *SOLD OUT*
DESCRIPTION:Kids class for ages 8-12\, theme is Mexican Street Food!\nKids are going to learn skills and have tons of fun! 😃\nClass will be held upstairs at the Polka Dot Creek Yarn store in #cochraneab\nSpots are limited\, register here: \nhttps://www.eventbrite.ca/e/kids-cooking-class-mexican-cuisine-new-time-added-tickets-1982556972273?aff=erellivmlt
URL:https://urbancasual.ca/cochrane-event/cooking-for-kids-8-12-yrs-am/
LOCATION:Alberta
CATEGORIES:cooking,Food,Learning,Parents & Caregivers
ATTACH;FMTTYPE=image/webp:https://urbancasual.ca/wp-content/uploads/2026/02/image.webp
END:VEVENT
BEGIN:VEVENT
DTSTART;TZID=America/Edmonton:20260308T150000
DTEND;TZID=America/Edmonton:20260308T173000
DTSTAMP:20260421T173846
CREATED:20260211T190344Z
LAST-MODIFIED:20260211T190344Z
UID:10054355-1772982000-1772991000@urbancasual.ca
SUMMARY:COOKING FOR KIDS 8 - 12 YRS
DESCRIPTION:Kids class for ages 8-12\, theme is Mexican Street Food!\nKids are going to learn skills and have tons of fun! 😃\nClass will be held upstairs at the Polka Dot Creek Yarn store in #cochraneab\nSpots are limited\, register here: \nhttps://www.eventbrite.ca/e/kids-cooking-class-mexican-cuisine-tickets-1981975902277?aff=ebdsshother&utm_share_source=search_android&fbclid=IwdGRjcAPo5TtjbGNrA-jlK2V4dG4DYWVtAjExAHNydGMGYXBwX2lkDDM1MDY4NTUzMTcyOAABHm0DHFr-NFOSDSeI_EfA5Z6feCxi9NTogVop7Zs4Qh_yF5uZZhj0Awv9mT0c_aem_-r7Ao7bR2yVHtWw7bhATcg
URL:https://urbancasual.ca/cochrane-event/cooking-for-kids-8-12-yrs/
LOCATION:Alberta
CATEGORIES:cooking,Food,Learning,Parents & Caregivers
ATTACH;FMTTYPE=image/jpeg:https://urbancasual.ca/wp-content/uploads/2026/01/inbound988594365307843815.jpg
END:VEVENT
BEGIN:VEVENT
DTSTART;TZID=America/Edmonton:20260326T140000
DTEND;TZID=America/Edmonton:20260326T170000
DTSTAMP:20260421T173846
CREATED:20260319T223843Z
LAST-MODIFIED:20260319T223859Z
UID:10057506-1774533600-1774544400@urbancasual.ca
SUMMARY:CULTURAL COOKING WITHOUT BORDERS
DESCRIPTION:The Newcomer Safe Space Program invites you to Cultural Cooking Without Borders! Bringing cultures together one dish at a time! \nStep into a hands-on cultural experience where Theresa Valerie Amuzu will guide you through preparing traditional Ghanaian dishes. Cook side by side\, learn new skills\, and enjoy the meal together! \nJoin us as we explore the rich flavors of Ghana with Gobe (beans) served with Tatale (plantain) and fried mackerel. \n📅 Thursday\, March 26 from 2pm to 5pm\n📍 Frank Wills Hall\, 405 1st E\, Cochrane \nIn partnership with Two Pharmacy\, Rotary Club of Cochrane\, Frank Wills Community Hall\, Rocky View Immigrant Services and the Government of Alberta \n📧 To register\, please email cisccochrane@gmail.com\n📞 Or call 587-582-1771
URL:https://urbancasual.ca/cochrane-event/cultural-cooking-without-borders-march/
LOCATION:Frank Wills Memorial Hall\, 405 1st Street E\, Cochrane\, Alberta
CATEGORIES:cooking,Culture,Frank Wills Memorial Hall,Learning
ATTACH;FMTTYPE=image/jpeg:https://urbancasual.ca/wp-content/uploads/2026/03/inbound6875426911612889587.jpg
END:VEVENT
BEGIN:VEVENT
DTSTART;TZID=America/Edmonton:20260416T183000
DTEND;TZID=America/Edmonton:20260416T210000
DTSTAMP:20260421T173846
CREATED:20260330T233914Z
LAST-MODIFIED:20260402T170622Z
UID:10058646-1776364200-1776373200@urbancasual.ca
SUMMARY:Cultural Cooking Experience
DESCRIPTION:Cook\, Learn and Connect through food! \nOur Cultural Cooking Experience brings culture and tradition to the table. \n$65 per person – 3 Course Meal \nTHURSDAY\, APRIL 16 AT 630PM \nCALL TO RESERVE YOUR SPOT TODAY – (403) 881 – 2830 \nWHERE: 888 NAKODA WAY\, MINI THNI\, ALBERTA \nInfo@stoneynakodaresort.com
URL:https://urbancasual.ca/cochrane-event/cultural-cooking-experience-stoney-nakoda-resort/
LOCATION:Stoney Nakoda Resort & Casino\, 888 Nakoda Way
CATEGORIES:Adults Only,cooking,Learning,Mini Thni,Stoney Nakoda Events
ATTACH;FMTTYPE=image/webp:https://urbancasual.ca/wp-content/uploads/2026/03/Untitleddesign21.webp
END:VEVENT
BEGIN:VEVENT
DTSTART;TZID=America/Edmonton:20260423T140000
DTEND;TZID=America/Edmonton:20260423T170000
DTSTAMP:20260421T173846
CREATED:20260421T223407Z
LAST-MODIFIED:20260421T223524Z
UID:10059318-1776952800-1776963600@urbancasual.ca
SUMMARY:Cultural Cooking without Borders
DESCRIPTION:Join us for a special afternoon of connection\, culture\, and delicious food at our Cultural Cooking Without Borders event.\n\n\n\nThis edition celebrates Brazil through one of its most beloved comfort dishes\, Arroz de Carreteiro (Trucker’s Rice). More than just a meal\, this dish carries stories\, traditions\, and the spirit of sharing around the table. Our guest chef for the day\, Fernando Battistella\, will guide participants through this flavorful experience.\n\n\n\nThe event will take place on Thursday\, April 23\, from 2:00 to 5:00 pm at the Frank Wills Hall Kitchen\, located at 405 1 St E\, Cochrane.\n\n\n\nHosted as part of the Newcomer Safe Space Program\, this gathering is all about bringing people together\, creating meaningful connections\, and celebrating the diversity that strengthens our community.\n\n\n\nWhether you come for the food\, the stories\, or the chance to meet new people\, you will be welcomed into a space where cultures meet and friendships begin.\n\n\n\nWe would also like to extend our sincere thanks to our sponsors and partners for making this event possible: Samba Brazilian Market\, Guatimi Specialty Coffee\, Frank Wills Community Hall\, Rotary Club of Cochrane\, Two Pharmacy\, Rocky View Immigrant Services\, and the Government of Alberta.\n\n\n\nCome cook\, taste\, and connect. One dish at a time.\n\n\nTo register\, please email cisccochrane@gmail.com or call 587-582-1771.\n\n\nWe look forward to sharing this experience with you
URL:https://urbancasual.ca/cochrane-event/cultural-cooking-without-borders-april/
LOCATION:Frank Wills Memorial Hall\, 405 1st Street E\, Cochrane\, Alberta
CATEGORIES:Club,Community,cooking,Culture,Frank Wills Memorial Hall,Newcomers
ATTACH;FMTTYPE=image/jpeg:https://urbancasual.ca/wp-content/uploads/2026/04/inbound9073478321329221588.jpg
END:VEVENT
END:VCALENDAR