BEGIN:VCALENDAR
VERSION:2.0
PRODID:-//Urbancasual.ca - ECPv6.15.20//NONSGML v1.0//EN
CALSCALE:GREGORIAN
METHOD:PUBLISH
X-WR-CALNAME:Urbancasual.ca
X-ORIGINAL-URL:https://urbancasual.ca
X-WR-CALDESC:Events for Urbancasual.ca
REFRESH-INTERVAL;VALUE=DURATION:PT1H
X-Robots-Tag:noindex
X-PUBLISHED-TTL:PT1H
BEGIN:VTIMEZONE
TZID:America/Edmonton
BEGIN:DAYLIGHT
TZOFFSETFROM:-0700
TZOFFSETTO:-0600
TZNAME:MDT
DTSTART:20250309T090000
END:DAYLIGHT
BEGIN:STANDARD
TZOFFSETFROM:-0600
TZOFFSETTO:-0700
TZNAME:MST
DTSTART:20251102T080000
END:STANDARD
BEGIN:DAYLIGHT
TZOFFSETFROM:-0700
TZOFFSETTO:-0600
TZNAME:MDT
DTSTART:20260308T090000
END:DAYLIGHT
BEGIN:STANDARD
TZOFFSETFROM:-0600
TZOFFSETTO:-0700
TZNAME:MST
DTSTART:20261101T080000
END:STANDARD
BEGIN:DAYLIGHT
TZOFFSETFROM:-0700
TZOFFSETTO:-0600
TZNAME:MDT
DTSTART:20270314T090000
END:DAYLIGHT
BEGIN:STANDARD
TZOFFSETFROM:-0600
TZOFFSETTO:-0700
TZNAME:MST
DTSTART:20271107T080000
END:STANDARD
END:VTIMEZONE
BEGIN:VEVENT
DTSTART;TZID=America/Edmonton:20260504T190000
DTEND;TZID=America/Edmonton:20260504T210000
DTSTAMP:20260421T164632
CREATED:20250729T182203Z
LAST-MODIFIED:20250729T182203Z
UID:10049749-1777921200-1777928400@urbancasual.ca
SUMMARY:Cochrane Sings Practice
DESCRIPTION:Our new Season begins MONDAY SEPTEMBER 8 and if you’re thinking about what awesome amazing extracurricular activity you should join\, look no further\, ESPECIALLY if you’re a MAN!! Yes we are a MIXED adult choir and YES we have some pretty incredible MEN!! \nMondays from 7:00-9:00pm \nAt the All Saints Anglican Church at 404-4th Ave \nwww. cochranesings.com for more info!
URL:https://urbancasual.ca/cochrane-event/cochrane-sings-practice/2026-05-04/
LOCATION:All Saints Anglican Church\, 404 Fourth Ave N\, Cochrane\, Alberta
CATEGORIES:Choir,Club,Community,Entertainment & Games,Learning,Networking,Seniors
ATTACH;FMTTYPE=image/jpeg:https://urbancasual.ca/wp-content/uploads/2025/07/524116941_596548306856893_7660379351601470637_n.jpg
END:VEVENT
BEGIN:VEVENT
DTSTART;TZID=America/Edmonton:20260504T190000
DTEND;TZID=America/Edmonton:20260504T210000
DTSTAMP:20260421T164632
CREATED:20260107T214139Z
LAST-MODIFIED:20260107T214139Z
UID:10053435-1777921200-1777928400@urbancasual.ca
SUMMARY:STRINGS & FRETS AT FOUND
DESCRIPTION:
URL:https://urbancasual.ca/cochrane-event/strings-frets-at-found/2026-05-04/
LOCATION:Found Book Shop\, 206 1st Street W\, Cochrane\, AB
CATEGORIES:Business,Community,Entertainment & Games,Music,Pub/Bar Event
ATTACH;FMTTYPE=image/jpeg:https://urbancasual.ca/wp-content/uploads/2026/01/607690228_1466878855439597_3211558362988386112_n.jpg
END:VEVENT
BEGIN:VEVENT
DTSTART;TZID=America/Edmonton:20260504T190000
DTEND;TZID=America/Edmonton:20260504T210000
DTSTAMP:20260421T164632
CREATED:20260108T211206Z
LAST-MODIFIED:20260108T211206Z
UID:10053912-1777921200-1777928400@urbancasual.ca
SUMMARY:EUCHRE NIGHT AT THE LEGION (DROP IN)
DESCRIPTION:
URL:https://urbancasual.ca/cochrane-event/euchre-night-at-the-legion-drop-in/2026-05-04/
LOCATION:The Legion\, 114 Fifth Ave\, Cochrane\, Canada
CATEGORIES:Community,Entertainment & Games,Family Friendly,Free,Legion
ATTACH;FMTTYPE=image/jpeg:https://urbancasual.ca/wp-content/uploads/2026/01/608223840_122205932546544523_506268762666482123_n.jpg
END:VEVENT
BEGIN:VEVENT
DTSTART;TZID=America/Edmonton:20260505T103000
DTEND;TZID=America/Edmonton:20260505T233000
DTSTAMP:20260421T164632
CREATED:20260318T181638Z
LAST-MODIFIED:20260318T181725Z
UID:10057491-1777977000-1778023800@urbancasual.ca
SUMMARY:Mini Mustang Music
DESCRIPTION:Get ready to jam out at Mini Mustang Music — an exciting in-person event where little ones and their parents can connect\, make music\, and exercise their quickly developing brains! \nThere will be active music making\, time to connect\, snacks\, and a supportive home atmosphere for real relationships to be formed. \nThis group is run by Laura MacLeod\, a Certified Music Therapist and Counselling Therapist. \nThis service is covered by most benefit providers under counselling therapy. $25/class. \nOption to pay for full month in advance. Receipt will be sent once you reserve your spot on Eventbrite.
URL:https://urbancasual.ca/cochrane-event/mini-mustang-music-april/2026-05-05/
LOCATION:Heartland Music & Wellness\, 100 Paint Horse Drive\, Cochrane\, AB\, T4C 0X1\, Canada
CATEGORIES:Community,Family Friendly,Mental Health,Music,Parents & Caregivers
ATTACH;FMTTYPE=image/jpeg:https://urbancasual.ca/wp-content/uploads/2026/03/Blue-and-White-Modern-Horse-Riding-Course-Poster-2.jpg
ORGANIZER;CN="Heartland Music &amp%3B Wellness":MAILTO:Heartlandmusicandwellness@gmail.com
END:VEVENT
BEGIN:VEVENT
DTSTART;TZID=America/Edmonton:20260505T120000
DTEND;TZID=America/Edmonton:20260505T130000
DTSTAMP:20260421T164632
CREATED:20250926T150407Z
LAST-MODIFIED:20251223T153124Z
UID:10050534-1777982400-1777986000@urbancasual.ca
SUMMARY:Community Lunch
DESCRIPTION:Our weekly\, free Community Lunch is back! 😀🎉🍲 \nJoin us 12-1pm\, every Tuesday  for a hearty\, freshly-made bowl of soup…and more! \nCome for the food\, stay for the community\, here at St. Andrew’s United Church.
URL:https://urbancasual.ca/cochrane-event/community-lunch/2026-05-05/
LOCATION:Cochrane United Church\, 128 1st Street\, Cochrane\, Alberta
CATEGORIES:Church Events,Community,Downtown,Family Friendly,Food,Free
ATTACH;FMTTYPE=image/jpeg:https://urbancasual.ca/wp-content/uploads/2025/09/inbound7175185381606086455.jpg
END:VEVENT
BEGIN:VEVENT
DTSTART;TZID=America/Edmonton:20260505T160000
DTEND;TZID=America/Edmonton:20260505T180000
DTSTAMP:20260421T164632
CREATED:20260108T210530Z
LAST-MODIFIED:20260108T210818Z
UID:10053809-1777996800-1778004000@urbancasual.ca
SUMMARY:Drop In Shuffleboard at The Legion (Tuesdays)
DESCRIPTION:
URL:https://urbancasual.ca/cochrane-event/drop-in-shuffleboard-at-the-legion-tuesdays/2026-05-05/
LOCATION:The Legion\, 114 Fifth Ave\, Cochrane\, Canada
CATEGORIES:Community,Entertainment & Games,Family Friendly,Free,Legion
ATTACH;FMTTYPE=image/webp:https://urbancasual.ca/wp-content/uploads/2026/01/shuffleport.webp
END:VEVENT
BEGIN:VEVENT
DTSTART;TZID=America/Edmonton:20260505T163000
DTEND;TZID=America/Edmonton:20260505T210000
DTSTAMP:20260421T164632
CREATED:20260319T151832Z
LAST-MODIFIED:20260319T151908Z
UID:10057529-1777998600-1778014800@urbancasual.ca
SUMMARY:BINGO AT THE LEGION
DESCRIPTION:
URL:https://urbancasual.ca/cochrane-event/bingo-at-the-legion-apr-june/2026-05-05/
LOCATION:The Legion\, 114 Fifth Ave\, Cochrane\, Canada
CATEGORIES:Community,Entertainment & Games,Family Friendly,Legion,Pub/Bar Event
ATTACH;FMTTYPE=image/jpeg:https://urbancasual.ca/wp-content/uploads/2026/03/651812029_122213650940544523_1326299338438110366_n.jpg
END:VEVENT
BEGIN:VEVENT
DTSTART;TZID=America/Edmonton:20260506T190000
DTEND;TZID=America/Edmonton:20260506T200000
DTSTAMP:20260421T164632
CREATED:20260325T000927Z
LAST-MODIFIED:20260325T000927Z
UID:10057644-1778094000-1778097600@urbancasual.ca
SUMMARY:Cochrane Walk Crew Wednesdays
DESCRIPTION:📣👟 Cochrane Walk Crew is BACK! 👟📣\nWith the days getting longer and the evenings brighter\, it’s the perfect time to get moving again. \nWE ARE BACK starting next week\, WEDNESDAY\, APRIL 1ST – 7pm at Mitford Park. \nGrab your friends\, bring the family\, and don’t forget your furry companions 👟—everyone is welcome! Whether you’re looking to stay active\, meet new people\, or just enjoy the fresh air\, we’d love to have you join us. \nLet’s make the most of these beautiful evenings together.
URL:https://urbancasual.ca/cochrane-event/cochrane-walk-crew-wednesdays/2026-05-06/
LOCATION:Mitford Park
CATEGORIES:Community,Family Friendly,Fitness,Free,Health & Wellness
ATTACH;FMTTYPE=image/jpeg:https://urbancasual.ca/wp-content/uploads/2026/03/inbound8174199779330249400.jpg
END:VEVENT
BEGIN:VEVENT
DTSTART;TZID=America/Edmonton:20260506T190000
DTEND;TZID=America/Edmonton:20260506T210000
DTSTAMP:20260421T164632
CREATED:20260107T213841Z
LAST-MODIFIED:20260107T214430Z
UID:10053423-1778094000-1778101200@urbancasual.ca
SUMMARY:OPEN MIC AT FOUND
DESCRIPTION:  \nThe first Wednesday of every month belongs to the songwriters. \nHosted by the magnetic Devin Foster and presented by Blue Willow Entertainment and Found Books & Shop\, this open mic invites emerging and seasoned artists to step up to the mic and share their craft. Expect a supportive crowd\, a cozy room\, tasty drinks and a lineup that’s never the same twice. \nBlue Willow Entertainment will be there looking for support acts & headliners for their upcoming shows around Alberta. Please note – only original music is requested at this open mic. \nRegister HERE \n  \n 
URL:https://urbancasual.ca/cochrane-event/open-mic-at-found/2026-05-06/
LOCATION:Found Book Shop\, 206 1st Street W\, Cochrane\, AB
CATEGORIES:Business,Community,Entertainment & Games,Music,Networking,OPEN MIC,Pub/Bar Event
ATTACH;FMTTYPE=image/jpeg:https://urbancasual.ca/wp-content/uploads/2026/01/607945410_1466878915439591_5974467451227350116_n.jpg
END:VEVENT
BEGIN:VEVENT
DTSTART;TZID=America/Edmonton:20260506T190000
DTEND;TZID=America/Edmonton:20260506T210000
DTSTAMP:20260421T164632
CREATED:20260108T205814Z
LAST-MODIFIED:20260108T205852Z
UID:10053705-1778094000-1778101200@urbancasual.ca
SUMMARY:CRIB NIGHT AT THE LEGION (DROP IN)
DESCRIPTION:DROP IN WEDNESDAYS AT 7PM
URL:https://urbancasual.ca/cochrane-event/crib-night-at-the-legion-drop-in-2026/2026-05-06/
LOCATION:The Legion\, 114 Fifth Ave\, Cochrane\, Canada
CATEGORIES:Community,Entertainment & Games,Free,Legion
ATTACH;FMTTYPE=image/jpeg:https://urbancasual.ca/wp-content/uploads/2026/01/612448591_122206154084544523_119305468904507709_n.jpg
END:VEVENT
BEGIN:VEVENT
DTSTART;TZID=America/Edmonton:20260507T111500
DTEND;TZID=America/Edmonton:20260507T121500
DTSTAMP:20260421T164632
CREATED:20260421T224304Z
LAST-MODIFIED:20260421T224304Z
UID:10059237-1778152500-1778156100@urbancasual.ca
SUMMARY:Drop-In Storytime
DESCRIPTION:Join us for rhymes\, songs\, fingerplays\, and stories that will incorporate early literacy skills into your daily routine. These sessions will keep your preschooler interacting from start to finish! Storytime is a half hour program\, then come and go free play time to follow! \n*All Early Literacy sessions are drop in\, to a maximum of 25 people. Program passes will be available on a first come\, first served basis. \n**There will be no storytime on May 18.
URL:https://urbancasual.ca/cochrane-event/drop-in-storytime/2026-05-07/
LOCATION:Cochrane Public Library\, 405 Railway Street W\, Cochrane\, Alberta
CATEGORIES:Community,Family Friendly,Free,Library,Parents & Caregivers
ATTACH;FMTTYPE=image/jpeg:https://urbancasual.ca/wp-content/uploads/2026/04/Spring-2026-Drop-In-Storytime-2-2.jpg
END:VEVENT
BEGIN:VEVENT
DTSTART;TZID=America/Edmonton:20260507T120000
DTEND;TZID=America/Edmonton:20260507T123000
DTSTAMP:20260421T164632
CREATED:20250423T180329Z
LAST-MODIFIED:20260115T173809Z
UID:10047159-1778155200-1778157000@urbancasual.ca
SUMMARY:Cochrane Weekend Buzz - Weekly Series
DESCRIPTION:� Join us every Thursday at 12pm for the Cochrane Weekend Buzz! \nStay in the loop about upcoming events and fun activities happening right here in our community. \nTune in on our website\, Facebook\, Instagram or YouTube\, to connect with your neighbors and discover what Cochrane has to offer. \n  \n 
URL:https://urbancasual.ca/cochrane-event/cochrane-weekend-buzz-weekly-series/2026-05-07/
LOCATION:Alberta
CATEGORIES:Community
ATTACH;FMTTYPE=image/jpeg:https://urbancasual.ca/wp-content/uploads/2025/04/2026-LIVESTREAM-3.jpg
END:VEVENT
BEGIN:VEVENT
DTSTART;TZID=America/Edmonton:20260507T173000
DTEND;TZID=America/Edmonton:20260507T193000
DTSTAMP:20260421T164632
CREATED:20260413T225723Z
LAST-MODIFIED:20260413T225723Z
UID:10059317-1778175000-1778182200@urbancasual.ca
SUMMARY:Parent & Teen/Tween Self-Defense Fundraiser
DESCRIPTION:Mitford Playground Committee is teaming up with Tom Gillis to bring you a parent and child self-defense class. This two hour event will teach you and your tween/teen some basic skills to identify potential threats\, avoid dangerous situations and some practical physical skills. \nAll money raised from this one night event will be going toward a new inclusive playground at the Mitford School. This playground will not only support the Mitford school but the community at large. \nAll teens and tweens need to be accompanied by and adult. \nTickets at https://www.zeffy.com/en-CA/ticketing/parent-and-child-self-defence-class
URL:https://urbancasual.ca/cochrane-event/parent-teen-tween-self-defense-fundraiser/
LOCATION:Mitford School\, 110 Quigley Drive\, Cochrane\, Alberta\, Canada
CATEGORIES:Community,Family Friendly,Fundraiser,Parents & Caregivers,Youth
ATTACH;FMTTYPE=image/png:https://urbancasual.ca/wp-content/uploads/2026/04/Red-Green-Bold-Martial-Arts-Class-Flyer.png
ORGANIZER;CN="Mitford Playground Committee":MAILTO:Mitford.playground@gmail.com
END:VEVENT
BEGIN:VEVENT
DTSTART;TZID=America/Edmonton:20260507T183000
DTEND;TZID=America/Edmonton:20260507T200000
DTSTAMP:20260421T164632
CREATED:20260421T224441Z
LAST-MODIFIED:20260421T224441Z
UID:10059325-1778178600-1778184000@urbancasual.ca
SUMMARY:Emotions in Line & Colour: A Creative Exploration!
DESCRIPTION:Emotions in Line & Colour: A Creative Exploration! \nJoin Route 22 Gallery and student art therapist\, Kimberly Cota\, for a unique session designed to celebrate Mental Health Awareness Week. \nUsing the simple elements of line and color\, we will explore how emotions can take shape on the page. This is not about creating a “perfect” piece of art; it is about the movement\, the feeling\, and the process of self-expression. \nYou’ll also spend time as a group exploring the ways our individual expressions may overlap and create a shared visual language for the things we feel. \nThis is a zero-pressure\, supportive environment where the focus is on the experience rather than the finished product! \nDate: May 7\, 2026 \nTime: 6:30 pm – 8:00 pm \nLocation: Route 22 Artist Collective Gallery \nPrice: Free! \nOpen to all; no art background necessary! \nVisit our website @ route22gallery.com under events for more information!
URL:https://urbancasual.ca/cochrane-event/emotions-in-line-colour-a-creative-exploration/
LOCATION:Route 22 Artist Collective Gallery\, 208 1st Street W.\, Cochrane\, Alberta\, Canada
CATEGORIES:Art,Community,Free,Gallery,Mental Health,Mental Health Week
ATTACH;FMTTYPE=image/jpeg:https://urbancasual.ca/wp-content/uploads/2026/04/MHAW-Exploring-Emotions-in-Color-Line-Workshop.jpg
ORGANIZER;CN="Route 22 Artist Collective Gallery":MAILTO:INFO@ROUTE22GALLERY.COM
END:VEVENT
BEGIN:VEVENT
DTSTART;TZID=America/Edmonton:20260508T173000
DTEND;TZID=America/Edmonton:20260508T190000
DTSTAMP:20260421T164632
CREATED:20260319T152604Z
LAST-MODIFIED:20260319T152604Z
UID:10057579-1778261400-1778266800@urbancasual.ca
SUMMARY:FRIDAY BBQ'S AT THE LEGION
DESCRIPTION:Did you know the Legion on 5th Avenue in Cochrane is family-friendly AND you do not need to be a member to attend their events or dinners? \nWell now you do! \nWe usually serve up hamburgers\, hot dogs and steak\, PLUS we often have live entertainment to enjoy.
URL:https://urbancasual.ca/cochrane-event/friday-bbqs-at-the-legion/2026-05-08/
LOCATION:The Legion\, 114 Fifth Ave\, Cochrane\, Canada
CATEGORIES:Community,Family Friendly,Food,Legion
ATTACH;FMTTYPE=image/jpeg:https://urbancasual.ca/wp-content/uploads/2026/01/647160300_122213338220544523_2147280737225177365_n.jpg
END:VEVENT
BEGIN:VEVENT
DTSTART;TZID=America/Edmonton:20260508T190000
DTEND;TZID=America/Edmonton:20260508T210000
DTSTAMP:20260421T164632
CREATED:20260416T171102Z
LAST-MODIFIED:20260416T171102Z
UID:10059332-1778266800-1778274000@urbancasual.ca
SUMMARY:TAKE A BOW PRESENTS NOISES OFF
DESCRIPTION:Come see Noises Off! like you’ve never seen it before May 1-3 and May 8-10 at the Cochrane Ranchehouse.\n\nTickets are available now at the link below or at the door to the show.\n\n\nhttps://www.showpass.com/noises-off-by-michael-frayn/\n\n\n\nFRIDAY MAY 1 – 7PM\nSATURDAY MAY 2 – 6PM\nSUNDAY MAY 3 – 2PM\n\nFRIDAY MAY 8 – 7PM\nSATURDAY MAY 9 – 6PM\nSUNDAY MAY 10 – 2PM
URL:https://urbancasual.ca/cochrane-event/take-a-bow-presents-noises-off/2026-05-08/
LOCATION:The Cochrane Ranchehouse\, 1 Ranchehouse Road\, Cochrane\, Alberta
CATEGORIES:Community,Entertainment & Games,Family Friendly,Theatre
ATTACH;FMTTYPE=image/jpeg:https://urbancasual.ca/wp-content/uploads/2026/04/inbound6068098848951375494.jpg
ORGANIZER;CN="Take A Bow Community Theatre":MAILTO:Info@takeabow.ca
END:VEVENT
BEGIN:VEVENT
DTSTART;TZID=America/Edmonton:20260509T110000
DTEND;TZID=America/Edmonton:20260509T120000
DTSTAMP:20260421T164632
CREATED:20240121T193907Z
LAST-MODIFIED:20240619T195906Z
UID:10022684-1778324400-1778328000@urbancasual.ca
SUMMARY:Let's Go Lego at the Cochrane Public Library
DESCRIPTION:Join us for our all-ages Let’s Go Lego drop-in\, where you can learn while having fun! We have lots of Lego Education and Steam sets and will be spending hands-on time letting our imaginations go wild! \nWe play on Saturdays between 11:00am and 12:00pm. \n\n 
URL:https://urbancasual.ca/cochrane-event/lets-go-lego-at-the-cochrane-public-library/2026-05-09/
LOCATION:Cochrane Public Library\, 405 Railway Street W\, Cochrane\, Alberta
CATEGORIES:Community,Downtown,Entertainment & Games,Family Friendly,Free,Library,Parents & Caregivers
ATTACH;FMTTYPE=image/jpeg:https://urbancasual.ca/wp-content/uploads/2024/01/Let-s-Go-LEGO.jpg
END:VEVENT
BEGIN:VEVENT
DTSTART;TZID=America/Edmonton:20260509T110000
DTEND;TZID=America/Edmonton:20260509T150000
DTSTAMP:20260421T164632
CREATED:20260407T231825Z
LAST-MODIFIED:20260407T231825Z
UID:10058756-1778324400-1778338800@urbancasual.ca
SUMMARY:Anything Grows Spring Kick-Off Event 2026
DESCRIPTION:Join us for a fun-filled day of gardening inspiration\, ask-an-expert opportunities\, big & small giveaways\, free hot dogs and spring shopping. \nFrom 11am–3pm\, enjoy live-on-location music from Amp 90.3 while you shop\, explore fresh spring arrivals\, and get inspired for the growing season ahead.
URL:https://urbancasual.ca/cochrane-event/anything-grows-spring-kick-off-event-2026/
LOCATION:Anything Grows Garden Center\, 209 River Avenue\, Cochrane\, Alberta\, T4C 2C1
CATEGORIES:Community,Family Friendly,Free,Gardening,Homeowner,Learning,plants,Sale,Shopping
ATTACH;FMTTYPE=image/jpeg:https://urbancasual.ca/wp-content/uploads/2026/04/AG-Spring-Kick-Off-Square-Image-1.jpg
ORGANIZER;CN="Anything Grows Garden Center":MAILTO:contact@anythinggrowsalberta.com
END:VEVENT
BEGIN:VEVENT
DTSTART;TZID=America/Edmonton:20260509T130000
DTEND;TZID=America/Edmonton:20260509T170000
DTSTAMP:20260421T164632
CREATED:20250123T184432Z
LAST-MODIFIED:20250123T184432Z
UID:10044231-1778331600-1778346000@urbancasual.ca
SUMMARY:Saturday Meat Draws at the Legion
DESCRIPTION:Come out and try your luck at winning one or more of our 16 weekly food and/or gift card prizes \nCheck out our website for other events: www.cochranelegion.ca\nFollow us on Facebook: Cochrane Legion\, Men of Vision\, Branch 15
URL:https://urbancasual.ca/cochrane-event/saturday-meat-draws-at-the-legion/2026-05-09/
LOCATION:Cochrane Legion\, 114 5th Ave\, Cochrane\, Alberta\, T4C 1A5\, Canada
CATEGORIES:Community,Dance
ATTACH;FMTTYPE=image/jpeg:https://urbancasual.ca/wp-content/uploads/2025/01/53.jpg
END:VEVENT
BEGIN:VEVENT
DTSTART;TZID=America/Edmonton:20260509T140000
DTEND;TZID=America/Edmonton:20260509T160000
DTSTAMP:20260421T164632
CREATED:20260108T210716Z
LAST-MODIFIED:20260108T210716Z
UID:10053861-1778335200-1778342400@urbancasual.ca
SUMMARY:Drop In Shuffleboard at The Legion (Saturdays)
DESCRIPTION:
URL:https://urbancasual.ca/cochrane-event/drop-in-shuffleboard-at-the-legion-saturdays/2026-05-09/
LOCATION:The Legion\, 114 Fifth Ave\, Cochrane\, Canada
CATEGORIES:Community,Entertainment & Games,Family Friendly,Free,Legion
ATTACH;FMTTYPE=image/webp:https://urbancasual.ca/wp-content/uploads/2026/01/shuffleport.webp
END:VEVENT
BEGIN:VEVENT
DTSTART;TZID=America/Edmonton:20260509T180000
DTEND;TZID=America/Edmonton:20260509T200000
DTSTAMP:20260421T164632
CREATED:20260416T171102Z
LAST-MODIFIED:20260416T171102Z
UID:10059333-1778349600-1778356800@urbancasual.ca
SUMMARY:TAKE A BOW PRESENTS NOISES OFF
DESCRIPTION:Come see Noises Off! like you’ve never seen it before May 1-3 and May 8-10 at the Cochrane Ranchehouse.\n\nTickets are available now at the link below or at the door to the show.\n\n\nhttps://www.showpass.com/noises-off-by-michael-frayn/\n\n\n\nFRIDAY MAY 1 – 7PM\nSATURDAY MAY 2 – 6PM\nSUNDAY MAY 3 – 2PM\n\nFRIDAY MAY 8 – 7PM\nSATURDAY MAY 9 – 6PM\nSUNDAY MAY 10 – 2PM
URL:https://urbancasual.ca/cochrane-event/take-a-bow-presents-noises-off/2026-05-09/
LOCATION:The Cochrane Ranchehouse\, 1 Ranchehouse Road\, Cochrane\, Alberta
CATEGORIES:Community,Entertainment & Games,Family Friendly,Theatre
ATTACH;FMTTYPE=image/jpeg:https://urbancasual.ca/wp-content/uploads/2026/04/inbound6068098848951375494.jpg
ORGANIZER;CN="Take A Bow Community Theatre":MAILTO:Info@takeabow.ca
END:VEVENT
BEGIN:VEVENT
DTSTART;TZID=America/Edmonton:20260509T190000
DTEND;TZID=America/Edmonton:20260509T213000
DTSTAMP:20260421T164632
CREATED:20260420T223953Z
LAST-MODIFIED:20260420T224119Z
UID:10059609-1778353200-1778362200@urbancasual.ca
SUMMARY:Spring Showcase Concert 2026 by the Cochrane Music Society
DESCRIPTION:Saturday\, May 9  at  7pm\nCochrane Alliance Church \nThe CMS Spring Showcase Concert features an amazing array of fantastic music! \nCheck back to find out what Choral Waves\, Riverside Jazz and Band on the Bow have planned for you! \nOur inaugural Composition Contest for emerging composers focused on concert band Grade 3-4 level music.  Enduring Hope\, by Micah Veldkamp\, a Grade 12 student in Edmonton won the contest! Band on the Bow will rehearse and collaborate with Micah through this session and premiere the piece at the Spring Showcase Concert. \n We love to perform for you! \nThanks also for your donations for the Cochrane Food Bank.
URL:https://urbancasual.ca/cochrane-event/spring-showcase-concert-2026/
LOCATION:Cochrane Alliance Church\, 902 Glenbow Drive\, Cochrane\, Alberta\, Canada
CATEGORIES:Choir,Community,Concert,Entertainment & Games,Family Friendly,Music
ATTACH;FMTTYPE=image/jpeg:https://urbancasual.ca/wp-content/uploads/2026/04/666197870_1414353114063068_4197528405991905466_n.jpg
END:VEVENT
BEGIN:VEVENT
DTSTART;TZID=America/Edmonton:20260510T140000
DTEND;TZID=America/Edmonton:20260510T160000
DTSTAMP:20260421T164632
CREATED:20260416T171102Z
LAST-MODIFIED:20260416T171102Z
UID:10059334-1778421600-1778428800@urbancasual.ca
SUMMARY:TAKE A BOW PRESENTS NOISES OFF
DESCRIPTION:Come see Noises Off! like you’ve never seen it before May 1-3 and May 8-10 at the Cochrane Ranchehouse.\n\nTickets are available now at the link below or at the door to the show.\n\n\nhttps://www.showpass.com/noises-off-by-michael-frayn/\n\n\n\nFRIDAY MAY 1 – 7PM\nSATURDAY MAY 2 – 6PM\nSUNDAY MAY 3 – 2PM\n\nFRIDAY MAY 8 – 7PM\nSATURDAY MAY 9 – 6PM\nSUNDAY MAY 10 – 2PM
URL:https://urbancasual.ca/cochrane-event/take-a-bow-presents-noises-off/2026-05-10/
LOCATION:The Cochrane Ranchehouse\, 1 Ranchehouse Road\, Cochrane\, Alberta
CATEGORIES:Community,Entertainment & Games,Family Friendly,Theatre
ATTACH;FMTTYPE=image/jpeg:https://urbancasual.ca/wp-content/uploads/2026/04/inbound6068098848951375494.jpg
ORGANIZER;CN="Take A Bow Community Theatre":MAILTO:Info@takeabow.ca
END:VEVENT
BEGIN:VEVENT
DTSTART;TZID=America/Edmonton:20260510T150000
DTEND;TZID=America/Edmonton:20260510T170000
DTSTAMP:20260421T164632
CREATED:20260421T221817Z
LAST-MODIFIED:20260421T221852Z
UID:10059663-1778425200-1778432400@urbancasual.ca
SUMMARY:Crafternoons at Route 22
DESCRIPTION:Join the Cochrane Crafting Collective for drop-in crafting afternoons in Route 22 Gallery’s Makerspace\, surrounded by creative inspiration! \n\n\n\n\nStep into the Route 22 Makerspace with the Cochrane Crafting Collective to enjoy some social\, low-key\, and self-directed creating time in a space full of creative inspiration! \nDates: \n\nTuesdays & Sundays\, Weekly\n\nTimes: \n\nTuesdays: 1:00 PM – 4:00 PM\nSundays: 3:00 PM – 5:00 PM\n\nLocation: Route 22 Artist Collective Gallery \nCost: FREE with optional registration | (These session are open for drop-in!) \nAudience: Ages 15+ \nCrafters are welcome to come and make use of the Route 22 Makerspace\, within the Route 22 gallery to enjoy some social\, low-key and self-directed creative time in a highly creative environment. \nOur members artists will be on site in the gallery during these hours and the gallery is also open to the public during these times. There is a small kitchen area (kettle\, coffee make\, fridge) and washroom available for the drop-in sessions. Please be respectful of our space and leave things as you find them. \nThere are many ways to become involved with our creative community! \nCrafters who wish to further support or contribute to the Route 22 creative space and opportunities are encouraged to consider a support membership (20$ annually) or to donate! Visit our website at: Support The Gallery – Route 22 (route22gallery.com). \nDid you know that Route 22 Members get a 10% discount on all programming/events? Apply today! Become a Member – Route 22 (route22gallery.com) \nAbout our Organization: \nThe Collective has established an elevated\, multi-discipline visual arts gallery–operated by its dedicated members of the Route 22 Artist Collective Ltd. Behind the gallery display space is an Arts Makerspace intended to provide arts programming for all ages. The arts play a huge role in building healthy communities and maintaining mental wellness. The challenging times we are living in brings this truth to the forefront illuminates the importance of art in helping people cope in difficult times. The arts connect\, nourish and sustain us on a fundamental human level.
URL:https://urbancasual.ca/cochrane-event/crafternoons-at-route-22-sundays/2026-05-10/
LOCATION:Route 22 Artist Collective Gallery\, 208 1st Street W.\, Cochrane\, Alberta\, Canada
CATEGORIES:Art,Community,Crafts,Gallery
ATTACH;FMTTYPE=image/jpeg:https://urbancasual.ca/wp-content/uploads/2026/04/646863869_122291264192026072_5936255164264110937_n.jpg
END:VEVENT
END:VCALENDAR