BEGIN:VCALENDAR
VERSION:2.0
PRODID:-//Urbancasual.ca - ECPv6.15.20//NONSGML v1.0//EN
CALSCALE:GREGORIAN
METHOD:PUBLISH
X-ORIGINAL-URL:https://urbancasual.ca
X-WR-CALDESC:Events for Urbancasual.ca
REFRESH-INTERVAL;VALUE=DURATION:PT1H
X-Robots-Tag:noindex
X-PUBLISHED-TTL:PT1H
BEGIN:VTIMEZONE
TZID:America/Edmonton
BEGIN:DAYLIGHT
TZOFFSETFROM:-0700
TZOFFSETTO:-0600
TZNAME:MDT
DTSTART:20250309T090000
END:DAYLIGHT
BEGIN:STANDARD
TZOFFSETFROM:-0600
TZOFFSETTO:-0700
TZNAME:MST
DTSTART:20251102T080000
END:STANDARD
BEGIN:DAYLIGHT
TZOFFSETFROM:-0700
TZOFFSETTO:-0600
TZNAME:MDT
DTSTART:20260308T090000
END:DAYLIGHT
BEGIN:STANDARD
TZOFFSETFROM:-0600
TZOFFSETTO:-0700
TZNAME:MST
DTSTART:20261101T080000
END:STANDARD
BEGIN:DAYLIGHT
TZOFFSETFROM:-0700
TZOFFSETTO:-0600
TZNAME:MDT
DTSTART:20270314T090000
END:DAYLIGHT
BEGIN:STANDARD
TZOFFSETFROM:-0600
TZOFFSETTO:-0700
TZNAME:MST
DTSTART:20271107T080000
END:STANDARD
END:VTIMEZONE
BEGIN:VEVENT
DTSTART;VALUE=DATE:20260726
DTEND;VALUE=DATE:20260728
DTSTAMP:20260420T223624
CREATED:20251212T175422Z
LAST-MODIFIED:20251212T175422Z
UID:10053141-1785034800-1785121199@urbancasual.ca
SUMMARY:IRONMAN CALGARY 70.3
DESCRIPTION:Ironman Calgary 70.3 2025 \nRegister Here: https://www.ironman.com/im703-calgary
URL:https://urbancasual.ca/cochrane-event/ironman-calgary-70-3/
LOCATION:Alberta
CATEGORIES:Community,Entertainment & Games,Sports,Triathlon
ATTACH;FMTTYPE=image/jpeg:https://urbancasual.ca/wp-content/uploads/2025/12/596821888_1487247283406870_3039272109743915514_n.jpg
END:VEVENT
BEGIN:VEVENT
DTSTART;TZID=America/Edmonton:20260726T130000
DTEND;TZID=America/Edmonton:20260726T170000
DTSTAMP:20260420T223624
CREATED:20250808T234555Z
LAST-MODIFIED:20250808T234555Z
UID:10049940-1785070800-1785085200@urbancasual.ca
SUMMARY:SUNDAY JAM AT THE LEGION
DESCRIPTION:DOORS OPEN AT 1PM \nJAM STARTS AT 2PM
URL:https://urbancasual.ca/cochrane-event/sunday-jam-at-the-legion-3/2026-07-26/
LOCATION:The Legion\, 114 Fifth Ave\, Cochrane\, Canada
CATEGORIES:Community,Entertainment & Games,Family Friendly,Music,OPEN MIC,Parents & Caregivers
ATTACH;FMTTYPE=image/jpeg:https://urbancasual.ca/wp-content/uploads/2025/08/528714354_122185878086544523_8264551211710086241_n-1.jpg
END:VEVENT
END:VCALENDAR