BEGIN:VCALENDAR
VERSION:2.0
PRODID:-//Urbancasual.ca - ECPv6.15.20//NONSGML v1.0//EN
CALSCALE:GREGORIAN
METHOD:PUBLISH
X-ORIGINAL-URL:https://urbancasual.ca
X-WR-CALDESC:Events for Urbancasual.ca
REFRESH-INTERVAL;VALUE=DURATION:PT1H
X-Robots-Tag:noindex
X-PUBLISHED-TTL:PT1H
BEGIN:VTIMEZONE
TZID:America/Edmonton
BEGIN:DAYLIGHT
TZOFFSETFROM:-0700
TZOFFSETTO:-0600
TZNAME:MDT
DTSTART:20250309T090000
END:DAYLIGHT
BEGIN:STANDARD
TZOFFSETFROM:-0600
TZOFFSETTO:-0700
TZNAME:MST
DTSTART:20251102T080000
END:STANDARD
BEGIN:DAYLIGHT
TZOFFSETFROM:-0700
TZOFFSETTO:-0600
TZNAME:MDT
DTSTART:20260308T090000
END:DAYLIGHT
BEGIN:STANDARD
TZOFFSETFROM:-0600
TZOFFSETTO:-0700
TZNAME:MST
DTSTART:20261101T080000
END:STANDARD
BEGIN:DAYLIGHT
TZOFFSETFROM:-0700
TZOFFSETTO:-0600
TZNAME:MDT
DTSTART:20270314T090000
END:DAYLIGHT
BEGIN:STANDARD
TZOFFSETFROM:-0600
TZOFFSETTO:-0700
TZNAME:MST
DTSTART:20271107T080000
END:STANDARD
END:VTIMEZONE
BEGIN:VEVENT
DTSTART;VALUE=DATE:20260503
DTEND;VALUE=DATE:20260511
DTSTAMP:20260424T144533
CREATED:20260422T214857Z
LAST-MODIFIED:20260422T214909Z
UID:10059760-1777777200-1778381999@urbancasual.ca
SUMMARY:Mental Health Awareness Week
DESCRIPTION:Cochrane residents are invited to connect\, recharge\, and take part in Mental Health Week from May 3 to 9\, 2026\, with a week of free community events\, resources\, and activities focused on mental well-being and belonging. \nLed by Cochrane Family and Community Support Services (FCSS) alongside local partners\, the initiative aims to reduce stigma\, spark meaningful conversations\, and help people build practical skills to support their mental health.
URL:https://urbancasual.ca/cochrane-event/mental-health-awareness-week-2026/
CATEGORIES:Community,Mental Health,Mental Health Week
ATTACH;FMTTYPE=image/jpeg:https://urbancasual.ca/wp-content/uploads/2026/04/2026-MHAW-1-pager.jpg
END:VEVENT
BEGIN:VEVENT
DTSTART;TZID=America/Edmonton:20260505T103000
DTEND;TZID=America/Edmonton:20260505T233000
DTSTAMP:20260424T144533
CREATED:20260318T181638Z
LAST-MODIFIED:20260318T181725Z
UID:10057491-1777977000-1778023800@urbancasual.ca
SUMMARY:Mini Mustang Music
DESCRIPTION:Get ready to jam out at Mini Mustang Music — an exciting in-person event where little ones and their parents can connect\, make music\, and exercise their quickly developing brains! \nThere will be active music making\, time to connect\, snacks\, and a supportive home atmosphere for real relationships to be formed. \nThis group is run by Laura MacLeod\, a Certified Music Therapist and Counselling Therapist. \nThis service is covered by most benefit providers under counselling therapy. $25/class. \nOption to pay for full month in advance. Receipt will be sent once you reserve your spot on Eventbrite.
URL:https://urbancasual.ca/cochrane-event/mini-mustang-music-april/2026-05-05/
LOCATION:Heartland Music & Wellness\, 100 Paint Horse Drive\, Cochrane\, AB\, T4C 0X1\, Canada
CATEGORIES:Community,Family Friendly,Mental Health,Music,Parents & Caregivers
ATTACH;FMTTYPE=image/jpeg:https://urbancasual.ca/wp-content/uploads/2026/03/Blue-and-White-Modern-Horse-Riding-Course-Poster-2.jpg
ORGANIZER;CN="Heartland Music &amp%3B Wellness":MAILTO:Heartlandmusicandwellness@gmail.com
END:VEVENT
BEGIN:VEVENT
DTSTART;TZID=America/Edmonton:20260505T120000
DTEND;TZID=America/Edmonton:20260505T130000
DTSTAMP:20260424T144533
CREATED:20250926T150407Z
LAST-MODIFIED:20251223T153124Z
UID:10050534-1777982400-1777986000@urbancasual.ca
SUMMARY:Community Lunch
DESCRIPTION:Our weekly\, free Community Lunch is back! 😀🎉🍲 \nJoin us 12-1pm\, every Tuesday  for a hearty\, freshly-made bowl of soup…and more! \nCome for the food\, stay for the community\, here at St. Andrew’s United Church.
URL:https://urbancasual.ca/cochrane-event/community-lunch/2026-05-05/
LOCATION:Cochrane United Church\, 128 1st Street\, Cochrane\, Alberta
CATEGORIES:Church Events,Community,Downtown,Family Friendly,Food,Free
ATTACH;FMTTYPE=image/jpeg:https://urbancasual.ca/wp-content/uploads/2025/09/inbound7175185381606086455.jpg
END:VEVENT
BEGIN:VEVENT
DTSTART;TZID=America/Edmonton:20260505T160000
DTEND;TZID=America/Edmonton:20260505T180000
DTSTAMP:20260424T144533
CREATED:20260108T210530Z
LAST-MODIFIED:20260108T210818Z
UID:10053809-1777996800-1778004000@urbancasual.ca
SUMMARY:Drop In Shuffleboard at The Legion (Tuesdays)
DESCRIPTION:
URL:https://urbancasual.ca/cochrane-event/drop-in-shuffleboard-at-the-legion-tuesdays/2026-05-05/
LOCATION:The Legion\, 114 Fifth Ave\, Cochrane\, Canada
CATEGORIES:Community,Entertainment & Games,Family Friendly,Free,Legion
ATTACH;FMTTYPE=image/webp:https://urbancasual.ca/wp-content/uploads/2026/01/shuffleport.webp
END:VEVENT
BEGIN:VEVENT
DTSTART;TZID=America/Edmonton:20260505T163000
DTEND;TZID=America/Edmonton:20260505T210000
DTSTAMP:20260424T144533
CREATED:20260319T151832Z
LAST-MODIFIED:20260319T151908Z
UID:10057529-1777998600-1778014800@urbancasual.ca
SUMMARY:BINGO AT THE LEGION
DESCRIPTION:
URL:https://urbancasual.ca/cochrane-event/bingo-at-the-legion-apr-june/2026-05-05/
LOCATION:The Legion\, 114 Fifth Ave\, Cochrane\, Canada
CATEGORIES:Community,Entertainment & Games,Family Friendly,Legion,Pub/Bar Event
ATTACH;FMTTYPE=image/jpeg:https://urbancasual.ca/wp-content/uploads/2026/03/651812029_122213650940544523_1326299338438110366_n.jpg
END:VEVENT
END:VCALENDAR