BEGIN:VCALENDAR
VERSION:2.0
PRODID:-//Urbancasual.ca - ECPv6.15.20//NONSGML v1.0//EN
CALSCALE:GREGORIAN
METHOD:PUBLISH
X-ORIGINAL-URL:https://urbancasual.ca
X-WR-CALDESC:Events for Urbancasual.ca
REFRESH-INTERVAL;VALUE=DURATION:PT1H
X-Robots-Tag:noindex
X-PUBLISHED-TTL:PT1H
BEGIN:VTIMEZONE
TZID:America/Edmonton
BEGIN:DAYLIGHT
TZOFFSETFROM:-0700
TZOFFSETTO:-0600
TZNAME:MDT
DTSTART:20250309T090000
END:DAYLIGHT
BEGIN:STANDARD
TZOFFSETFROM:-0600
TZOFFSETTO:-0700
TZNAME:MST
DTSTART:20251102T080000
END:STANDARD
BEGIN:DAYLIGHT
TZOFFSETFROM:-0700
TZOFFSETTO:-0600
TZNAME:MDT
DTSTART:20260308T090000
END:DAYLIGHT
BEGIN:STANDARD
TZOFFSETFROM:-0600
TZOFFSETTO:-0700
TZNAME:MST
DTSTART:20261101T080000
END:STANDARD
BEGIN:DAYLIGHT
TZOFFSETFROM:-0700
TZOFFSETTO:-0600
TZNAME:MDT
DTSTART:20270314T090000
END:DAYLIGHT
BEGIN:STANDARD
TZOFFSETFROM:-0600
TZOFFSETTO:-0700
TZNAME:MST
DTSTART:20271107T080000
END:STANDARD
END:VTIMEZONE
BEGIN:VEVENT
DTSTART;TZID=America/Edmonton:20260502T090000
DTEND;TZID=America/Edmonton:20260502T160000
DTSTAMP:20260424T034524
CREATED:20260225T230213Z
LAST-MODIFIED:20260225T230213Z
UID:10056274-1777712400-1777737600@urbancasual.ca
SUMMARY:Leah's Marketplace - 16th Annual Garage Sale & Market for Big Hill Haven
DESCRIPTION:Are you ready for Cochrane’s BIGGEST Garage Sale at Leah’s Marketplace!?\n\nLeah Real Estate Group has partnered with the Cochrane Lions Club and Hyperion Moving Systems to bring you the 16th Annual Garage Sale & Market in support of our local emergency shelter\, Big Hill Haven!\n\nEvery year\, we accept item donations from the community\, and 100% of the sale proceeds are donated to Big Hill Haven\, last year we raised over $6\,000!\n\nFor item donations\, we will be accepting donations for TWO DAYS ONLY at Cochrane Lions Event Centre\, on April 30th & May 1st from 8am-8pm.\n\nIf you have been doing some spring cleaning and looking to get rid of stuff\, this is your perfect opportunity!\n\nSome restrictions to item donations apply\, including but not limited to:clothingbookstiresmattresses and bed framescomputers\, printers\, and computer accessoriescar seatsliquids\nItems must be in clean\, usable condition\, and we reserve the right to refuse donations at the time of drop off.\n\nThe Garage Sale accepts CASH or SQUARE PAYMENT.\n\nDon’t forget to visit the upstairs market! You will have the chance to check out and support a variety of our local small businesses.\n\nStay tuned for further announcements about what else we have in store for our favourite event of the year!!
URL:https://urbancasual.ca/cochrane-event/leahs-marketplace-16th-annual-garage-sale-and-market-2026/
LOCATION:The Lions Event Centre\, 109 5th Avenue\, Cochrane\, Alberta\, Canada
CATEGORIES:Community,Fundraiser,Garage Sales,LIONS EVENTS CENTRE,Market
ATTACH;FMTTYPE=image/jpeg:https://urbancasual.ca/wp-content/uploads/2026/02/642262357_1366257238876051_8788499104889387095_n.jpg
END:VEVENT
BEGIN:VEVENT
DTSTART;TZID=America/Edmonton:20260502T100000
DTEND;TZID=America/Edmonton:20260502T130000
DTSTAMP:20260424T034524
CREATED:20260330T223808Z
LAST-MODIFIED:20260423T145233Z
UID:10058645-1777716000-1777726800@urbancasual.ca
SUMMARY:The Cochrane Community Clean-Up
DESCRIPTION:The Cochrane Community Clean Up is back this spring\, inviting residents to come together and help keep local parks\, pathways and green spaces clean. The family-friendly event takes place Saturday\, May 2\, from 10 a.m. to 1 p.m.\, and everyone is welcome to participate. \nVolunteers can pick up supplies at designated pick-up/drop-off locations across Cochrane. Each site will have garbage bags and a clearly marked drop-off area for collected litter. Participants are encouraged to bring their own gloves and any additional tools they may need. Once the clean-up is complete\, the Town of Cochrane’s Parks and Open Spaces team will collect and dispose of the waste. \n“To help us plan and ensure we have enough supplies\, we encourage community groups and organizations to register in advance with their group size and preferred clean-up site\,” said Carly Davies\, Manager\, Parks & Recreation Services. “It’s a simple way to make a visible difference in our community a great way to spend time together outdoors.” \nCommunity groups that register will also be eligible for a participation prize. The group that collects the most bags per person will win a free block party trailer booking and a $200 grocery gift card. \nRegister your group today at cochrane.ca/community-clean-up and help make a lasting impact in our community. Together\, we can achieve remarkable results.
URL:https://urbancasual.ca/cochrane-event/the-cochrane-community-clean-up/
CATEGORIES:Community,Environment,Family Friendly,Parents & Caregivers,Town of Cochrane
ATTACH;FMTTYPE=image/jpeg:https://urbancasual.ca/wp-content/uploads/2026/03/678409278_1379191574233780_3792887953377830054_n.jpg
END:VEVENT
BEGIN:VEVENT
DTSTART;TZID=America/Edmonton:20260502T100000
DTEND;TZID=America/Edmonton:20260502T160000
DTSTAMP:20260424T034524
CREATED:20260108T172950Z
LAST-MODIFIED:20260108T172950Z
UID:10053532-1777716000-1777737600@urbancasual.ca
SUMMARY:Chamber of Commerce Trade Show 2026
DESCRIPTION:Save the date and join us May 2nd & 3rd from 10am to 4pm at the SLC Centre for the largest event of the year! \nWith over 100+ vendors\, a Kids Fun Zone\, fashion show\, live entertainment\, and daily prizes\, there’s something for everyone! \n🎟 Admission\nKids 12 & Under: FREE 13 & Up: $3/day \nBring the whole family and enjoy the best Cochrane has to offer!
URL:https://urbancasual.ca/cochrane-event/chamber-of-commerce-trade-show-2026/2026-05-02/
LOCATION:Spray Lake Sawmill Family Sports Centre\, 800 Griffin Road\, Cochrane\, AB
CATEGORIES:Business,Community,Entertainment & Games,Family Friendly,Learning,Networking,Spray Lakes Sawmill Rec Centre
ATTACH;FMTTYPE=image/jpeg:https://urbancasual.ca/wp-content/uploads/2026/01/inbound3021114357185220269.jpg
END:VEVENT
BEGIN:VEVENT
DTSTART;TZID=America/Edmonton:20260502T100000
DTEND;TZID=America/Edmonton:20260502T160000
DTSTAMP:20260424T034524
CREATED:20260407T214836Z
LAST-MODIFIED:20260407T220432Z
UID:10058752-1777716000-1777737600@urbancasual.ca
SUMMARY:67TH ANNUAL COCHRANE ART CLUB FINE ART - SHOW AND SALE
DESCRIPTION:67th Annual Cochrane Art Club Fine Art Show and Sale \n30 plus artist\, all members of the Cochrane Art Club \nAll original artwork\, in a wide range of styles\, media and subject matter\, beautifully framed to showcase the art. \nover 250 beautiful pieces and a chance to win an original artpiece by entering the draw. \nAlso\, participate by entering your submission for the people’s choice award. \nFREE ADMISSION \n  \nMAY 2 & 3 – 10 TO 4
URL:https://urbancasual.ca/cochrane-event/cochrane-art-club-fine-art-show-and-sale/2026-05-02/
LOCATION:Cochrane Ranchehouse\, 101 Ranchehouse Road\, Cochrane\, Alberta
CATEGORIES:Art,Club,Community,Entertainment & Games,Family Friendly
ATTACH;FMTTYPE=image/png:https://urbancasual.ca/wp-content/uploads/2026/04/CAC-POSTER-may-2026-show-scaled.png
END:VEVENT
BEGIN:VEVENT
DTSTART;TZID=America/Edmonton:20260502T110000
DTEND;TZID=America/Edmonton:20260502T120000
DTSTAMP:20260424T034524
CREATED:20240121T193907Z
LAST-MODIFIED:20240619T195906Z
UID:10022683-1777719600-1777723200@urbancasual.ca
SUMMARY:Let's Go Lego at the Cochrane Public Library
DESCRIPTION:Join us for our all-ages Let’s Go Lego drop-in\, where you can learn while having fun! We have lots of Lego Education and Steam sets and will be spending hands-on time letting our imaginations go wild! \nWe play on Saturdays between 11:00am and 12:00pm. \n\n 
URL:https://urbancasual.ca/cochrane-event/lets-go-lego-at-the-cochrane-public-library/2026-05-02/
LOCATION:Cochrane Public Library\, 405 Railway Street W\, Cochrane\, Alberta
CATEGORIES:Community,Downtown,Entertainment & Games,Family Friendly,Free,Library,Parents & Caregivers
ATTACH;FMTTYPE=image/jpeg:https://urbancasual.ca/wp-content/uploads/2024/01/Let-s-Go-LEGO.jpg
END:VEVENT
BEGIN:VEVENT
DTSTART;TZID=America/Edmonton:20260502T120000
DTEND;TZID=America/Edmonton:20260502T170000
DTSTAMP:20260424T034524
CREATED:20260421T211341Z
LAST-MODIFIED:20260421T211341Z
UID:10059618-1777723200-1777741200@urbancasual.ca
SUMMARY:CAST at The Common Works in Cochrane
DESCRIPTION:We’re pleased to share that The Common Works is a Community Sponsor for CAST 2026\, the Calgary Artists Studio Tour!\n\nCAST is a self guided art weekend that invites the public to explore artists’ studios across Calgary and surrounding areas\, meet artists in person\, learn about their creative process\, and purchase original work directly from them.\n\nThis year\, a wonderful group of Cochrane and area artists has chosen the Makespace at The Common Works as their temporary studio for the weekend. We are especially proud to see such a strong number of Cochrane artists participating this year. This is sure to be a stop on the tour not to be missed.\n\nWe’ll be opening our doors to art lovers\, collectors\, and visitors to come meet the artists\, experience their work up close\, and be part of this vibrant celebration of local art.\n\nJoin us May 1 to 3\, 2026\nFriday 4 PM to 8 PMSaturday 12 PM to 5 PMSunday 12 PM to 5 PM
URL:https://urbancasual.ca/cochrane-event/cast-at-the-common-works-in-cochrane/2026-05-02/
CATEGORIES:Art,Business,Community,Gallery
ATTACH;FMTTYPE=image/jpeg:https://urbancasual.ca/wp-content/uploads/2026/04/661631796_122150887322987411_9114317517847005235_n.jpg
END:VEVENT
BEGIN:VEVENT
DTSTART;TZID=America/Edmonton:20260502T130000
DTEND;TZID=America/Edmonton:20260502T170000
DTSTAMP:20260424T034524
CREATED:20250123T184432Z
LAST-MODIFIED:20250123T184432Z
UID:10044230-1777726800-1777741200@urbancasual.ca
SUMMARY:Saturday Meat Draws at the Legion
DESCRIPTION:Come out and try your luck at winning one or more of our 16 weekly food and/or gift card prizes \nCheck out our website for other events: www.cochranelegion.ca\nFollow us on Facebook: Cochrane Legion\, Men of Vision\, Branch 15
URL:https://urbancasual.ca/cochrane-event/saturday-meat-draws-at-the-legion/2026-05-02/
LOCATION:Cochrane Legion\, 114 5th Ave\, Cochrane\, Alberta\, T4C 1A5\, Canada
CATEGORIES:Community,Dance
ATTACH;FMTTYPE=image/jpeg:https://urbancasual.ca/wp-content/uploads/2025/01/53.jpg
END:VEVENT
BEGIN:VEVENT
DTSTART;TZID=America/Edmonton:20260502T140000
DTEND;TZID=America/Edmonton:20260502T160000
DTSTAMP:20260424T034524
CREATED:20260108T210716Z
LAST-MODIFIED:20260108T210716Z
UID:10053860-1777730400-1777737600@urbancasual.ca
SUMMARY:Drop In Shuffleboard at The Legion (Saturdays)
DESCRIPTION:
URL:https://urbancasual.ca/cochrane-event/drop-in-shuffleboard-at-the-legion-saturdays/2026-05-02/
LOCATION:The Legion\, 114 Fifth Ave\, Cochrane\, Canada
CATEGORIES:Community,Entertainment & Games,Family Friendly,Free,Legion
ATTACH;FMTTYPE=image/webp:https://urbancasual.ca/wp-content/uploads/2026/01/shuffleport.webp
END:VEVENT
BEGIN:VEVENT
DTSTART;TZID=America/Edmonton:20260502T180000
DTEND;TZID=America/Edmonton:20260502T200000
DTSTAMP:20260424T034524
CREATED:20260416T171102Z
LAST-MODIFIED:20260416T171102Z
UID:10059330-1777744800-1777752000@urbancasual.ca
SUMMARY:TAKE A BOW PRESENTS NOISES OFF
DESCRIPTION:Come see Noises Off! like you’ve never seen it before May 1-3 and May 8-10 at the Cochrane Ranchehouse.\n\nTickets are available now at the link below or at the door to the show.\n\n\nhttps://www.showpass.com/noises-off-by-michael-frayn/\n\n\n\nFRIDAY MAY 1 – 7PM\nSATURDAY MAY 2 – 6PM\nSUNDAY MAY 3 – 2PM\n\nFRIDAY MAY 8 – 7PM\nSATURDAY MAY 9 – 6PM\nSUNDAY MAY 10 – 2PM
URL:https://urbancasual.ca/cochrane-event/take-a-bow-presents-noises-off/2026-05-02/
LOCATION:The Cochrane Ranchehouse\, 1 Ranchehouse Road\, Cochrane\, Alberta
CATEGORIES:Community,Entertainment & Games,Family Friendly,Theatre
ATTACH;FMTTYPE=image/jpeg:https://urbancasual.ca/wp-content/uploads/2026/04/inbound6068098848951375494.jpg
ORGANIZER;CN="Take A Bow Community Theatre":MAILTO:Info@takeabow.ca
END:VEVENT
END:VCALENDAR