BEGIN:VCALENDAR
VERSION:2.0
PRODID:-//Urbancasual.ca - ECPv6.15.20//NONSGML v1.0//EN
CALSCALE:GREGORIAN
METHOD:PUBLISH
X-WR-CALNAME:Urbancasual.ca
X-ORIGINAL-URL:https://urbancasual.ca
X-WR-CALDESC:Events for Urbancasual.ca
REFRESH-INTERVAL;VALUE=DURATION:PT1H
X-Robots-Tag:noindex
X-PUBLISHED-TTL:PT1H
BEGIN:VTIMEZONE
TZID:America/Edmonton
BEGIN:DAYLIGHT
TZOFFSETFROM:-0700
TZOFFSETTO:-0600
TZNAME:MDT
DTSTART:20250309T090000
END:DAYLIGHT
BEGIN:STANDARD
TZOFFSETFROM:-0600
TZOFFSETTO:-0700
TZNAME:MST
DTSTART:20251102T080000
END:STANDARD
BEGIN:DAYLIGHT
TZOFFSETFROM:-0700
TZOFFSETTO:-0600
TZNAME:MDT
DTSTART:20260308T090000
END:DAYLIGHT
BEGIN:STANDARD
TZOFFSETFROM:-0600
TZOFFSETTO:-0700
TZNAME:MST
DTSTART:20261101T080000
END:STANDARD
BEGIN:DAYLIGHT
TZOFFSETFROM:-0700
TZOFFSETTO:-0600
TZNAME:MDT
DTSTART:20270314T090000
END:DAYLIGHT
BEGIN:STANDARD
TZOFFSETFROM:-0600
TZOFFSETTO:-0700
TZNAME:MST
DTSTART:20271107T080000
END:STANDARD
END:VTIMEZONE
BEGIN:VEVENT
DTSTART;TZID=America/Edmonton:20260422T190000
DTEND;TZID=America/Edmonton:20260422T200000
DTSTAMP:20260419T221019
CREATED:20260325T000927Z
LAST-MODIFIED:20260325T000927Z
UID:10057642-1776884400-1776888000@urbancasual.ca
SUMMARY:Cochrane Walk Crew Wednesdays
DESCRIPTION:📣👟 Cochrane Walk Crew is BACK! 👟📣\nWith the days getting longer and the evenings brighter\, it’s the perfect time to get moving again. \nWE ARE BACK starting next week\, WEDNESDAY\, APRIL 1ST – 7pm at Mitford Park. \nGrab your friends\, bring the family\, and don’t forget your furry companions 👟—everyone is welcome! Whether you’re looking to stay active\, meet new people\, or just enjoy the fresh air\, we’d love to have you join us. \nLet’s make the most of these beautiful evenings together.
URL:https://urbancasual.ca/cochrane-event/cochrane-walk-crew-wednesdays/2026-04-22/
LOCATION:Mitford Park
CATEGORIES:Community,Family Friendly,Fitness,Free,Health & Wellness
ATTACH;FMTTYPE=image/jpeg:https://urbancasual.ca/wp-content/uploads/2026/03/inbound8174199779330249400.jpg
END:VEVENT
BEGIN:VEVENT
DTSTART;TZID=America/Edmonton:20260422T190000
DTEND;TZID=America/Edmonton:20260422T210000
DTSTAMP:20260419T221019
CREATED:20260107T215720Z
LAST-MODIFIED:20260107T215720Z
UID:10053458-1776884400-1776891600@urbancasual.ca
SUMMARY:WRITER'S UNPLUGGED: OPEN MIC AT FOUND
DESCRIPTION:Join us for the Writers’ Unplugged – An Open Mic Night. \nShare your words while surrounded by walls of books\, in front of the friendliest audience you’ll ever meet. It’s easy. Show up with a max of 5 minutes of material to share. Throw your name into the hat. Readers are drawn at random. Poetry\, fiction\, non-fiction\, songs\, dramatic monologues…anything goes. Maybe you’re not ready to read in front of people and just want to enjoy the show. Be a part of our live studio audience\, cheer on our writers. \nSee you soon.
URL:https://urbancasual.ca/cochrane-event/writers-unplugged-open-mic-at-found/2026-04-22/
LOCATION:Found Book Shop\, 206 1st Street W\, Cochrane\, AB
CATEGORIES:Business,Community,Entertainment & Games,Music,Networking,OPEN MIC,Pub/Bar Event
ATTACH;FMTTYPE=image/jpeg:https://urbancasual.ca/wp-content/uploads/2026/01/605999718_1466878912106258_9063168567219491639_n.jpg
END:VEVENT
BEGIN:VEVENT
DTSTART;TZID=America/Edmonton:20260422T190000
DTEND;TZID=America/Edmonton:20260422T210000
DTSTAMP:20260419T221019
CREATED:20260108T205814Z
LAST-MODIFIED:20260108T205852Z
UID:10053703-1776884400-1776891600@urbancasual.ca
SUMMARY:CRIB NIGHT AT THE LEGION (DROP IN)
DESCRIPTION:DROP IN WEDNESDAYS AT 7PM
URL:https://urbancasual.ca/cochrane-event/crib-night-at-the-legion-drop-in-2026/2026-04-22/
LOCATION:The Legion\, 114 Fifth Ave\, Cochrane\, Canada
CATEGORIES:Community,Entertainment & Games,Free,Legion
ATTACH;FMTTYPE=image/jpeg:https://urbancasual.ca/wp-content/uploads/2026/01/612448591_122206154084544523_119305468904507709_n.jpg
END:VEVENT
END:VCALENDAR