BEGIN:VCALENDAR
VERSION:2.0
PRODID:-//Urbancasual.ca - ECPv6.15.20//NONSGML v1.0//EN
CALSCALE:GREGORIAN
METHOD:PUBLISH
X-ORIGINAL-URL:https://urbancasual.ca
X-WR-CALDESC:Events for Urbancasual.ca
REFRESH-INTERVAL;VALUE=DURATION:PT1H
X-Robots-Tag:noindex
X-PUBLISHED-TTL:PT1H
BEGIN:VTIMEZONE
TZID:America/Edmonton
BEGIN:DAYLIGHT
TZOFFSETFROM:-0700
TZOFFSETTO:-0600
TZNAME:MDT
DTSTART:20240310T090000
END:DAYLIGHT
BEGIN:STANDARD
TZOFFSETFROM:-0600
TZOFFSETTO:-0700
TZNAME:MST
DTSTART:20241103T080000
END:STANDARD
BEGIN:DAYLIGHT
TZOFFSETFROM:-0700
TZOFFSETTO:-0600
TZNAME:MDT
DTSTART:20250309T090000
END:DAYLIGHT
BEGIN:STANDARD
TZOFFSETFROM:-0600
TZOFFSETTO:-0700
TZNAME:MST
DTSTART:20251102T080000
END:STANDARD
BEGIN:DAYLIGHT
TZOFFSETFROM:-0700
TZOFFSETTO:-0600
TZNAME:MDT
DTSTART:20260308T090000
END:DAYLIGHT
BEGIN:STANDARD
TZOFFSETFROM:-0600
TZOFFSETTO:-0700
TZNAME:MST
DTSTART:20261101T080000
END:STANDARD
END:VTIMEZONE
BEGIN:VEVENT
DTSTART;TZID=America/Edmonton:20251130T130000
DTEND;TZID=America/Edmonton:20251130T170000
DTSTAMP:20260420T132814
CREATED:20250808T234555Z
LAST-MODIFIED:20250808T234555Z
UID:10049923-1764507600-1764522000@urbancasual.ca
SUMMARY:SUNDAY JAM AT THE LEGION
DESCRIPTION:DOORS OPEN AT 1PM \nJAM STARTS AT 2PM
URL:https://urbancasual.ca/cochrane-event/sunday-jam-at-the-legion-3/2025-11-30/
LOCATION:The Legion\, 114 Fifth Ave\, Cochrane\, Canada
CATEGORIES:Community,Entertainment & Games,Family Friendly,Music,OPEN MIC,Parents & Caregivers
ATTACH;FMTTYPE=image/jpeg:https://urbancasual.ca/wp-content/uploads/2025/08/528714354_122185878086544523_8264551211710086241_n-1.jpg
END:VEVENT
BEGIN:VEVENT
DTSTART;TZID=America/Edmonton:20251130T140000
DTEND;TZID=America/Edmonton:20251130T160000
DTSTAMP:20260420T132814
CREATED:20251119T224056Z
LAST-MODIFIED:20251119T224056Z
UID:10051224-1764511200-1764518400@urbancasual.ca
SUMMARY:GOLDILOCKS - PANTOMIME
DESCRIPTION:Join Goldilocks and her family as they work together with three bears to stop the Squire’s evil plan! \nA silly\, topsy-turvy re-telling of the classic story that the whole family will enjoy! \nWritten by Ron Hall and Directed by Anita McDonald
URL:https://urbancasual.ca/cochrane-event/goldilocks-pantomime/2025-11-30/
LOCATION:Alberta
CATEGORIES:Community,Culture,Entertainment & Games,Family Friendly,Theatre
ATTACH;FMTTYPE=image/webp:https://urbancasual.ca/wp-content/uploads/2025/11/3dae99a8-e72.webp
END:VEVENT
BEGIN:VEVENT
DTSTART;TZID=America/Edmonton:20251130T150000
DTEND;TZID=America/Edmonton:20251130T173000
DTSTAMP:20260420T132814
CREATED:20250730T172415Z
LAST-MODIFIED:20250730T174612Z
UID:10049792-1764514800-1764523800@urbancasual.ca
SUMMARY:Cochrane Generals at Home - November
DESCRIPTION:REGULAR SEASON: \nVS MEDICINE HAT CUBS – FRIDAY\, NOVEMBER 7/25 – 730PM \nVS AIRDRIE THUNDER – SUNDAY\, NOVEMBER 23/25 – 415PM \nVS HIGH RIVER FLYERS – SATURDAY\, NOVEMBER 29/25 – 415PM \nVS  RED DEER VIPERS – SUNDAY\, NOVEMBER 30/25 – 3PM \n 
URL:https://urbancasual.ca/cochrane-event/cochrane-generals-at-home-november/2025-11-30/
LOCATION:Spray Lake Sawmill Family Sports Centre\, 800 Griffin Road\, Cochrane\, AB
CATEGORIES:Cochrane Generals,Community,Entertainment & Games,HOCKEY,Sports,Spray Lakes Sawmill Rec Centre
ATTACH;FMTTYPE=image/jpeg:https://urbancasual.ca/wp-content/uploads/2025/07/521683219_2830253564031456_3663041020426732163_n.jpg
END:VEVENT
BEGIN:VEVENT
DTSTART;TZID=America/Edmonton:20251130T170000
DTEND;TZID=America/Edmonton:20251130T190000
DTSTAMP:20260420T132814
CREATED:20251121T175904Z
LAST-MODIFIED:20251121T175904Z
UID:10051237-1764522000-1764529200@urbancasual.ca
SUMMARY:SHARE YOUR CHRISTMAS PARADES
DESCRIPTION:The Share Your Christmas Parades are coming to your neighbourhood! \nThis is a great opportunity to donate non perishable food and unwrapped toys for the Cochrane Activettes ‘Share Your Christmas’ Hamper Program. \nEach parade is scheduled to start at 5pm and will run until 7pm. \n  \n  \n2025 SHARE YOUR CHRISTMAS PARADES\nNOVEMBER 27 – HEARTLAND\, HERITAGE HILLS\, COCHRANE HEIGHTS & SUNTERRA \nNOVEMBER 28 – SUNSET RIDGE \nNOVEMBER 30 – ALL RIVERSONG COMMUNITIES AND FIRESIDE \nDECEMBER 2 – RIVERVIEW\, GLENBOW & GREYSTONE \nDECEMBER 3 – WEST TERRACE & WEST VALLEY \nDECEMBER 5 – BOW MEADOWS\, BOW RIDGE & JUMPING POUND \nDECEMBER 7 – EAST END\, GLENEAGLES \nPARADES WILL START AT 5PM AND RUN UNTIL 7PM
URL:https://urbancasual.ca/cochrane-event/share-your-christmas-parades/2025-11-30/
LOCATION:Alberta
CATEGORIES:Community,Family Friendly,Food Drive,Fundraiser,HOLIDAY FUN
ATTACH;FMTTYPE=image/jpeg:https://urbancasual.ca/wp-content/uploads/2025/11/YOU-ARE-INVITED-TO.jpg
END:VEVENT
END:VCALENDAR