BEGIN:VCALENDAR
VERSION:2.0
PRODID:-//Urbancasual.ca - ECPv6.15.20//NONSGML v1.0//EN
CALSCALE:GREGORIAN
METHOD:PUBLISH
X-WR-CALNAME:Urbancasual.ca
X-ORIGINAL-URL:https://urbancasual.ca
X-WR-CALDESC:Events for Urbancasual.ca
REFRESH-INTERVAL;VALUE=DURATION:PT1H
X-Robots-Tag:noindex
X-PUBLISHED-TTL:PT1H
BEGIN:VTIMEZONE
TZID:America/Edmonton
BEGIN:DAYLIGHT
TZOFFSETFROM:-0700
TZOFFSETTO:-0600
TZNAME:MDT
DTSTART:20240310T090000
END:DAYLIGHT
BEGIN:STANDARD
TZOFFSETFROM:-0600
TZOFFSETTO:-0700
TZNAME:MST
DTSTART:20241103T080000
END:STANDARD
BEGIN:DAYLIGHT
TZOFFSETFROM:-0700
TZOFFSETTO:-0600
TZNAME:MDT
DTSTART:20250309T090000
END:DAYLIGHT
BEGIN:STANDARD
TZOFFSETFROM:-0600
TZOFFSETTO:-0700
TZNAME:MST
DTSTART:20251102T080000
END:STANDARD
BEGIN:DAYLIGHT
TZOFFSETFROM:-0700
TZOFFSETTO:-0600
TZNAME:MDT
DTSTART:20260308T090000
END:DAYLIGHT
BEGIN:STANDARD
TZOFFSETFROM:-0600
TZOFFSETTO:-0700
TZNAME:MST
DTSTART:20261101T080000
END:STANDARD
END:VTIMEZONE
BEGIN:VEVENT
DTSTART;TZID=America/Edmonton:20251125T120000
DTEND;TZID=America/Edmonton:20251125T130000
DTSTAMP:20260419T062327
CREATED:20250926T150407Z
LAST-MODIFIED:20251223T153124Z
UID:10050511-1764072000-1764075600@urbancasual.ca
SUMMARY:Community Lunch
DESCRIPTION:Our weekly\, free Community Lunch is back! 😀🎉🍲 \nJoin us 12-1pm\, every Tuesday  for a hearty\, freshly-made bowl of soup…and more! \nCome for the food\, stay for the community\, here at St. Andrew’s United Church.
URL:https://urbancasual.ca/cochrane-event/community-lunch/2025-11-25/
LOCATION:Cochrane United Church\, 128 1st Street\, Cochrane\, Alberta
CATEGORIES:Church Events,Community,Downtown,Family Friendly,Food,Free
ATTACH;FMTTYPE=image/jpeg:https://urbancasual.ca/wp-content/uploads/2025/09/inbound7175185381606086455.jpg
END:VEVENT
BEGIN:VEVENT
DTSTART;TZID=America/Edmonton:20251125T160000
DTEND;TZID=America/Edmonton:20251125T180000
DTSTAMP:20260419T062327
CREATED:20250116T213557Z
LAST-MODIFIED:20250116T214050Z
UID:10043378-1764086400-1764093600@urbancasual.ca
SUMMARY:LEGION: SHUFFLE BOARD
DESCRIPTION:DROP IN TUESDAYS AND THURSDAYS AT 4PM \nDROP IN SATURDAYS AT 2PM \n  \n 
URL:https://urbancasual.ca/cochrane-event/legion-shuffle-board/2025-11-25/
LOCATION:The Legion\, 114 Fifth Ave\, Cochrane\, Canada
CATEGORIES:Adults Only,Community,Entertainment & Games,Networking,Parents & Caregivers,Seniors
ATTACH;FMTTYPE=image/jpeg:https://urbancasual.ca/wp-content/uploads/2025/01/Shuffleboard.jpg
END:VEVENT
BEGIN:VEVENT
DTSTART;TZID=America/Edmonton:20251125T160000
DTEND;TZID=America/Edmonton:20251125T180000
DTSTAMP:20260419T062327
CREATED:20250116T215252Z
LAST-MODIFIED:20250116T215252Z
UID:10043789-1764086400-1764093600@urbancasual.ca
SUMMARY:LEGION: CRIB
DESCRIPTION:DROP IN WEDNESDAYS AT 6PM \n  \n 
URL:https://urbancasual.ca/cochrane-event/legion-crib/2025-11-25/
LOCATION:The Legion\, 114 Fifth Ave\, Cochrane\, Canada
CATEGORIES:Adults Only,Community,Entertainment & Games,Networking,Parents & Caregivers,Seniors
ATTACH;FMTTYPE=image/jpeg:https://urbancasual.ca/wp-content/uploads/2025/01/Crib-1.jpg
END:VEVENT
BEGIN:VEVENT
DTSTART;TZID=America/Edmonton:20251125T190000
DTEND;TZID=America/Edmonton:20251125T210000
DTSTAMP:20260419T062327
CREATED:20230518T210646Z
LAST-MODIFIED:20250512T220248Z
UID:10009643-1764097200-1764104400@urbancasual.ca
SUMMARY:Start Up Cochrane
DESCRIPTION:WHEN: Join us on the FOURTH Tuesday night of each month\, 7 PM – 9 PM at The Corner Coworking on Railway Street E in Cochrane\, AB.\n\nNOTE: EACH MONTH WE WILL UPDATE IF THERE WILL BE A TOPIC OR PRESENTER.\n\nCOST: Free\n\nWhat can I do? How do I get involved?\n\nFor these events to be a success\, and to grow the local #startup community\, we need entrepreneurs at all stages of the startup & launch phases.\n\n-Got a new idea?\n-Have a concept you are curious about?\n-Ready to pitch for funding?\n-Looking to grow an existing business?\nPLUS\n-Have you launched a new business already?\n-Are you an investor?\n-Been involved in startups before? (Successful & less successful)\n-Just plain curious?
URL:https://urbancasual.ca/cochrane-event/start-up-cochrane-4/2025-11-25/
LOCATION:The Corner Coworking\, 225 Railway Street E\, Cochrane
CATEGORIES:Business,Community,Learning,Networking
ATTACH;FMTTYPE=image/jpeg:https://urbancasual.ca/wp-content/uploads/2025/05/3-START-UP-1640-X-850.jpg
END:VEVENT
BEGIN:VEVENT
DTSTART;TZID=America/Edmonton:20251125T190000
DTEND;TZID=America/Edmonton:20251125T220000
DTSTAMP:20260419T062327
CREATED:20251031T185612Z
LAST-MODIFIED:20251031T185612Z
UID:10051114-1764097200-1764108000@urbancasual.ca
SUMMARY:Paint and Create for Mitford Playground
DESCRIPTION:Come and support the Mitford Playground Committee and enjoy a paint filled night with creativity\, laughter and connection. During this all ages paint night you will be guided through the process step by step. No experience required! All supplies are provided. \nDrinks and food will be available for purchase through Half Hitch Brewing.
URL:https://urbancasual.ca/cochrane-event/paint-and-create-for-mitford-playground/
LOCATION:Half Hitch Brewery
CATEGORIES:Art,Community,Fundraiser,Pub/Bar Event
ATTACH;FMTTYPE=image/jpeg:https://urbancasual.ca/wp-content/uploads/2025/10/PSC-Cochrane-Fundraiser-NOV-25.jpg
ORGANIZER;CN="Mitford Playground Committee":MAILTO:Mitford.playground@gmail.com
END:VEVENT
END:VCALENDAR