BEGIN:VCALENDAR
VERSION:2.0
PRODID:-//Urbancasual.ca - ECPv6.15.20//NONSGML v1.0//EN
CALSCALE:GREGORIAN
METHOD:PUBLISH
X-ORIGINAL-URL:https://urbancasual.ca
X-WR-CALDESC:Events for Urbancasual.ca
REFRESH-INTERVAL;VALUE=DURATION:PT1H
X-Robots-Tag:noindex
X-PUBLISHED-TTL:PT1H
BEGIN:VTIMEZONE
TZID:America/Edmonton
BEGIN:DAYLIGHT
TZOFFSETFROM:-0700
TZOFFSETTO:-0600
TZNAME:MDT
DTSTART:20240310T090000
END:DAYLIGHT
BEGIN:STANDARD
TZOFFSETFROM:-0600
TZOFFSETTO:-0700
TZNAME:MST
DTSTART:20241103T080000
END:STANDARD
BEGIN:DAYLIGHT
TZOFFSETFROM:-0700
TZOFFSETTO:-0600
TZNAME:MDT
DTSTART:20250309T090000
END:DAYLIGHT
BEGIN:STANDARD
TZOFFSETFROM:-0600
TZOFFSETTO:-0700
TZNAME:MST
DTSTART:20251102T080000
END:STANDARD
BEGIN:DAYLIGHT
TZOFFSETFROM:-0700
TZOFFSETTO:-0600
TZNAME:MDT
DTSTART:20260308T090000
END:DAYLIGHT
BEGIN:STANDARD
TZOFFSETFROM:-0600
TZOFFSETTO:-0700
TZNAME:MST
DTSTART:20261101T080000
END:STANDARD
END:VTIMEZONE
BEGIN:VEVENT
DTSTART;TZID=America/Edmonton:20251120T120000
DTEND;TZID=America/Edmonton:20251120T123000
DTSTAMP:20260421T094639
CREATED:20250423T180329Z
LAST-MODIFIED:20260115T173809Z
UID:10047135-1763640000-1763641800@urbancasual.ca
SUMMARY:Cochrane Weekend Buzz - Weekly Series
DESCRIPTION:� Join us every Thursday at 12pm for the Cochrane Weekend Buzz! \nStay in the loop about upcoming events and fun activities happening right here in our community. \nTune in on our website\, Facebook\, Instagram or YouTube\, to connect with your neighbors and discover what Cochrane has to offer. \n  \n 
URL:https://urbancasual.ca/cochrane-event/cochrane-weekend-buzz-weekly-series/2025-11-20/
LOCATION:Alberta
CATEGORIES:Community
ATTACH;FMTTYPE=image/jpeg:https://urbancasual.ca/wp-content/uploads/2025/04/2026-LIVESTREAM-3.jpg
END:VEVENT
BEGIN:VEVENT
DTSTART;TZID=America/Edmonton:20251120T180000
DTEND;TZID=America/Edmonton:20251120T193000
DTSTAMP:20260421T094639
CREATED:20251119T180113Z
LAST-MODIFIED:20251119T180113Z
UID:10051193-1763661600-1763667000@urbancasual.ca
SUMMARY:OUT-OF-PROVINCE UNIVERSITY FAIR
DESCRIPTION:🎉Cochrane Public Event!🎉 \nAre you located in the surrounding Cochrane area? Come visit the Alberta Out-Of-Province University Fair featuring 40+ post-secondary institutions from across Canada to learn more about programs\, admissions\, how to apply and more! \n📅 Thursday\, November 20\, 2025 from 6:00 p.m. – 7:30 p.m.\n📍Cochrane High SchooL \nWe hope to see you there! \n#CanadianUniversities #StudyInCanada #OutOfProvinceUniversityFairs #OutOfProvince #AlbertaOOP #AlbertaOOP2025 #StudyAcrossCanada
URL:https://urbancasual.ca/cochrane-event/out-of-province-university-fair/
LOCATION:Alberta
CATEGORIES:Community,Learning,Parents & Caregivers,School,Students,Youth
ATTACH;FMTTYPE=image/jpeg:https://urbancasual.ca/wp-content/uploads/2025/11/inbound3016209465969689525.jpg
END:VEVENT
BEGIN:VEVENT
DTSTART;TZID=America/Edmonton:20251120T180000
DTEND;TZID=America/Edmonton:20251120T210000
DTSTAMP:20260421T094639
CREATED:20250116T215043Z
LAST-MODIFIED:20250116T215043Z
UID:10043738-1763661600-1763672400@urbancasual.ca
SUMMARY:LEGION: EUCHRE
DESCRIPTION:DROP IN THURSDAY NIGHTS AT 6PM \n  \n 
URL:https://urbancasual.ca/cochrane-event/legion-euchre/2025-11-20/
LOCATION:The Legion\, 114 Fifth Ave\, Cochrane\, Canada
CATEGORIES:Adults Only,Community,Entertainment & Games,Networking,Parents & Caregivers,Seniors
ATTACH;FMTTYPE=image/jpeg:https://urbancasual.ca/wp-content/uploads/2025/01/EUCHRE.jpeg
END:VEVENT
END:VCALENDAR