BEGIN:VCALENDAR
VERSION:2.0
PRODID:-//Urbancasual.ca - ECPv6.15.20//NONSGML v1.0//EN
CALSCALE:GREGORIAN
METHOD:PUBLISH
X-ORIGINAL-URL:https://urbancasual.ca
X-WR-CALDESC:Events for Urbancasual.ca
REFRESH-INTERVAL;VALUE=DURATION:PT1H
X-Robots-Tag:noindex
X-PUBLISHED-TTL:PT1H
BEGIN:VTIMEZONE
TZID:America/Edmonton
BEGIN:DAYLIGHT
TZOFFSETFROM:-0700
TZOFFSETTO:-0600
TZNAME:MDT
DTSTART:20240310T090000
END:DAYLIGHT
BEGIN:STANDARD
TZOFFSETFROM:-0600
TZOFFSETTO:-0700
TZNAME:MST
DTSTART:20241103T080000
END:STANDARD
BEGIN:DAYLIGHT
TZOFFSETFROM:-0700
TZOFFSETTO:-0600
TZNAME:MDT
DTSTART:20250309T090000
END:DAYLIGHT
BEGIN:STANDARD
TZOFFSETFROM:-0600
TZOFFSETTO:-0700
TZNAME:MST
DTSTART:20251102T080000
END:STANDARD
BEGIN:DAYLIGHT
TZOFFSETFROM:-0700
TZOFFSETTO:-0600
TZNAME:MDT
DTSTART:20260308T090000
END:DAYLIGHT
BEGIN:STANDARD
TZOFFSETFROM:-0600
TZOFFSETTO:-0700
TZNAME:MST
DTSTART:20261101T080000
END:STANDARD
END:VTIMEZONE
BEGIN:VEVENT
DTSTART;TZID=America/Edmonton:20251108T100000
DTEND;TZID=America/Edmonton:20251108T160000
DTSTAMP:20260420T113715
CREATED:20251015T190317Z
LAST-MODIFIED:20251015T190317Z
UID:10050592-1762596000-1762617600@urbancasual.ca
SUMMARY:Small Works Art Show
DESCRIPTION:Looking for unique holiday gifts\, cards\, or something special for your walls? Stop by the Small Works Art Show\, featuring original\, affordable artwork by local Cochrane artists. \nMeet the artists\, discover one-of-a-kind pieces\, affordable prints\, cards\, and connect with our creative community. Come say hi and see what we’ve been working on!
URL:https://urbancasual.ca/cochrane-event/small-works-art-show/
LOCATION:Cochrane Alliance Church\, 902 Glenbow Drive\, Cochrane\, Alberta\, Canada
CATEGORIES:Art,Church Events,Community,Sale
ATTACH;FMTTYPE=image/jpeg:https://urbancasual.ca/wp-content/uploads/2025/10/CAC-nov-8-2025-sale-invitation_1760015116645.jpg
END:VEVENT
BEGIN:VEVENT
DTSTART;TZID=America/Edmonton:20251108T100000
DTEND;TZID=America/Edmonton:20251108T160000
DTSTAMP:20260420T113715
CREATED:20251027T180306Z
LAST-MODIFIED:20251027T180306Z
UID:10050998-1762596000-1762617600@urbancasual.ca
SUMMARY:Friends of the Cochrane Public Library Book Sale
DESCRIPTION:Fall into reading at the Friends of the Cochrane Public Library Fall Book Sale! \nJoin us at the Cochrane Ranchehouse for amazing deals on books and movies while supporting our local library! \nWhen: \nSaturday\, November 8 | 10:00 AM – 4:00 PM\nSunday\, November 9 | 10:00 AM – 2:00 PM \nAll proceeds go toward supporting Library services and collections. \nWe’re also accepting donations of gently used books and movies during sale hours. Please note: we can’t accept Reader’s Digest\, textbooks\, or encyclopedias.
URL:https://urbancasual.ca/cochrane-event/friends-of-the-cochrane-public-library-book-sale/2025-11-08/
LOCATION:Cochrane Ranchehouse\, 101 Ranchehouse Road\, Cochrane\, Alberta
CATEGORIES:book sale,Community,Family Friendly,Library,Parents & Caregivers,Seniors
ATTACH;FMTTYPE=image/jpeg:https://urbancasual.ca/wp-content/uploads/2025/10/Book-Sale-Poster-1-1.jpg
ORGANIZER;CN="Friends of the Cochrane Public Library":MAILTO:info@cplfriends.com
END:VEVENT
BEGIN:VEVENT
DTSTART;TZID=America/Edmonton:20251108T100000
DTEND;TZID=America/Edmonton:20251108T180000
DTSTAMP:20260420T113715
CREATED:20251027T180126Z
LAST-MODIFIED:20251027T180126Z
UID:10051070-1762596000-1762624800@urbancasual.ca
SUMMARY:Foxy Box Cochrane 3rd Anniversary Party!
DESCRIPTION:🎉 Foxy Box Cochrane’s 3rd Anniversary Party! 🎉 \nWe’re turning three and it’s all thanks to YOU\, our foxy fam! 💖 Join us on November 8th & 9th as we celebrate three fabulous years of smooth moves\, glowing skin\, and good vibes. \nWe’ll be celebrating with: \n✨ Special guests bringing extra fun and foxy energy \n🍪 Snacks & treats to keep you fueled while you mingle \n💸 Amazing anniversary deals you won’t want to miss \nIt’s our way of saying thank you for all the love and support you’ve shown us over the past three years. Come hang out\, shop the sales\, and celebrate all things foxy with us! 🦊💕 \n📍 Foxy Box Cochrane \n📅 November 8th & 9th
URL:https://urbancasual.ca/cochrane-event/foxy-box-cochrane-3rd-anniversary-party/2025-11-08/
LOCATION:Foxy Box Cochrane\, 302\, 120-5th Ave\, Cochrane\, Alberta\, T4C 0A4\, Canada
CATEGORIES:Anniversary,Business,Community
ATTACH;FMTTYPE=image/jpeg:https://urbancasual.ca/wp-content/uploads/2025/10/2.jpg
END:VEVENT
BEGIN:VEVENT
DTSTART;TZID=America/Edmonton:20251108T110000
DTEND;TZID=America/Edmonton:20251108T120000
DTSTAMP:20260420T113715
CREATED:20240121T193907Z
LAST-MODIFIED:20240619T195906Z
UID:10022658-1762599600-1762603200@urbancasual.ca
SUMMARY:Let's Go Lego at the Cochrane Public Library
DESCRIPTION:Join us for our all-ages Let’s Go Lego drop-in\, where you can learn while having fun! We have lots of Lego Education and Steam sets and will be spending hands-on time letting our imaginations go wild! \nWe play on Saturdays between 11:00am and 12:00pm. \n\n 
URL:https://urbancasual.ca/cochrane-event/lets-go-lego-at-the-cochrane-public-library/2025-11-08/
LOCATION:Cochrane Public Library\, 405 Railway Street W\, Cochrane\, Alberta
CATEGORIES:Community,Downtown,Entertainment & Games,Family Friendly,Free,Library,Parents & Caregivers
ATTACH;FMTTYPE=image/jpeg:https://urbancasual.ca/wp-content/uploads/2024/01/Let-s-Go-LEGO.jpg
END:VEVENT
BEGIN:VEVENT
DTSTART;TZID=America/Edmonton:20251108T130000
DTEND;TZID=America/Edmonton:20251108T170000
DTSTAMP:20260420T113715
CREATED:20250123T184432Z
LAST-MODIFIED:20250123T184432Z
UID:10044205-1762606800-1762621200@urbancasual.ca
SUMMARY:Saturday Meat Draws at the Legion
DESCRIPTION:Come out and try your luck at winning one or more of our 16 weekly food and/or gift card prizes \nCheck out our website for other events: www.cochranelegion.ca\nFollow us on Facebook: Cochrane Legion\, Men of Vision\, Branch 15
URL:https://urbancasual.ca/cochrane-event/saturday-meat-draws-at-the-legion/2025-11-08/
LOCATION:Cochrane Legion\, 114 5th Ave\, Cochrane\, Alberta\, T4C 1A5\, Canada
CATEGORIES:Community,Dance
ATTACH;FMTTYPE=image/jpeg:https://urbancasual.ca/wp-content/uploads/2025/01/53.jpg
END:VEVENT
BEGIN:VEVENT
DTSTART;TZID=America/Edmonton:20251108T160000
DTEND;TZID=America/Edmonton:20251108T180000
DTSTAMP:20260420T113715
CREATED:20250116T214209Z
LAST-MODIFIED:20250416T174217Z
UID:10043482-1762617600-1762624800@urbancasual.ca
SUMMARY:LEGION: SHUFFLE BOARD
DESCRIPTION:DROP IN TUESDAYS AND THURSDAYS AT 4PM \nDROP IN SATURDAYS AT 2PM \n  \n 
URL:https://urbancasual.ca/cochrane-event/legion-shuffle-board-2/2025-11-08/
LOCATION:The Legion\, 114 Fifth Ave\, Cochrane\, Canada
CATEGORIES:Adults Only,Community,Entertainment & Games,Legion,Networking,Parents & Caregivers,Seniors
ATTACH;FMTTYPE=image/jpeg:https://urbancasual.ca/wp-content/uploads/2025/01/Shuffleboard.jpg
END:VEVENT
BEGIN:VEVENT
DTSTART;TZID=America/Edmonton:20251108T183000
DTEND;TZID=America/Edmonton:20251108T200000
DTSTAMP:20260420T113715
CREATED:20251027T181238Z
LAST-MODIFIED:20251027T181313Z
UID:10051074-1762626600-1762632000@urbancasual.ca
SUMMARY:Cochrane Blizzard Dodgeball
DESCRIPTION:Looking for adult players to come join our co-ed drop-in dodgeball group! We play most Saturday nights out of SLS\, and beginners are welcome. \nNext game is November 1\, 2025 – hope to see you out there! \nRegistrations and schedule is here:\nhttps://anc.ca.apm.activecommunities.com/slsc/daycare/program/54?onlineSiteId=0&from_original_cui=true&online=true&fbclid=IwY2xjawNqNlJleHRuA2FlbQIxMABicmlkETExS1pLSUh4YUdwMlYwWkVFAR5dlHJulooULDQPoEoCaxyZrtAv4nYadkQoJJeVH4-cxvUSvPVPJMgVNAOgnA_aem_Ohn8c0TykqPtsGN-W6-rng
URL:https://urbancasual.ca/cochrane-event/cochrane-blizzard-dodgeball/2025-11-08/
LOCATION:Spray Lake Sawmill Family Sports Centre\, 800 Griffin Road\, Cochrane\, AB
CATEGORIES:Adults Only,Club,Community,Entertainment & Games,Sports,Spray Lakes Sawmill Rec Centre
ATTACH;FMTTYPE=image/png:https://urbancasual.ca/wp-content/uploads/2025/10/DodgeBall-Logo-scaled.png
END:VEVENT
BEGIN:VEVENT
DTSTART;TZID=America/Edmonton:20251108T190000
DTEND;TZID=America/Edmonton:20251108T210000
DTSTAMP:20260420T113715
CREATED:20251106T181556Z
LAST-MODIFIED:20251106T181556Z
UID:10051161-1762628400-1762635600@urbancasual.ca
SUMMARY:FREE SWIM *registration required
DESCRIPTION: Join in the fun at our Free Community Swim Saturday\, Nov 8\, generously sponsored by @cochranehometreasuresSecure your spot by registering today and get ready to make a splash! Register now: https://buff.ly/O7sCc1Q
URL:https://urbancasual.ca/cochrane-event/free-swim-registration-required/
LOCATION:Spray Lake Sawmill Family Sports Centre\, 800 Griffin Road\, Cochrane\, AB
CATEGORIES:Community,Family Friendly,Free,Parents & Caregivers,Spray Lakes Sawmill Rec Centre
ATTACH;FMTTYPE=image/jpeg:https://urbancasual.ca/wp-content/uploads/2025/11/576372410_1247097054105754_6755357265498647492_n.jpg
END:VEVENT
END:VCALENDAR