BEGIN:VCALENDAR
VERSION:2.0
PRODID:-//Urbancasual.ca - ECPv6.15.20//NONSGML v1.0//EN
CALSCALE:GREGORIAN
METHOD:PUBLISH
X-WR-CALNAME:Urbancasual.ca
X-ORIGINAL-URL:https://urbancasual.ca
X-WR-CALDESC:Events for Urbancasual.ca
REFRESH-INTERVAL;VALUE=DURATION:PT1H
X-Robots-Tag:noindex
X-PUBLISHED-TTL:PT1H
BEGIN:VTIMEZONE
TZID:America/Edmonton
BEGIN:DAYLIGHT
TZOFFSETFROM:-0700
TZOFFSETTO:-0600
TZNAME:MDT
DTSTART:20240310T090000
END:DAYLIGHT
BEGIN:STANDARD
TZOFFSETFROM:-0600
TZOFFSETTO:-0700
TZNAME:MST
DTSTART:20241103T080000
END:STANDARD
BEGIN:DAYLIGHT
TZOFFSETFROM:-0700
TZOFFSETTO:-0600
TZNAME:MDT
DTSTART:20250309T090000
END:DAYLIGHT
BEGIN:STANDARD
TZOFFSETFROM:-0600
TZOFFSETTO:-0700
TZNAME:MST
DTSTART:20251102T080000
END:STANDARD
BEGIN:DAYLIGHT
TZOFFSETFROM:-0700
TZOFFSETTO:-0600
TZNAME:MDT
DTSTART:20260308T090000
END:DAYLIGHT
BEGIN:STANDARD
TZOFFSETFROM:-0600
TZOFFSETTO:-0700
TZNAME:MST
DTSTART:20261101T080000
END:STANDARD
END:VTIMEZONE
BEGIN:VEVENT
DTSTART;TZID=America/Edmonton:20251101T110000
DTEND;TZID=America/Edmonton:20251101T120000
DTSTAMP:20260420T210711
CREATED:20240121T193907Z
LAST-MODIFIED:20240619T195906Z
UID:10022657-1761994800-1761998400@urbancasual.ca
SUMMARY:Let's Go Lego at the Cochrane Public Library
DESCRIPTION:Join us for our all-ages Let’s Go Lego drop-in\, where you can learn while having fun! We have lots of Lego Education and Steam sets and will be spending hands-on time letting our imaginations go wild! \nWe play on Saturdays between 11:00am and 12:00pm. \n\n 
URL:https://urbancasual.ca/cochrane-event/lets-go-lego-at-the-cochrane-public-library/2025-11-01/
LOCATION:Cochrane Public Library\, 405 Railway Street W\, Cochrane\, Alberta
CATEGORIES:Community,Downtown,Entertainment & Games,Family Friendly,Free,Library,Parents & Caregivers
ATTACH;FMTTYPE=image/jpeg:https://urbancasual.ca/wp-content/uploads/2024/01/Let-s-Go-LEGO.jpg
END:VEVENT
BEGIN:VEVENT
DTSTART;TZID=America/Edmonton:20251101T120000
DTEND;TZID=America/Edmonton:20251101T140000
DTSTAMP:20260420T210711
CREATED:20251020T174346Z
LAST-MODIFIED:20251020T174346Z
UID:10050906-1761998400-1762005600@urbancasual.ca
SUMMARY:SKATEPARK OPENING IN FIRESIDE
DESCRIPTION:
URL:https://urbancasual.ca/cochrane-event/skatepark-opening-in-fireside/
LOCATION:Alberta
CATEGORIES:Community,Entertainment & Games,Family Friendly,Fireside,Free,Sports
ATTACH;FMTTYPE=image/jpeg:https://urbancasual.ca/wp-content/uploads/2025/10/inbound9177664950393647507.jpg
END:VEVENT
BEGIN:VEVENT
DTSTART;TZID=America/Edmonton:20251101T130000
DTEND;TZID=America/Edmonton:20251101T170000
DTSTAMP:20260420T210711
CREATED:20250123T184432Z
LAST-MODIFIED:20250123T184432Z
UID:10044204-1762002000-1762016400@urbancasual.ca
SUMMARY:Saturday Meat Draws at the Legion
DESCRIPTION:Come out and try your luck at winning one or more of our 16 weekly food and/or gift card prizes \nCheck out our website for other events: www.cochranelegion.ca\nFollow us on Facebook: Cochrane Legion\, Men of Vision\, Branch 15
URL:https://urbancasual.ca/cochrane-event/saturday-meat-draws-at-the-legion/2025-11-01/
LOCATION:Cochrane Legion\, 114 5th Ave\, Cochrane\, Alberta\, T4C 1A5\, Canada
CATEGORIES:Community,Dance
ATTACH;FMTTYPE=image/jpeg:https://urbancasual.ca/wp-content/uploads/2025/01/53.jpg
END:VEVENT
BEGIN:VEVENT
DTSTART;TZID=America/Edmonton:20251101T160000
DTEND;TZID=America/Edmonton:20251101T180000
DTSTAMP:20260420T210711
CREATED:20250116T214209Z
LAST-MODIFIED:20250416T174217Z
UID:10043481-1762012800-1762020000@urbancasual.ca
SUMMARY:LEGION: SHUFFLE BOARD
DESCRIPTION:DROP IN TUESDAYS AND THURSDAYS AT 4PM \nDROP IN SATURDAYS AT 2PM \n  \n 
URL:https://urbancasual.ca/cochrane-event/legion-shuffle-board-2/2025-11-01/
LOCATION:The Legion\, 114 Fifth Ave\, Cochrane\, Canada
CATEGORIES:Adults Only,Community,Entertainment & Games,Legion,Networking,Parents & Caregivers,Seniors
ATTACH;FMTTYPE=image/jpeg:https://urbancasual.ca/wp-content/uploads/2025/01/Shuffleboard.jpg
END:VEVENT
BEGIN:VEVENT
DTSTART;TZID=America/Edmonton:20251101T183000
DTEND;TZID=America/Edmonton:20251101T200000
DTSTAMP:20260420T210711
CREATED:20251027T181238Z
LAST-MODIFIED:20251027T181313Z
UID:10051073-1762021800-1762027200@urbancasual.ca
SUMMARY:Cochrane Blizzard Dodgeball
DESCRIPTION:Looking for adult players to come join our co-ed drop-in dodgeball group! We play most Saturday nights out of SLS\, and beginners are welcome. \nNext game is November 1\, 2025 – hope to see you out there! \nRegistrations and schedule is here:\nhttps://anc.ca.apm.activecommunities.com/slsc/daycare/program/54?onlineSiteId=0&from_original_cui=true&online=true&fbclid=IwY2xjawNqNlJleHRuA2FlbQIxMABicmlkETExS1pLSUh4YUdwMlYwWkVFAR5dlHJulooULDQPoEoCaxyZrtAv4nYadkQoJJeVH4-cxvUSvPVPJMgVNAOgnA_aem_Ohn8c0TykqPtsGN-W6-rng
URL:https://urbancasual.ca/cochrane-event/cochrane-blizzard-dodgeball/2025-11-01/
LOCATION:Spray Lake Sawmill Family Sports Centre\, 800 Griffin Road\, Cochrane\, AB
CATEGORIES:Adults Only,Club,Community,Entertainment & Games,Sports,Spray Lakes Sawmill Rec Centre
ATTACH;FMTTYPE=image/png:https://urbancasual.ca/wp-content/uploads/2025/10/DodgeBall-Logo-scaled.png
END:VEVENT
BEGIN:VEVENT
DTSTART;TZID=America/Edmonton:20251101T200000
DTEND;TZID=America/Edmonton:20251102T010000
DTSTAMP:20260420T210711
CREATED:20250922T190939Z
LAST-MODIFIED:20250922T190939Z
UID:10050459-1762027200-1762045200@urbancasual.ca
SUMMARY:FESTIVAL OF FEARS FEATURING THE WHEAT KINGS
DESCRIPTION:
URL:https://urbancasual.ca/cochrane-event/festival-of-fears-featuring-the-wheat-kings/
LOCATION:The Legion\, 114 Fifth Ave\, Cochrane\, Canada
CATEGORIES:Community,Dance,Downtown,Entertainment & Games,Halloween,Pub/Bar Event
ATTACH;FMTTYPE=image/jpeg:https://urbancasual.ca/wp-content/uploads/2025/09/inbound1928386608706331717.jpg
END:VEVENT
END:VCALENDAR