BEGIN:VCALENDAR
VERSION:2.0
PRODID:-//Urbancasual.ca - ECPv6.15.20//NONSGML v1.0//EN
CALSCALE:GREGORIAN
METHOD:PUBLISH
X-WR-CALNAME:Urbancasual.ca
X-ORIGINAL-URL:https://urbancasual.ca
X-WR-CALDESC:Events for Urbancasual.ca
REFRESH-INTERVAL;VALUE=DURATION:PT1H
X-Robots-Tag:noindex
X-PUBLISHED-TTL:PT1H
BEGIN:VTIMEZONE
TZID:America/Edmonton
BEGIN:DAYLIGHT
TZOFFSETFROM:-0700
TZOFFSETTO:-0600
TZNAME:MDT
DTSTART:20240310T090000
END:DAYLIGHT
BEGIN:STANDARD
TZOFFSETFROM:-0600
TZOFFSETTO:-0700
TZNAME:MST
DTSTART:20241103T080000
END:STANDARD
BEGIN:DAYLIGHT
TZOFFSETFROM:-0700
TZOFFSETTO:-0600
TZNAME:MDT
DTSTART:20250309T090000
END:DAYLIGHT
BEGIN:STANDARD
TZOFFSETFROM:-0600
TZOFFSETTO:-0700
TZNAME:MST
DTSTART:20251102T080000
END:STANDARD
BEGIN:DAYLIGHT
TZOFFSETFROM:-0700
TZOFFSETTO:-0600
TZNAME:MDT
DTSTART:20260308T090000
END:DAYLIGHT
BEGIN:STANDARD
TZOFFSETFROM:-0600
TZOFFSETTO:-0700
TZNAME:MST
DTSTART:20261101T080000
END:STANDARD
END:VTIMEZONE
BEGIN:VEVENT
DTSTART;TZID=America/Edmonton:20250928T100000
DTEND;TZID=America/Edmonton:20250928T140000
DTSTAMP:20260420T121038
CREATED:20250531T154403Z
LAST-MODIFIED:20250531T154403Z
UID:10048513-1759053600-1759068000@urbancasual.ca
SUMMARY:Bearspaw Lions Farmers Market
DESCRIPTION:Our Sunday Farmers Market opens again on June 1\, 2025! 10AM TO 2PM \n\nAll market communications must be emailed to: farmersmarket@bearspawlions.com \n\n\nWe look forward to your continued support of our vendors and the Lions Club charities. There are over 110 vendors in the market and we look forward to seeing our returning vendors and welcoming new faces to the mix! \nNew for 2025!!\nLow fee ATM onsite with all fees supporting the Lions Club and our charity activities \nFree Souvenir Shopping bags available while supplies last! \nBearspaw Lions Farmers Market Shopping Bags can be obtained by just asking any Lions Member. \nThe bag celebrates 30 years of our Sunday Farmers Market plus promotes membership in the Bearspaw Lions Club and rentals of our Hall. Please take home this souvenir of our community  featuring local artist’s donated artwork and local businesses which have sponsored the cost to make these reusable tote bags. \n\nWHERE: 25240 NAGWAY ROAD NW\, CALGARY
URL:https://urbancasual.ca/cochrane-event/bearspaw-lions-farmers-market/2025-09-28/
LOCATION:Bearspaw Lions Club\, 25240 Nagway Road NW\, Calgary\, Alberta
CATEGORIES:Bearspaw,Community,Farmers Market,Market
ATTACH;FMTTYPE=image/jpeg:https://urbancasual.ca/wp-content/uploads/2025/05/487467087_1108768801261854_2946370913390748257_n.jpg
END:VEVENT
BEGIN:VEVENT
DTSTART;TZID=America/Edmonton:20250928T110000
DTEND;TZID=America/Edmonton:20250928T140000
DTSTAMP:20260420T121038
CREATED:20250922T191942Z
LAST-MODIFIED:20250922T191942Z
UID:10050440-1759057200-1759068000@urbancasual.ca
SUMMARY:Rooster Tails & Cauldron Candles!
DESCRIPTION:Rooster Tails & Cauldron Candles! \nJoin Kayla Yearwood in learning the process of making a rooster tail hand broom & pouring a candle in a cauldron jar! \nBroom and candle making are practices steeped in tradition\, and each project you create is functional. \nIn this workshop\, participants will learn the process of making a rooster tail hand broom & pouring a candle in a cauldron jar. \n*Cauldron jars were made specially for this fall workshop by the talented Coral of Piton Pottery in Pemberton BC! \nAll tools and materials are provided.\nThe class is physical and will require the use of your whole body. \nDate: Sunday\, September 28th \nTime: 11:00 am – 2:00 pm \nCost: $175\, + gst | fees \nAges: 18+ \nFor more information and registration:\n– Scan the QR code to get registered now!\n– OR\, visit our website @ route22gallery.com under events for more information!
URL:https://urbancasual.ca/cochrane-event/rooster-tails-cauldron-candles/
LOCATION:Route 22 Artist Collective Gallery\, 208 1st Street W.\, Cochrane\, Alberta\, Canada
CATEGORIES:Art,Community,Learning,Workshop
ATTACH;FMTTYPE=image/png:https://urbancasual.ca/wp-content/uploads/2025/09/rooster-tails-cauldron-candles.png
ORGANIZER;CN="Route 22 Artist Collective Gallery":MAILTO:INFO@ROUTE22GALLERY.COM
END:VEVENT
END:VCALENDAR