BEGIN:VCALENDAR
VERSION:2.0
PRODID:-//Urbancasual.ca - ECPv6.15.20//NONSGML v1.0//EN
CALSCALE:GREGORIAN
METHOD:PUBLISH
X-ORIGINAL-URL:https://urbancasual.ca
X-WR-CALDESC:Events for Urbancasual.ca
REFRESH-INTERVAL;VALUE=DURATION:PT1H
X-Robots-Tag:noindex
X-PUBLISHED-TTL:PT1H
BEGIN:VTIMEZONE
TZID:America/Edmonton
BEGIN:DAYLIGHT
TZOFFSETFROM:-0700
TZOFFSETTO:-0600
TZNAME:MDT
DTSTART:20240310T090000
END:DAYLIGHT
BEGIN:STANDARD
TZOFFSETFROM:-0600
TZOFFSETTO:-0700
TZNAME:MST
DTSTART:20241103T080000
END:STANDARD
BEGIN:DAYLIGHT
TZOFFSETFROM:-0700
TZOFFSETTO:-0600
TZNAME:MDT
DTSTART:20250309T090000
END:DAYLIGHT
BEGIN:STANDARD
TZOFFSETFROM:-0600
TZOFFSETTO:-0700
TZNAME:MST
DTSTART:20251102T080000
END:STANDARD
BEGIN:DAYLIGHT
TZOFFSETFROM:-0700
TZOFFSETTO:-0600
TZNAME:MDT
DTSTART:20260308T090000
END:DAYLIGHT
BEGIN:STANDARD
TZOFFSETFROM:-0600
TZOFFSETTO:-0700
TZNAME:MST
DTSTART:20261101T080000
END:STANDARD
END:VTIMEZONE
BEGIN:VEVENT
DTSTART;TZID=America/Edmonton:20250924T080000
DTEND;TZID=America/Edmonton:20250924T100000
DTSTAMP:20260419T194935
CREATED:20250828T203850Z
LAST-MODIFIED:20250831T194115Z
UID:10050286-1758700800-1758708000@urbancasual.ca
SUMMARY:SHEDDER'S COFFEE
DESCRIPTION:Shed Coffee has been a raving success. We had 11 men come by today for great conversation and camaraderie.\n\n\n\nWe invite you to join us for the next one. Gents around 50+ but all ages are welcome\, every second Wednesday…\n\n\n\nPhil’s Restaurant @ 8am\n\n609 1 St W\, Cochrane\n\n\n\nSept 10\nSept 24\nOct 8\n\n\n\nNo registration needed\, but to learn about Cochrane & Area Men’s Shed or to contact us\, visit www.cochranemensshed.ca
URL:https://urbancasual.ca/cochrane-event/shed-coffee/2025-09-24/
LOCATION:Alberta
CATEGORIES:advocacy,Club,Community,Networking,Newcomers
ATTACH;FMTTYPE=image/jpeg:https://urbancasual.ca/wp-content/uploads/2025/08/539587913_122134408580841410_7360157779486385006_n.jpg
END:VEVENT
BEGIN:VEVENT
DTSTART;TZID=America/Edmonton:20250924T090000
DTEND;TZID=America/Edmonton:20250924T110000
DTSTAMP:20260419T194935
CREATED:20250813T192534Z
LAST-MODIFIED:20251103T225305Z
UID:10050137-1758704400-1758711600@urbancasual.ca
SUMMARY:Cochrane Baby Boomers Group Meet-Up - Wed AM
DESCRIPTION:EVERY WEDNESDAY – JOIN US AT ONE OR BOTH GROUPS! \nGROUP 1 – 9 TO 11AM AT THE LEGION – 114 FIFTH AVE. \nGROUP 2 – 2 TO 4PM AT THE VENUE – 79 RAILWAY ST.
URL:https://urbancasual.ca/cochrane-event/cochrane-baby-boomers-group-meet-up-wed-am/2025-09-24/
LOCATION:The Legion\, 114 Fifth Ave\, Cochrane\, Canada
CATEGORIES:Club,Community,Entertainment & Games,Networking,Seniors
ATTACH;FMTTYPE=image/jpeg:https://urbancasual.ca/wp-content/uploads/2025/08/574395226_845145031494292_977435042953266903_n.jpg
END:VEVENT
BEGIN:VEVENT
DTSTART;TZID=America/Edmonton:20250924T140000
DTEND;TZID=America/Edmonton:20250924T160000
DTSTAMP:20260419T194935
CREATED:20250813T193038Z
LAST-MODIFIED:20251103T225347Z
UID:10050175-1758722400-1758729600@urbancasual.ca
SUMMARY:Cochrane Baby Boomers Group Meet-Up - Wed PM
DESCRIPTION:EVERY WEDNESDAY – JOIN US AT ONE OR BOTH GROUPS! \nGROUP 1 – 9 TO 11AM AT LEGION – 114 5TH AVE \nGROUP 2 – 2 TO 4PM AT THE VENUE – 79 RAILWAY ST.
URL:https://urbancasual.ca/cochrane-event/cochrane-baby-boomers-group-meet-up-wed-pm/2025-09-24/
LOCATION:VENUE SPORTSBAR AND GRILL
CATEGORIES:Club,Community,Entertainment & Games,Networking,Seniors
ATTACH;FMTTYPE=image/jpeg:https://urbancasual.ca/wp-content/uploads/2025/08/574395226_845145031494292_977435042953266903_n.jpg
END:VEVENT
BEGIN:VEVENT
DTSTART;TZID=America/Edmonton:20250924T183000
DTEND;TZID=America/Edmonton:20250924T213000
DTSTAMP:20260419T194935
CREATED:20250116T214838Z
LAST-MODIFIED:20250116T214838Z
UID:10043614-1758738600-1758749400@urbancasual.ca
SUMMARY:LEGION: POOL LEAGUE
DESCRIPTION:MONDAY AND WEDNESDAY NIGHTS AT 6:30PM \nCONTACT PACIFIC VENDING AT (587) 577-5434 \n  \n 
URL:https://urbancasual.ca/cochrane-event/legion-pool-league/2025-09-24/
LOCATION:The Legion\, 114 Fifth Ave\, Cochrane\, Canada
CATEGORIES:Adults Only,Community,Entertainment & Games,Networking,Parents & Caregivers,Seniors
ATTACH;FMTTYPE=image/jpeg:https://urbancasual.ca/wp-content/uploads/2025/01/image-asset-1.jpeg
END:VEVENT
END:VCALENDAR