BEGIN:VCALENDAR
VERSION:2.0
PRODID:-//Urbancasual.ca - ECPv6.15.20//NONSGML v1.0//EN
CALSCALE:GREGORIAN
METHOD:PUBLISH
X-ORIGINAL-URL:https://urbancasual.ca
X-WR-CALDESC:Events for Urbancasual.ca
REFRESH-INTERVAL;VALUE=DURATION:PT1H
X-Robots-Tag:noindex
X-PUBLISHED-TTL:PT1H
BEGIN:VTIMEZONE
TZID:America/Edmonton
BEGIN:DAYLIGHT
TZOFFSETFROM:-0700
TZOFFSETTO:-0600
TZNAME:MDT
DTSTART:20240310T090000
END:DAYLIGHT
BEGIN:STANDARD
TZOFFSETFROM:-0600
TZOFFSETTO:-0700
TZNAME:MST
DTSTART:20241103T080000
END:STANDARD
BEGIN:DAYLIGHT
TZOFFSETFROM:-0700
TZOFFSETTO:-0600
TZNAME:MDT
DTSTART:20250309T090000
END:DAYLIGHT
BEGIN:STANDARD
TZOFFSETFROM:-0600
TZOFFSETTO:-0700
TZNAME:MST
DTSTART:20251102T080000
END:STANDARD
BEGIN:DAYLIGHT
TZOFFSETFROM:-0700
TZOFFSETTO:-0600
TZNAME:MDT
DTSTART:20260308T090000
END:DAYLIGHT
BEGIN:STANDARD
TZOFFSETFROM:-0600
TZOFFSETTO:-0700
TZNAME:MST
DTSTART:20261101T080000
END:STANDARD
END:VTIMEZONE
BEGIN:VEVENT
DTSTART;TZID=America/Edmonton:20250914T080000
DTEND;TZID=America/Edmonton:20250914T123000
DTSTAMP:20260420T223844
CREATED:20250423T182956Z
LAST-MODIFIED:20250423T182956Z
UID:10047100-1757836800-1757853000@urbancasual.ca
SUMMARY:Cochrane Legion Golf Tournament
DESCRIPTION:Please join us for our annual golf tournament.\nGolf\, carts and banquet included
URL:https://urbancasual.ca/cochrane-event/cochrane-legion-golf-tournament/
LOCATION:Cochrane Golf Club\, 240 Riverview Drive\, Cochrane\, AB
CATEGORIES:Community,Entertainment & Games,Fundraiser,Legion,Sports
ATTACH;FMTTYPE=image/png:https://urbancasual.ca/wp-content/uploads/2025/04/Legion-Posters-2025-17.png
ORGANIZER;CN="Cochrane Legion":MAILTO:cochranelegion15mov@gmail.com
END:VEVENT
BEGIN:VEVENT
DTSTART;TZID=America/Edmonton:20250914T080000
DTEND;TZID=America/Edmonton:20250914T130000
DTSTAMP:20260420T223844
CREATED:20250911T002747Z
LAST-MODIFIED:20250911T002747Z
UID:10050389-1757836800-1757854800@urbancasual.ca
SUMMARY:45th Annual Terry Fox Run
DESCRIPTION:We hope you will join us for the 45th Annual Terry Fox Run on Sunday September 14th at Mitford Park! \nRegister and fundraise for cancer research today. \nhttps://terryfox.org/run
URL:https://urbancasual.ca/cochrane-event/45th-annual-terry-fox-run/
LOCATION:Mitford Park
CATEGORIES:advocacy,Anniversary,Community,Family Friendly,Fundraiser,Health & Wellness,Mitford Park,Race,Run/Walk
ATTACH;FMTTYPE=image/jpeg:https://urbancasual.ca/wp-content/uploads/2025/09/474099682_914221107531768_8410246869740160772_n.jpg
END:VEVENT
BEGIN:VEVENT
DTSTART;TZID=America/Edmonton:20250914T100000
DTEND;TZID=America/Edmonton:20250914T140000
DTSTAMP:20260420T223844
CREATED:20250531T154403Z
LAST-MODIFIED:20250531T154403Z
UID:10048511-1757844000-1757858400@urbancasual.ca
SUMMARY:Bearspaw Lions Farmers Market
DESCRIPTION:Our Sunday Farmers Market opens again on June 1\, 2025! 10AM TO 2PM \n\nAll market communications must be emailed to: farmersmarket@bearspawlions.com \n\n\nWe look forward to your continued support of our vendors and the Lions Club charities. There are over 110 vendors in the market and we look forward to seeing our returning vendors and welcoming new faces to the mix! \nNew for 2025!!\nLow fee ATM onsite with all fees supporting the Lions Club and our charity activities \nFree Souvenir Shopping bags available while supplies last! \nBearspaw Lions Farmers Market Shopping Bags can be obtained by just asking any Lions Member. \nThe bag celebrates 30 years of our Sunday Farmers Market plus promotes membership in the Bearspaw Lions Club and rentals of our Hall. Please take home this souvenir of our community  featuring local artist’s donated artwork and local businesses which have sponsored the cost to make these reusable tote bags. \n\nWHERE: 25240 NAGWAY ROAD NW\, CALGARY
URL:https://urbancasual.ca/cochrane-event/bearspaw-lions-farmers-market/2025-09-14/
LOCATION:Bearspaw Lions Club\, 25240 Nagway Road NW\, Calgary\, Alberta
CATEGORIES:Bearspaw,Community,Farmers Market,Market
ATTACH;FMTTYPE=image/jpeg:https://urbancasual.ca/wp-content/uploads/2025/05/487467087_1108768801261854_2946370913390748257_n.jpg
END:VEVENT
BEGIN:VEVENT
DTSTART;TZID=America/Edmonton:20250914T100000
DTEND;TZID=America/Edmonton:20250914T150000
DTSTAMP:20260420T223844
CREATED:20250508T211654Z
LAST-MODIFIED:20250508T211654Z
UID:10048024-1757844000-1757862000@urbancasual.ca
SUMMARY:BRAGG CREEK FARMERS MARKET
DESCRIPTION:The Bragg Creek Community Centre Farmers Market opens for the season on Sunday June 15 and very limited vendor space is still available. \nMore information is available at rental@braggcreekca.com and at https://braggcreekca.com/…/21/summer-farmers-market-2025/
URL:https://urbancasual.ca/cochrane-event/bragg-creek-farmers-market/2025-09-14/
LOCATION:Bragg Creek Community Centre
CATEGORIES:Bragg Creek,Community,Family Friendly,Farmers Market,Market
ATTACH;FMTTYPE=image/jpeg:https://urbancasual.ca/wp-content/uploads/2025/05/495540431_1104111908421976_2059797905174767868_n.jpg
END:VEVENT
BEGIN:VEVENT
DTSTART;TZID=America/Edmonton:20250914T130000
DTEND;TZID=America/Edmonton:20250914T141500
DTSTAMP:20260420T223844
CREATED:20250904T162348Z
LAST-MODIFIED:20250904T162348Z
UID:10050226-1757854800-1757859300@urbancasual.ca
SUMMARY:Writers Unblocked
DESCRIPTION:Are you a writer looking to practice your craft\, connect with fellow creatives\, and build a community? Then you’d be a perfect fit for the Cochrane Public Library’s new adult writers’ group\, Writers Unblocked! \n  \nJoin us on Sunday afternoons to share your work and ideas\, get feedback from your peers\, and explore new stories! All levels of experience and genres welcome! \nRegistration for this group opens on Saturday\, August 23rd at 10:30am on our website at cochranepubliclibrary.ca/Events/writers-unblocked !
URL:https://urbancasual.ca/cochrane-event/writers-unblocked/
LOCATION:Cochrane Public Library\, 405 Railway Street W\, Cochrane\, Alberta
CATEGORIES:Club,Community,Learning,Library
ATTACH;FMTTYPE=image/jpeg:https://urbancasual.ca/wp-content/uploads/2025/08/Writers-Unblocked-Poster.jpg
END:VEVENT
END:VCALENDAR