BEGIN:VCALENDAR
VERSION:2.0
PRODID:-//Urbancasual.ca - ECPv6.15.20//NONSGML v1.0//EN
CALSCALE:GREGORIAN
METHOD:PUBLISH
X-ORIGINAL-URL:https://urbancasual.ca
X-WR-CALDESC:Events for Urbancasual.ca
REFRESH-INTERVAL;VALUE=DURATION:PT1H
X-Robots-Tag:noindex
X-PUBLISHED-TTL:PT1H
BEGIN:VTIMEZONE
TZID:America/Edmonton
BEGIN:DAYLIGHT
TZOFFSETFROM:-0700
TZOFFSETTO:-0600
TZNAME:MDT
DTSTART:20240310T090000
END:DAYLIGHT
BEGIN:STANDARD
TZOFFSETFROM:-0600
TZOFFSETTO:-0700
TZNAME:MST
DTSTART:20241103T080000
END:STANDARD
BEGIN:DAYLIGHT
TZOFFSETFROM:-0700
TZOFFSETTO:-0600
TZNAME:MDT
DTSTART:20250309T090000
END:DAYLIGHT
BEGIN:STANDARD
TZOFFSETFROM:-0600
TZOFFSETTO:-0700
TZNAME:MST
DTSTART:20251102T080000
END:STANDARD
BEGIN:DAYLIGHT
TZOFFSETFROM:-0700
TZOFFSETTO:-0600
TZNAME:MDT
DTSTART:20260308T090000
END:DAYLIGHT
BEGIN:STANDARD
TZOFFSETFROM:-0600
TZOFFSETTO:-0700
TZNAME:MST
DTSTART:20261101T080000
END:STANDARD
END:VTIMEZONE
BEGIN:VEVENT
DTSTART;VALUE=DATE:20250906
DTEND;VALUE=DATE:20250908
DTSTAMP:20260421T015833
CREATED:20250809T024047Z
LAST-MODIFIED:20250821T012520Z
UID:10049908-1757127600-1757213999@urbancasual.ca
SUMMARY:Cochrane Culture Days 2025
DESCRIPTION:CCD2025 at Cochrane Farmers Market \nVisit the Cochrane Farmers Market on September 6 and enjoy the Stoney Nakoda Mînî Thnî Dancers\, the Drowsy Maggies\, a demonstration by Ga-On Taekwando and join in the Circles of Rhythm drumming circle. \nImagine That YYC Face Painting will be there to give kids a new persona! \n  \nCochrane Ranche \nSaturday evening at 5pm\, join the Town of Cochrane as they rededicate the repaired Men of Vision statue.
URL:https://urbancasual.ca/cochrane-event/cochrane-culture-days-2025/
LOCATION:SLS Centre\, 800 Griffin Rd E\, Cochrane\, Alberta\, T4C 2B8\, Canada
CATEGORIES:Art,COCHRANE CULTURE DAYS,Community,Culture,Entertainment & Games,Market,Music,Parents & Caregivers
ATTACH;FMTTYPE=image/jpeg:https://urbancasual.ca/wp-content/uploads/2025/08/CCD-logo.jpg
ORGANIZER;CN="Cochrane Integrated Arts Society":MAILTO:cochraneartsociety@gmail.com
END:VEVENT
BEGIN:VEVENT
DTSTART;TZID=America/Edmonton:20250906T090000
DTEND;TZID=America/Edmonton:20250906T140000
DTSTAMP:20260421T015833
CREATED:20250508T212257Z
LAST-MODIFIED:20250508T212257Z
UID:10048039-1757149200-1757167200@urbancasual.ca
SUMMARY:MARKET BY THE BOW - COCHRANE FARMER'S MARKET
DESCRIPTION:Market by the Bow – OPENING DAY JUNE 7TH UNTIL OCTOBER 4\, 2025\n\n\n\n\n\nThe Cochrane Farmers’ Market is heading into our 27th season! We invite you to join us at the Market by the Bow – enjoy one of the best market experiences in the region. \nWeekly vendor lists are posted every Friday before the market on Facebook and Instagram as well as showcased below in the vendor gallery. \nAttendance Reminders: \n\nMarket opens at 9 am – no early entry. Please respect the time vendors require to be set up and ready to welcome their customers.\nPets are NOT allowed in the market – service animals with ID are welcome. Please do not leave pets unattended in vehicles.\nCustomers are encouraged to bring their market basket or reusable bags.\n\nParking and admission free of charge.
URL:https://urbancasual.ca/cochrane-event/market-by-the-bow-cochrane-farmers-market/2025-09-06/
LOCATION:Spray Lake Sawmill Family Sports Centre\, 800 Griffin Road\, Cochrane\, AB
CATEGORIES:Business,Community,Family Friendly,Farmers Market,Market,Spray Lakes Sawmill Rec Centre
ATTACH;FMTTYPE=image/jpeg:https://urbancasual.ca/wp-content/uploads/2025/05/278687692_10158977960064200_7999679420810103197_n.jpg
END:VEVENT
BEGIN:VEVENT
DTSTART;TZID=America/Edmonton:20250906T090000
DTEND;TZID=America/Edmonton:20250906T160000
DTSTAMP:20260421T015833
CREATED:20250403T022921Z
LAST-MODIFIED:20250812T180114Z
UID:10046178-1757149200-1757174400@urbancasual.ca
SUMMARY:Prairie Girls Vintage Market
DESCRIPTION:September 5th & 6th 2025\n\n\n\nWe are so excited to announce vendor applications are now open!\nThe Prairie Girls Vintage Market is a two day market filled with antiques\, vintage\, salvaged\, re-purposed\, farmhouse\, prairie chic\, handmade & of course good food!! Our carefully selected group of vendors bring you authentic goods that they save especially for this yearly event. We invite all previous and new interested vendors to apply for the grand return of this fabulous fun market in Cochrane AB! Limited spaces available\, we look forward to this exciting market with you!!\n\n\nhttps://www.prairiegirlsmarket.com/
URL:https://urbancasual.ca/cochrane-event/prairie-girls-vintage-market/2025-09-06/
LOCATION:Alberta
CATEGORIES:Community,Family Friendly,Market,Sale,Vintage
ATTACH;FMTTYPE=image/jpeg:https://urbancasual.ca/wp-content/uploads/2025/04/inbound7941041410479599903.jpg
END:VEVENT
BEGIN:VEVENT
DTSTART;TZID=America/Edmonton:20250906T110000
DTEND;TZID=America/Edmonton:20250906T120000
DTSTAMP:20260421T015833
CREATED:20240121T193907Z
LAST-MODIFIED:20240619T195906Z
UID:10022649-1757156400-1757160000@urbancasual.ca
SUMMARY:Let's Go Lego at the Cochrane Public Library
DESCRIPTION:Join us for our all-ages Let’s Go Lego drop-in\, where you can learn while having fun! We have lots of Lego Education and Steam sets and will be spending hands-on time letting our imaginations go wild! \nWe play on Saturdays between 11:00am and 12:00pm. \n\n 
URL:https://urbancasual.ca/cochrane-event/lets-go-lego-at-the-cochrane-public-library/2025-09-06/
LOCATION:Cochrane Public Library\, 405 Railway Street W\, Cochrane\, Alberta
CATEGORIES:Community,Downtown,Entertainment & Games,Family Friendly,Free,Library,Parents & Caregivers
ATTACH;FMTTYPE=image/jpeg:https://urbancasual.ca/wp-content/uploads/2024/01/Let-s-Go-LEGO.jpg
END:VEVENT
BEGIN:VEVENT
DTSTART;TZID=America/Edmonton:20250906T130000
DTEND;TZID=America/Edmonton:20250906T163000
DTSTAMP:20260421T015833
CREATED:20250728T194825Z
LAST-MODIFIED:20250728T194825Z
UID:10049709-1757163600-1757176200@urbancasual.ca
SUMMARY:Culture Fest Cochrane
DESCRIPTION:
URL:https://urbancasual.ca/cochrane-event/culture-fest-cochrane/
LOCATION:Spray Lake Sawmill Family Sports Centre\, 800 Griffin Road\, Cochrane\, AB
CATEGORIES:Community,Culture,Entertainment & Games,Family Friendly,Festival,Learning,Spray Lakes Sawmill Rec Centre
ATTACH;FMTTYPE=image/jpeg:https://urbancasual.ca/wp-content/uploads/2025/07/524657261_760347223307407_667613781580294747_n.jpg
END:VEVENT
BEGIN:VEVENT
DTSTART;TZID=America/Edmonton:20250906T130000
DTEND;TZID=America/Edmonton:20250906T170000
DTSTAMP:20260421T015833
CREATED:20250123T184432Z
LAST-MODIFIED:20250123T184432Z
UID:10044196-1757163600-1757178000@urbancasual.ca
SUMMARY:Saturday Meat Draws at the Legion
DESCRIPTION:Come out and try your luck at winning one or more of our 16 weekly food and/or gift card prizes \nCheck out our website for other events: www.cochranelegion.ca\nFollow us on Facebook: Cochrane Legion\, Men of Vision\, Branch 15
URL:https://urbancasual.ca/cochrane-event/saturday-meat-draws-at-the-legion/2025-09-06/
LOCATION:Cochrane Legion\, 114 5th Ave\, Cochrane\, Alberta\, T4C 1A5\, Canada
CATEGORIES:Community,Dance
ATTACH;FMTTYPE=image/jpeg:https://urbancasual.ca/wp-content/uploads/2025/01/53.jpg
END:VEVENT
BEGIN:VEVENT
DTSTART;TZID=America/Edmonton:20250906T160000
DTEND;TZID=America/Edmonton:20250906T180000
DTSTAMP:20260421T015833
CREATED:20250116T214209Z
LAST-MODIFIED:20250416T174217Z
UID:10043473-1757174400-1757181600@urbancasual.ca
SUMMARY:LEGION: SHUFFLE BOARD
DESCRIPTION:DROP IN TUESDAYS AND THURSDAYS AT 4PM \nDROP IN SATURDAYS AT 2PM \n  \n 
URL:https://urbancasual.ca/cochrane-event/legion-shuffle-board-2/2025-09-06/
LOCATION:The Legion\, 114 Fifth Ave\, Cochrane\, Canada
CATEGORIES:Adults Only,Community,Entertainment & Games,Legion,Networking,Parents & Caregivers,Seniors
ATTACH;FMTTYPE=image/jpeg:https://urbancasual.ca/wp-content/uploads/2025/01/Shuffleboard.jpg
END:VEVENT
BEGIN:VEVENT
DTSTART;TZID=America/Edmonton:20250906T170000
DTEND;TZID=America/Edmonton:20250906T180000
DTSTAMP:20260421T015833
CREATED:20250905T002849Z
LAST-MODIFIED:20250905T002849Z
UID:10050338-1757178000-1757181600@urbancasual.ca
SUMMARY:MEN OF VISION RE-DEDICATION
DESCRIPTION:You’re Invited! Men of Vision Re-Dedication Event — a special moment in Cochrane’s history during the weekend of Culture in Cochrane.\n\n\n\n Saturday\, Sept 6th\n 5–6 PM\n Cochrane Historical Museum – Park area along the paved pathway\n Free | Family-Friendly | All Are Welcome | Cupcakes\n\n\n\nWitness the unveiling of the Men of Vision Statue by horses and view the new commemorative plaque honoring our community’s roots. Let’s celebrate the legacy that shaped Cochrane.\n\n\n\n#CochraneHistory #MenOfVision #CommunityPride #CochraneEvents
URL:https://urbancasual.ca/cochrane-event/men-of-vision-re-dedication/
LOCATION:Cochrane Ranche\, Hwy 1A\, Cochrane\, Alberta
CATEGORIES:Community,History,Parks,Town of Cochrane
ATTACH;FMTTYPE=image/jpeg:https://urbancasual.ca/wp-content/uploads/2025/09/543436537_1212426760911563_7969809740610416113_n.jpg
END:VEVENT
END:VCALENDAR