BEGIN:VCALENDAR
VERSION:2.0
PRODID:-//Urbancasual.ca - ECPv6.15.20//NONSGML v1.0//EN
CALSCALE:GREGORIAN
METHOD:PUBLISH
X-ORIGINAL-URL:https://urbancasual.ca
X-WR-CALDESC:Events for Urbancasual.ca
REFRESH-INTERVAL;VALUE=DURATION:PT1H
X-Robots-Tag:noindex
X-PUBLISHED-TTL:PT1H
BEGIN:VTIMEZONE
TZID:America/Edmonton
BEGIN:DAYLIGHT
TZOFFSETFROM:-0700
TZOFFSETTO:-0600
TZNAME:MDT
DTSTART:20240310T090000
END:DAYLIGHT
BEGIN:STANDARD
TZOFFSETFROM:-0600
TZOFFSETTO:-0700
TZNAME:MST
DTSTART:20241103T080000
END:STANDARD
BEGIN:DAYLIGHT
TZOFFSETFROM:-0700
TZOFFSETTO:-0600
TZNAME:MDT
DTSTART:20250309T090000
END:DAYLIGHT
BEGIN:STANDARD
TZOFFSETFROM:-0600
TZOFFSETTO:-0700
TZNAME:MST
DTSTART:20251102T080000
END:STANDARD
BEGIN:DAYLIGHT
TZOFFSETFROM:-0700
TZOFFSETTO:-0600
TZNAME:MDT
DTSTART:20260308T090000
END:DAYLIGHT
BEGIN:STANDARD
TZOFFSETFROM:-0600
TZOFFSETTO:-0700
TZNAME:MST
DTSTART:20261101T080000
END:STANDARD
END:VTIMEZONE
BEGIN:VEVENT
DTSTART;TZID=America/Edmonton:20250905T100000
DTEND;TZID=America/Edmonton:20250905T110000
DTSTAMP:20260420T205813
CREATED:20250109T175736Z
LAST-MODIFIED:20250226T200327Z
UID:10045271-1757066400-1757070000@urbancasual.ca
SUMMARY:Parent & Tot Sing-Alongs
DESCRIPTION:Welcome to Cochrane’s Parent & Tot Sing-Along Sessions! \nJoin us for a fun and interactive music experience with your little ones. Sing along to popular children’s songs and nursery rhymes in a welcoming and inclusive environment. \nSTARTING DATE Friday January 3\, 2025 \nTime: Doors at 10:00 AM music starts at 10:15am \nLocation: Frank Wills Community Hall \nCoffee\, tea and cookies provided. \nBring your singing voices and get ready to bond with your child through music. No experience necessary\, just come ready to have a great time! \nFloor seating so bring a blanket\, yoga mat or cushion if you’d like. \n*Price is for parent & tot with no more than 2 parents per caregiver. $7/each drop-in or $20 for 4 consecutive drop ins (billed once at the beginning of the month)
URL:https://urbancasual.ca/cochrane-event/parent-tot-sing-alongs/2025-09-05/
LOCATION:Frank Wills Memorial Hall\, 405 1st Street E\, Cochrane\, Alberta
CATEGORIES:Community,Entertainment & Games,Learning,Music,Parents & Caregivers
ATTACH;FMTTYPE=image/jpeg:https://urbancasual.ca/wp-content/uploads/2025/01/472320182_8970766342958715_3666774441074322581_n.jpg
END:VEVENT
BEGIN:VEVENT
DTSTART;TZID=America/Edmonton:20250905T160000
DTEND;TZID=America/Edmonton:20250905T200000
DTSTAMP:20260420T205813
CREATED:20250403T022921Z
LAST-MODIFIED:20250812T180114Z
UID:10046177-1757088000-1757102400@urbancasual.ca
SUMMARY:Prairie Girls Vintage Market
DESCRIPTION:September 5th & 6th 2025\n\n\n\nWe are so excited to announce vendor applications are now open!\nThe Prairie Girls Vintage Market is a two day market filled with antiques\, vintage\, salvaged\, re-purposed\, farmhouse\, prairie chic\, handmade & of course good food!! Our carefully selected group of vendors bring you authentic goods that they save especially for this yearly event. We invite all previous and new interested vendors to apply for the grand return of this fabulous fun market in Cochrane AB! Limited spaces available\, we look forward to this exciting market with you!!\n\n\nhttps://www.prairiegirlsmarket.com/
URL:https://urbancasual.ca/cochrane-event/prairie-girls-vintage-market/2025-09-05/
LOCATION:Alberta
CATEGORIES:Community,Family Friendly,Market,Sale,Vintage
ATTACH;FMTTYPE=image/jpeg:https://urbancasual.ca/wp-content/uploads/2025/04/inbound7941041410479599903.jpg
END:VEVENT
BEGIN:VEVENT
DTSTART;TZID=America/Edmonton:20250905T163000
DTEND;TZID=America/Edmonton:20250905T190000
DTSTAMP:20260420T205813
CREATED:20250331T223345Z
LAST-MODIFIED:20250331T223345Z
UID:10046129-1757089800-1757098800@urbancasual.ca
SUMMARY:Friday Night BBQ (Family Friendly) at the Legion
DESCRIPTION:Steak\, burger and hot dogs are on the menu Friday nights. All items come with potato\, salad\, beans and garlic toast. \nCheck our Facebook page for updates.\nFamily Friendly\nNo membership required\nWe hope you can join us
URL:https://urbancasual.ca/cochrane-event/friday-night-bbq-family-friendly-at-the-legion/2025-09-05/
LOCATION:Cochrane Legion\, 114 5th Ave\, Cochrane\, Alberta\, T4C 1A5\, Canada
CATEGORIES:Community,Food,Legion
ATTACH;FMTTYPE=image/png:https://urbancasual.ca/wp-content/uploads/2025/03/Legion-Posters-20250-6.png
ORGANIZER;CN="Cochrane Legion":MAILTO:cochranelegion15mov@gmail.com
END:VEVENT
END:VCALENDAR