BEGIN:VCALENDAR
VERSION:2.0
PRODID:-//Urbancasual.ca - ECPv6.15.20//NONSGML v1.0//EN
CALSCALE:GREGORIAN
METHOD:PUBLISH
X-WR-CALNAME:Urbancasual.ca
X-ORIGINAL-URL:https://urbancasual.ca
X-WR-CALDESC:Events for Urbancasual.ca
REFRESH-INTERVAL;VALUE=DURATION:PT1H
X-Robots-Tag:noindex
X-PUBLISHED-TTL:PT1H
BEGIN:VTIMEZONE
TZID:America/Edmonton
BEGIN:DAYLIGHT
TZOFFSETFROM:-0700
TZOFFSETTO:-0600
TZNAME:MDT
DTSTART:20240310T090000
END:DAYLIGHT
BEGIN:STANDARD
TZOFFSETFROM:-0600
TZOFFSETTO:-0700
TZNAME:MST
DTSTART:20241103T080000
END:STANDARD
BEGIN:DAYLIGHT
TZOFFSETFROM:-0700
TZOFFSETTO:-0600
TZNAME:MDT
DTSTART:20250309T090000
END:DAYLIGHT
BEGIN:STANDARD
TZOFFSETFROM:-0600
TZOFFSETTO:-0700
TZNAME:MST
DTSTART:20251102T080000
END:STANDARD
BEGIN:DAYLIGHT
TZOFFSETFROM:-0700
TZOFFSETTO:-0600
TZNAME:MDT
DTSTART:20260308T090000
END:DAYLIGHT
BEGIN:STANDARD
TZOFFSETFROM:-0600
TZOFFSETTO:-0700
TZNAME:MST
DTSTART:20261101T080000
END:STANDARD
END:VTIMEZONE
BEGIN:VEVENT
DTSTART;VALUE=DATE:20250829
DTEND;VALUE=DATE:20250831
DTSTAMP:20260421T062323
CREATED:20250808T213157Z
LAST-MODIFIED:20250808T213158Z
UID:10049910-1756436400-1756522799@urbancasual.ca
SUMMARY:COCHRANE DISCOVERY DAYS 2025
DESCRIPTION:The 2nd Annual Cochrane Discovery Days takes places Friday\, August 29th to Monday\, September 1st in Cochrane\, in 5 different locations around town. \nFULL DETAILS : DISCOVERY DAYS 2025
URL:https://urbancasual.ca/cochrane-event/cochrane-discovery-days-2025/2025-08-29/
LOCATION:Alberta
CATEGORIES:Community,Culture,DISCOVERY DAYS,Entertainment & Games,Family Friendly,History,Indigenous,Learning,LIONS EVENTS CENTRE,Parents & Caregivers,Rodeo,Tourism
ATTACH;FMTTYPE=image/png:https://urbancasual.ca/wp-content/uploads/2025/08/CDD-Instagram-1080-x-1350-px-Facebook-Cover.png
END:VEVENT
BEGIN:VEVENT
DTSTART;VALUE=DATE:20250829
DTEND;VALUE=DATE:20250903
DTSTAMP:20260421T062323
CREATED:20250304T023854Z
LAST-MODIFIED:20250619T195643Z
UID:10045316-1756436400-1756781999@urbancasual.ca
SUMMARY:Cochrane Lions Labour Day Weekend Rodeo
DESCRIPTION:59TH Cochrane Lions Rodeo presented by COWBOY TRAIL BREWERY. \nTICKETS NOW ON SALE!! \nvisit: https://cochranerodeo.com/event/cochrane-lions-labour-day-rodeo-2025/ \nGet your tickets for this years 59th Cochrane Lions Rodeo on Labour weekend the official dates are: 29th August to Monday 1st September \nOur event kicks off on Friday\, get warmed up and get into the rodeo spirit by joining us. The whole day is completely FREE!!!! \nOur free Friday Community Day event is our 🎁GIFT to Cochrane\, thanks to our generous Community day Sponsors. \nFriday Schedule \n8am-11am FREE Pancake Breakfast at the Station 🥞🥞🚂\n10-am-6pm Trading Post Market FREE ENTRY @(Events Centre)\n2pm Rodeo Gates open FREE entry\n2pm Bar Opens\n3pm Ranch Rodeo begins\, showcasing real western cowboy events showcasing traditional horsemanship used in modern day cattle ranching.\n5pm FREE Community BBQ and Live Music 🍔🌭🎤\n7pm FREE Family Cabaret with a top act\, TBA!! 👨‍👩‍👧‍👦🎸🥁🎹🎤 \nSaturday Schedule (PLYGEM RETRO DAY) \n10am-6pm Trading Post Market FREE ENTRY @(Events Centre)\n11am Gates open\n1pm Rodeo Begins\n🐎Full FCA sanctioned Rodeo Program.\n🐎Trick Rider Bella Da Costa\n👑Rodeo Queen Farewell and Crowning\n🏇Mounted Shooting Event\n🥁Indigenous Dancers\n👏Volunteer of The Year Awards\n🐂 Wild Cow Races\n🏰Kids Zone\n🚚Food Vendors\n🎁Swag give aways\n🍻Licensed Bar\n💵50/50\n🎁Belt Buckle Draws\n➕Many more events throughout the day!!\n7pm 🎸🥁🎹🎤 Cabaret Gates Open with local warm-up acts\n8.30pm-11.30pm Headliner The Johner Brothers entry $30 advanced tickets recommend.\n12am Gates Close \nSunday Schedule (CALGARY CO-OP MAKE A WISH DAY) \n7am-11am Make a Wish Charity Fun Run\n10am-6pm Trading Post Market FREE ENTRY @(Events Centre)\n11am Gates open\n1pm Rodeo Begins\n🐎Full FCA sanctioned Rodeo Program.\n🐎Trick Rider Bella Da Costa\n🏆Poster Art Competition Winner Buckle Presentation\n🏇Mounted Shooting Event\n🥁Indigenous Dancers\n🐂 Wild Cow Races\n🏰Kids Zone\n🚚Food Vendors\n🎁Swag give aways\n🍻Licensed Bar\n💵50/50\n🎁Belt Buckle Draws\n➕Many more events throughout the day!! \nMonday Schedule (Veterans & First Responders Day) \n10am-6pm Trading Post Market FREE ENTRY @(Events Centre)\n11am Gates open\n1pm Rodeo Begins\n👮‍♂️👮‍♀️Veterans & First Responders Appreciation Parade\n🐎Full FCA sanctioned Rodeo Program.\n🐎Trick Rider Bella Da Costa\n🥁Indigenous Dancers\n🐂 Wild Cow Races\n🏰Kids Zone\n🚚Food Vendors\n🎁Swag give aways\n🍻Licensed Bar\n💵50/50\n🎁Belt Buckle Draws\n➕Many more events throughout the day!! \nTRADING POST MARKET\nFriday • Saturday • Sunday • Monday \n📍 Cochrane Lions Event Centre\n🕘 Open Daily: 10am – 6pm\n🛍️ Over 50 Vendors!\n🤠 Western Wear • Horse Tack • Handmade Crafts\n🧰 Local Woodworking • Apparel • Jewelry\n🛒 Unique Consignment Items\n🍪 Fine Foods – Baked Goods\, Jams\, Preserves & More!\n✨ Come explore treasures\, treats\, and true western charm.\n🧡 Support Local | Find Hidden Gems | Family Friendly\n📅 4 Big Days of Deals & Discoveries\n📞 Info: 403-837-0033\n📍 109 5th Ave\, Cochrane\, AB\n📲 Follow us on Facebook: @CochraneLionsEventCentre \n  \n 
URL:https://urbancasual.ca/cochrane-event/cochrane-lions-labour-day-weekend-rodeo-2025/
LOCATION:Lions Rodeo Grounds
CATEGORIES:Bull Riding,COCHRANE LIONS RODEO WEEKEND,Community,Concert,Downtown,Entertainment & Games,Family Friendly,History,Learning,LIONS EVENTS CENTRE,Rodeo
ATTACH;FMTTYPE=image/jpeg:https://urbancasual.ca/wp-content/uploads/2025/06/inbound5719756300393593693.jpg
END:VEVENT
BEGIN:VEVENT
DTSTART;TZID=America/Edmonton:20250829T100000
DTEND;TZID=America/Edmonton:20250829T110000
DTSTAMP:20260421T062323
CREATED:20250109T175736Z
LAST-MODIFIED:20250226T200327Z
UID:10045270-1756461600-1756465200@urbancasual.ca
SUMMARY:Parent & Tot Sing-Alongs
DESCRIPTION:Welcome to Cochrane’s Parent & Tot Sing-Along Sessions! \nJoin us for a fun and interactive music experience with your little ones. Sing along to popular children’s songs and nursery rhymes in a welcoming and inclusive environment. \nSTARTING DATE Friday January 3\, 2025 \nTime: Doors at 10:00 AM music starts at 10:15am \nLocation: Frank Wills Community Hall \nCoffee\, tea and cookies provided. \nBring your singing voices and get ready to bond with your child through music. No experience necessary\, just come ready to have a great time! \nFloor seating so bring a blanket\, yoga mat or cushion if you’d like. \n*Price is for parent & tot with no more than 2 parents per caregiver. $7/each drop-in or $20 for 4 consecutive drop ins (billed once at the beginning of the month)
URL:https://urbancasual.ca/cochrane-event/parent-tot-sing-alongs/2025-08-29/
LOCATION:Frank Wills Memorial Hall\, 405 1st Street E\, Cochrane\, Alberta
CATEGORIES:Community,Entertainment & Games,Learning,Music,Parents & Caregivers
ATTACH;FMTTYPE=image/jpeg:https://urbancasual.ca/wp-content/uploads/2025/01/472320182_8970766342958715_3666774441074322581_n.jpg
END:VEVENT
BEGIN:VEVENT
DTSTART;TZID=America/Edmonton:20250829T100000
DTEND;TZID=America/Edmonton:20250829T180000
DTSTAMP:20260421T062323
CREATED:20250807T165043Z
LAST-MODIFIED:20250807T165044Z
UID:10049899-1756461600-1756490400@urbancasual.ca
SUMMARY:TRADING POST LABOUR DAY WEEKEND MARKET
DESCRIPTION: Big News\, Cochrane! \nWe’re proud to present the First-Ever Trading Post Market — happening August 29\, 30\, 31 & September 1 — alongside the Cochrane Lions Rodeo! \n\n\n\n Step inside the Cochrane Lions Event Centre to explore 50+ amazing vendors offering:\n Handmade goods\n Western wear\n Home décor\n Unique gifts\n Tasty treats\n… and so much more!\n\n\n\n Venue: Cochrane Lions Event Centre\n Address: 109 5th Ave W\, Cochrane\, AB\n Dates: August 29 – September 1\n Time: 10 AM – 6 PM daily\n\n\n\n FREE ADMISSION – No rodeo ticket required to attend the market!\n\n\n\nCelebrate Rodeo Weekend in true western style. Shop local\, meet talented makers\, and enjoy the festive atmosphere! \n\n\n\n Stay tuned all month as we feature our fantastic vendors\, including:\nCool Shirts • Glass n Stuff • 3D Printing • Thick Boys Spices• Cochrane Lions Rodeo Regalia• Jolly 23 • BBB Honey • Enlightened Oils • Rara Joy • Valley General Store • Midnight Silver • IV Therapy • Good Spirit Photo • Super Dips • White Lightning Distillery • Red Neck Rough & Tough • Woody Worn • Phoenix Fudge • Angelica Roberts • Jordan Ridge Sauces • Dark Horse Design • Purple Pantry • Happily Homemade Creations • Rocky Mountain Mules • Catrina Toffee • Frayed Knot • M3 Custom Metals • Norwex • Sweets by the Creek • Vintage Buckskin • Sasquatch Trails • Rad Crafts • A Strong Impression • Leaf Filter • Busted Bronco • Heritage Soap Works • Emerson Cree Designs • ENMAX Energy • Let Them Play • Stunning Creations • Cody & Sioux • Ukrainian Fine Foods • Memories of the Bay • My Teepee • Imagine That Art • Juice Plus • Made by CJ-Bethel Masterpiece\n\n\n\n Don’t miss this one-of-a-kind market experience!
URL:https://urbancasual.ca/cochrane-event/trading-post-labour-day-weekend-market/2025-08-29/
LOCATION:The Lions Event Centre\, 109 5th Avenue\, Cochrane\, Alberta\, Canada
CATEGORIES:Business,Community,Family Friendly,Free,LIONS EVENTS CENTRE,Market
ATTACH;FMTTYPE=image/jpeg:https://urbancasual.ca/wp-content/uploads/2025/07/inbound8547588370205317883.jpg
END:VEVENT
BEGIN:VEVENT
DTSTART;TZID=America/Edmonton:20250829T120000
DTEND;TZID=America/Edmonton:20250829T160000
DTSTAMP:20260421T062323
CREATED:20250529T163927Z
LAST-MODIFIED:20250529T163927Z
UID:10048464-1756468800-1756483200@urbancasual.ca
SUMMARY:Cochrane Historical Museum
DESCRIPTION:Visit the Cochrane Historical Museum Wednesday through Sunday (plus stat Mondays) until September 1st\, 12pm to 4pm. \nLearn more: https://urbancasual.ca/history-live-here-cochrane-historical-museum-opens-at-the-ranche-may-17th/
URL:https://urbancasual.ca/cochrane-event/cochrane-historical-museum/2025-08-29/
LOCATION:Cochrane Ranche\, Hwy 1A\, Cochrane\, Alberta
CATEGORIES:Community,Culture,Entertainment & Games,Family Friendly,Free,Learning,Newcomers,Parents & Caregivers
ATTACH;FMTTYPE=image/jpeg:https://urbancasual.ca/wp-content/uploads/2025/05/497640714_10162442038179061_4194824443753130805_n-e1747167844472.jpg
END:VEVENT
BEGIN:VEVENT
DTSTART;TZID=America/Edmonton:20250829T163000
DTEND;TZID=America/Edmonton:20250829T190000
DTSTAMP:20260421T062323
CREATED:20250331T223345Z
LAST-MODIFIED:20250331T223345Z
UID:10046128-1756485000-1756494000@urbancasual.ca
SUMMARY:Friday Night BBQ (Family Friendly) at the Legion
DESCRIPTION:Steak\, burger and hot dogs are on the menu Friday nights. All items come with potato\, salad\, beans and garlic toast. \nCheck our Facebook page for updates.\nFamily Friendly\nNo membership required\nWe hope you can join us
URL:https://urbancasual.ca/cochrane-event/friday-night-bbq-family-friendly-at-the-legion/2025-08-29/
LOCATION:Cochrane Legion\, 114 5th Ave\, Cochrane\, Alberta\, T4C 1A5\, Canada
CATEGORIES:Community,Food,Legion
ATTACH;FMTTYPE=image/png:https://urbancasual.ca/wp-content/uploads/2025/03/Legion-Posters-20250-6.png
ORGANIZER;CN="Cochrane Legion":MAILTO:cochranelegion15mov@gmail.com
END:VEVENT
BEGIN:VEVENT
DTSTART;TZID=America/Edmonton:20250829T190000
DTEND;TZID=America/Edmonton:20250829T194500
DTSTAMP:20260421T062323
CREATED:20250827T184306Z
LAST-MODIFIED:20250827T184306Z
UID:10050223-1756494000-1756496700@urbancasual.ca
SUMMARY:FREE Back To School Parent Online Workshop
DESCRIPTION:New to Cochrane or simply feeling the back-to-school stress? You’re not alone! \nWhether you’re navigating a new community or bracing for the uncertainty of a potential school strike\, we’re here to help you and your child start the year with confidence and calm. \nIn just 45 minutes\, our free Zoom workshop will give you: \n– Simple\, effective tips for creating smooth morning and after-school routines\, no matter what the school year brings \n– A ready-to-use teacher template to help your child’s new teacher get to know them quickly\, so they feel seen and supported from day one \n– Practical strategies for managing routine disruptions (like strikes or sudden schedule changes) \n– A welcoming space to ask your questions and connect with other local parents \n– Downloadable resources you can use right away \nWe know transitions can be tough\, especially if you’re new to town or facing extra uncertainty this year. Join us to get ahead of the chaos and help your family feel prepared\, connected\, and supported for whatever comes next. \nLearn More & Register at the Village of Play website!
URL:https://urbancasual.ca/cochrane-event/free-back-to-school-parent-online-workshop/
LOCATION:Alberta
CATEGORIES:Back 2 School,Community,Parents & Caregivers,School
ATTACH;FMTTYPE=image/png:https://urbancasual.ca/wp-content/uploads/2025/08/VOP-LogoTM.png
END:VEVENT
END:VCALENDAR