BEGIN:VCALENDAR
VERSION:2.0
PRODID:-//Urbancasual.ca - ECPv6.15.20//NONSGML v1.0//EN
CALSCALE:GREGORIAN
METHOD:PUBLISH
X-ORIGINAL-URL:https://urbancasual.ca
X-WR-CALDESC:Events for Urbancasual.ca
REFRESH-INTERVAL;VALUE=DURATION:PT1H
X-Robots-Tag:noindex
X-PUBLISHED-TTL:PT1H
BEGIN:VTIMEZONE
TZID:America/Edmonton
BEGIN:DAYLIGHT
TZOFFSETFROM:-0700
TZOFFSETTO:-0600
TZNAME:MDT
DTSTART:20240310T090000
END:DAYLIGHT
BEGIN:STANDARD
TZOFFSETFROM:-0600
TZOFFSETTO:-0700
TZNAME:MST
DTSTART:20241103T080000
END:STANDARD
BEGIN:DAYLIGHT
TZOFFSETFROM:-0700
TZOFFSETTO:-0600
TZNAME:MDT
DTSTART:20250309T090000
END:DAYLIGHT
BEGIN:STANDARD
TZOFFSETFROM:-0600
TZOFFSETTO:-0700
TZNAME:MST
DTSTART:20251102T080000
END:STANDARD
BEGIN:DAYLIGHT
TZOFFSETFROM:-0700
TZOFFSETTO:-0600
TZNAME:MDT
DTSTART:20260308T090000
END:DAYLIGHT
BEGIN:STANDARD
TZOFFSETFROM:-0600
TZOFFSETTO:-0700
TZNAME:MST
DTSTART:20261101T080000
END:STANDARD
END:VTIMEZONE
BEGIN:VEVENT
DTSTART;TZID=America/Edmonton:20250808T100000
DTEND;TZID=America/Edmonton:20250808T110000
DTSTAMP:20260419T213727
CREATED:20250109T175736Z
LAST-MODIFIED:20250226T200327Z
UID:10045267-1754647200-1754650800@urbancasual.ca
SUMMARY:Parent & Tot Sing-Alongs
DESCRIPTION:Welcome to Cochrane’s Parent & Tot Sing-Along Sessions! \nJoin us for a fun and interactive music experience with your little ones. Sing along to popular children’s songs and nursery rhymes in a welcoming and inclusive environment. \nSTARTING DATE Friday January 3\, 2025 \nTime: Doors at 10:00 AM music starts at 10:15am \nLocation: Frank Wills Community Hall \nCoffee\, tea and cookies provided. \nBring your singing voices and get ready to bond with your child through music. No experience necessary\, just come ready to have a great time! \nFloor seating so bring a blanket\, yoga mat or cushion if you’d like. \n*Price is for parent & tot with no more than 2 parents per caregiver. $7/each drop-in or $20 for 4 consecutive drop ins (billed once at the beginning of the month)
URL:https://urbancasual.ca/cochrane-event/parent-tot-sing-alongs/2025-08-08/
LOCATION:Frank Wills Memorial Hall\, 405 1st Street E\, Cochrane\, Alberta
CATEGORIES:Community,Entertainment & Games,Learning,Music,Parents & Caregivers
ATTACH;FMTTYPE=image/jpeg:https://urbancasual.ca/wp-content/uploads/2025/01/472320182_8970766342958715_3666774441074322581_n.jpg
END:VEVENT
BEGIN:VEVENT
DTSTART;TZID=America/Edmonton:20250808T100000
DTEND;TZID=America/Edmonton:20250808T130000
DTSTAMP:20260419T213727
CREATED:20250626T150758Z
LAST-MODIFIED:20250626T150758Z
UID:10049571-1754647200-1754658000@urbancasual.ca
SUMMARY:A Turning Tide: Indigenous Peoples in a Time of Change
DESCRIPTION:This session with dr. linda manyguns delves into a crucial period of change for Indigenous peoples between 1860 and the early 1900s. Uncover the stories behind population changes\, the introduction of agriculture\, and the complex process of treaty signings that dramatically altered the landscape and lives of Indigenous communities. \nThis program is part of the “Unpacking the Past\, Understanding the Present” series by dr. linda manyguns and is made possible by an ethnocultural grant provided by the Government of Alberta. This series will take place on the eighth of each month from June to October. \nYou can register for this session and find more information on upcoming sessions by visiting cochranepubliclibrary.ca/Events/A-Turning-Tide-Indigenous-Peoples-in-a-Time-of-Change-1860-1900s!
URL:https://urbancasual.ca/cochrane-event/a-turning-tide-indigenous-peoples-in-a-time-of-change/
LOCATION:Cochrane Public Library\, 405 Railway Street W\, Cochrane\, Alberta
CATEGORIES:Community,Free,Indigenous,Learning,Library
ATTACH;FMTTYPE=image/jpeg:https://urbancasual.ca/wp-content/uploads/2025/06/August-8th.jpg
END:VEVENT
BEGIN:VEVENT
DTSTART;TZID=America/Edmonton:20250808T111500
DTEND;TZID=America/Edmonton:20250808T114500
DTSTAMP:20260419T213727
CREATED:20250623T223338Z
LAST-MODIFIED:20250623T223338Z
UID:10049526-1754651700-1754653500@urbancasual.ca
SUMMARY:Drop-in Summer Stories in the Garden (Parented)
DESCRIPTION:Come to the Library for exciting stories\, songs\, rhymes\, and bubbles in our garden. These sessions will keep your little one involved from start to finish! \nFor ages 0-5. \nThis program occurs from 11:15am – 11:45am on Mondays and Fridays.
URL:https://urbancasual.ca/cochrane-event/drop-in-summer-stories-in-the-garden-parented/2025-08-08/
LOCATION:Cochrane Public Library\, 405 Railway Street W\, Cochrane\, Alberta
CATEGORIES:Community,Free,Library,Parents & Caregivers
ATTACH;FMTTYPE=image/png:https://urbancasual.ca/wp-content/uploads/2025/06/Summer-Stories-in-the-Garden-2025-Poster-1.png
END:VEVENT
BEGIN:VEVENT
DTSTART;TZID=America/Edmonton:20250808T120000
DTEND;TZID=America/Edmonton:20250808T160000
DTSTAMP:20260419T213727
CREATED:20250529T163927Z
LAST-MODIFIED:20250529T163927Z
UID:10048449-1754654400-1754668800@urbancasual.ca
SUMMARY:Cochrane Historical Museum
DESCRIPTION:Visit the Cochrane Historical Museum Wednesday through Sunday (plus stat Mondays) until September 1st\, 12pm to 4pm. \nLearn more: https://urbancasual.ca/history-live-here-cochrane-historical-museum-opens-at-the-ranche-may-17th/
URL:https://urbancasual.ca/cochrane-event/cochrane-historical-museum/2025-08-08/
LOCATION:Cochrane Ranche\, Hwy 1A\, Cochrane\, Alberta
CATEGORIES:Community,Culture,Entertainment & Games,Family Friendly,Free,Learning,Newcomers,Parents & Caregivers
ATTACH;FMTTYPE=image/jpeg:https://urbancasual.ca/wp-content/uploads/2025/05/497640714_10162442038179061_4194824443753130805_n-e1747167844472.jpg
END:VEVENT
BEGIN:VEVENT
DTSTART;TZID=America/Edmonton:20250808T130000
DTEND;TZID=America/Edmonton:20250808T150000
DTSTAMP:20260419T213727
CREATED:20250624T002445Z
LAST-MODIFIED:20250624T002445Z
UID:10049457-1754658000-1754665200@urbancasual.ca
SUMMARY:SRC - Friday Fun
DESCRIPTION:Drop in for some Friday Fun at the Cochrane Public Library! \nEach Friday from 1–3pm\, explore a mix of crafts\, challenges\, and hands-on activities at different stations. All of these activities will vary from week-to-week and will usually happen in the activity room. No registration needed—just show up and join the adventure! \nJoining us this year at Friday Fun’s will be RVS Mental Health Capacity Building and Cultivate Cochrane with their Solar Roller bringing extra fun to our Friday Fun events!
URL:https://urbancasual.ca/cochrane-event/src-friday-fun/2025-08-08/
LOCATION:Cochrane Public Library\, 405 Railway Street W\, Cochrane\, Alberta
CATEGORIES:Community,Family Friendly,Library,Parents & Caregivers
ATTACH;FMTTYPE=image/jpeg:https://urbancasual.ca/wp-content/uploads/2025/06/Friday-Fun.jpg
END:VEVENT
BEGIN:VEVENT
DTSTART;TZID=America/Edmonton:20250808T163000
DTEND;TZID=America/Edmonton:20250808T190000
DTSTAMP:20260419T213727
CREATED:20250331T223345Z
LAST-MODIFIED:20250331T223345Z
UID:10046125-1754670600-1754679600@urbancasual.ca
SUMMARY:Friday Night BBQ (Family Friendly) at the Legion
DESCRIPTION:Steak\, burger and hot dogs are on the menu Friday nights. All items come with potato\, salad\, beans and garlic toast. \nCheck our Facebook page for updates.\nFamily Friendly\nNo membership required\nWe hope you can join us
URL:https://urbancasual.ca/cochrane-event/friday-night-bbq-family-friendly-at-the-legion/2025-08-08/
LOCATION:Cochrane Legion\, 114 5th Ave\, Cochrane\, Alberta\, T4C 1A5\, Canada
CATEGORIES:Community,Food,Legion
ATTACH;FMTTYPE=image/png:https://urbancasual.ca/wp-content/uploads/2025/03/Legion-Posters-20250-6.png
ORGANIZER;CN="Cochrane Legion":MAILTO:cochranelegion15mov@gmail.com
END:VEVENT
BEGIN:VEVENT
DTSTART;TZID=America/Edmonton:20250808T190000
DTEND;TZID=America/Edmonton:20250808T210000
DTSTAMP:20260419T213727
CREATED:20250526T200445Z
LAST-MODIFIED:20250526T200445Z
UID:10048381-1754679600-1754686800@urbancasual.ca
SUMMARY:Book Talk and Signing with Author Jordan H. Bartlett: Contest of Queens
DESCRIPTION:HEAR YE! HEAR YE! Get your tickets here!  \nJoin us at Found Books & Shop for a Book Talk and Signing with Author Jordan H. Bartlett! Jordan will be with us for a night of author talks all about her Young Adult Fantasy book Contest of Queens and the entire Frean Chronicles! Have your questions ready for the first part of the night\, and then enjoy a cozy Queendom themed hour all about mingling and getting a signed copy of Contest of Queens. \nCrowns and Queendom atire are highly encouraged\, please feel free to arrive in your royal best! \nPLEASE NOTE! Books have to be ordered in advace for this event\, so if you want to secure your copy for the evening\, be sure to choose the Book Included Ticket before July 16th. If you have your own copy already\, or want to just come and enjoy the evening\, choose the General Ticket option. We can not guarentee there will be extra copies of Contest of Queens on the night of\, so get your Book Inclusive tickets early! If you happen to miss the deadline though\, never fear! There will still be lots of perks (a FairyTale collection mayhaps) and other signing options. \nWhen: Friday August 8th\, 7:00-9:00pm (Doors Open 6:30pm)\nWhere: Found Books & Shop\, 208 1st Street W\, Cochrane\, AB T4C 1B7\nCost:\n-Book Included Ticket: $22.99 plus taxes and fees (Available until July 16th to guarentee a copy of Contest of Queens)\n-General Admission: $4.99 plus taxes and fees (Available until the day of the event). \nAbout Contest of Queens: \nWhen an unsettling event occurs in the Queendom of Frea\, Jacs\, an inventor’s apprentice from the Lower Realm\, participates in the Contest of Queens to prove that a Queendom is strongest when united. \nIn a Queendom divided\, can one girl unite the realms? \nJacs\, an inventor’s apprentice from the Lower Realm\, has only ever dreamed of what the land among the clouds holds. That is until she finds a letter from Connor\, an Upperite boy who sends a wooden boat into the abyss\, hoping to learn more about the land below. Little does Jacs know\, Connor is actually Prince Cornelius of the Queendom of Frea. With wooden boats and hot air balloons\, the two begin a secret correspondence that lasts years. But their friendship is divided by a heavily-guarded bridge and an inescapable prejudice. \nThe strength of their bond was thought to transcend distance and time\, but when the royal family visits Jacs’ town of Bridgeport\, the illusion of peace between the Realms dissolves\, and the old feud is reignited. \nNow\, to save her people\, Jacs must infiltrate the Upper Realm and earn her place to compete in the Contest of Queens. She must learn how to survive against the contests’ grueling tasks and within a political web she could not have imagined. In a story about friendship\, love\, bravery\, and defying gravity\, Jacs will strive to prove that a Queendom is strongest when united. \nDon’t wait to secure your ticket! You will want to learn all about the Frean Chronicles!
URL:https://urbancasual.ca/cochrane-event/book-talk-and-signing-with-author-jordan-h-bartlett-contest-of-queens/
LOCATION:Found Book Shop\, 206 1st Street W\, Cochrane\, AB
CATEGORIES:Book Club,Business,Community,Entertainment & Games,Learning
ATTACH;FMTTYPE=image/png:https://urbancasual.ca/wp-content/uploads/2025/05/Jordan_H_Bartlett_Book_Event_Square_.png
END:VEVENT
END:VCALENDAR