BEGIN:VCALENDAR
VERSION:2.0
PRODID:-//Urbancasual.ca - ECPv6.15.20//NONSGML v1.0//EN
CALSCALE:GREGORIAN
METHOD:PUBLISH
X-WR-CALNAME:Urbancasual.ca
X-ORIGINAL-URL:https://urbancasual.ca
X-WR-CALDESC:Events for Urbancasual.ca
REFRESH-INTERVAL;VALUE=DURATION:PT1H
X-Robots-Tag:noindex
X-PUBLISHED-TTL:PT1H
BEGIN:VTIMEZONE
TZID:America/Edmonton
BEGIN:DAYLIGHT
TZOFFSETFROM:-0700
TZOFFSETTO:-0600
TZNAME:MDT
DTSTART:20240310T090000
END:DAYLIGHT
BEGIN:STANDARD
TZOFFSETFROM:-0600
TZOFFSETTO:-0700
TZNAME:MST
DTSTART:20241103T080000
END:STANDARD
BEGIN:DAYLIGHT
TZOFFSETFROM:-0700
TZOFFSETTO:-0600
TZNAME:MDT
DTSTART:20250309T090000
END:DAYLIGHT
BEGIN:STANDARD
TZOFFSETFROM:-0600
TZOFFSETTO:-0700
TZNAME:MST
DTSTART:20251102T080000
END:STANDARD
BEGIN:DAYLIGHT
TZOFFSETFROM:-0700
TZOFFSETTO:-0600
TZNAME:MDT
DTSTART:20260308T090000
END:DAYLIGHT
BEGIN:STANDARD
TZOFFSETFROM:-0600
TZOFFSETTO:-0700
TZNAME:MST
DTSTART:20261101T080000
END:STANDARD
END:VTIMEZONE
BEGIN:VEVENT
DTSTART;TZID=America/Edmonton:20250801T100000
DTEND;TZID=America/Edmonton:20250801T110000
DTSTAMP:20260420T173832
CREATED:20250109T175736Z
LAST-MODIFIED:20250226T200327Z
UID:10045266-1754042400-1754046000@urbancasual.ca
SUMMARY:Parent & Tot Sing-Alongs
DESCRIPTION:Welcome to Cochrane’s Parent & Tot Sing-Along Sessions! \nJoin us for a fun and interactive music experience with your little ones. Sing along to popular children’s songs and nursery rhymes in a welcoming and inclusive environment. \nSTARTING DATE Friday January 3\, 2025 \nTime: Doors at 10:00 AM music starts at 10:15am \nLocation: Frank Wills Community Hall \nCoffee\, tea and cookies provided. \nBring your singing voices and get ready to bond with your child through music. No experience necessary\, just come ready to have a great time! \nFloor seating so bring a blanket\, yoga mat or cushion if you’d like. \n*Price is for parent & tot with no more than 2 parents per caregiver. $7/each drop-in or $20 for 4 consecutive drop ins (billed once at the beginning of the month)
URL:https://urbancasual.ca/cochrane-event/parent-tot-sing-alongs/2025-08-01/
LOCATION:Frank Wills Memorial Hall\, 405 1st Street E\, Cochrane\, Alberta
CATEGORIES:Community,Entertainment & Games,Learning,Music,Parents & Caregivers
ATTACH;FMTTYPE=image/jpeg:https://urbancasual.ca/wp-content/uploads/2025/01/472320182_8970766342958715_3666774441074322581_n.jpg
END:VEVENT
BEGIN:VEVENT
DTSTART;TZID=America/Edmonton:20250801T111500
DTEND;TZID=America/Edmonton:20250801T114500
DTSTAMP:20260420T173832
CREATED:20250623T223338Z
LAST-MODIFIED:20250623T223338Z
UID:10049525-1754046900-1754048700@urbancasual.ca
SUMMARY:Drop-in Summer Stories in the Garden (Parented)
DESCRIPTION:Come to the Library for exciting stories\, songs\, rhymes\, and bubbles in our garden. These sessions will keep your little one involved from start to finish! \nFor ages 0-5. \nThis program occurs from 11:15am – 11:45am on Mondays and Fridays.
URL:https://urbancasual.ca/cochrane-event/drop-in-summer-stories-in-the-garden-parented/2025-08-01/
LOCATION:Cochrane Public Library\, 405 Railway Street W\, Cochrane\, Alberta
CATEGORIES:Community,Free,Library,Parents & Caregivers
ATTACH;FMTTYPE=image/png:https://urbancasual.ca/wp-content/uploads/2025/06/Summer-Stories-in-the-Garden-2025-Poster-1.png
END:VEVENT
BEGIN:VEVENT
DTSTART;TZID=America/Edmonton:20250801T120000
DTEND;TZID=America/Edmonton:20250801T160000
DTSTAMP:20260420T173832
CREATED:20250529T163927Z
LAST-MODIFIED:20250529T163927Z
UID:10048444-1754049600-1754064000@urbancasual.ca
SUMMARY:Cochrane Historical Museum
DESCRIPTION:Visit the Cochrane Historical Museum Wednesday through Sunday (plus stat Mondays) until September 1st\, 12pm to 4pm. \nLearn more: https://urbancasual.ca/history-live-here-cochrane-historical-museum-opens-at-the-ranche-may-17th/
URL:https://urbancasual.ca/cochrane-event/cochrane-historical-museum/2025-08-01/
LOCATION:Cochrane Ranche\, Hwy 1A\, Cochrane\, Alberta
CATEGORIES:Community,Culture,Entertainment & Games,Family Friendly,Free,Learning,Newcomers,Parents & Caregivers
ATTACH;FMTTYPE=image/jpeg:https://urbancasual.ca/wp-content/uploads/2025/05/497640714_10162442038179061_4194824443753130805_n-e1747167844472.jpg
END:VEVENT
BEGIN:VEVENT
DTSTART;TZID=America/Edmonton:20250801T130000
DTEND;TZID=America/Edmonton:20250801T150000
DTSTAMP:20260420T173832
CREATED:20250624T002445Z
LAST-MODIFIED:20250624T002445Z
UID:10049456-1754053200-1754060400@urbancasual.ca
SUMMARY:SRC - Friday Fun
DESCRIPTION:Drop in for some Friday Fun at the Cochrane Public Library! \nEach Friday from 1–3pm\, explore a mix of crafts\, challenges\, and hands-on activities at different stations. All of these activities will vary from week-to-week and will usually happen in the activity room. No registration needed—just show up and join the adventure! \nJoining us this year at Friday Fun’s will be RVS Mental Health Capacity Building and Cultivate Cochrane with their Solar Roller bringing extra fun to our Friday Fun events!
URL:https://urbancasual.ca/cochrane-event/src-friday-fun/2025-08-01/
LOCATION:Cochrane Public Library\, 405 Railway Street W\, Cochrane\, Alberta
CATEGORIES:Community,Family Friendly,Library,Parents & Caregivers
ATTACH;FMTTYPE=image/jpeg:https://urbancasual.ca/wp-content/uploads/2025/06/Friday-Fun.jpg
END:VEVENT
BEGIN:VEVENT
DTSTART;TZID=America/Edmonton:20250801T163000
DTEND;TZID=America/Edmonton:20250801T190000
DTSTAMP:20260420T173832
CREATED:20250331T223345Z
LAST-MODIFIED:20250331T223345Z
UID:10046124-1754065800-1754074800@urbancasual.ca
SUMMARY:Friday Night BBQ (Family Friendly) at the Legion
DESCRIPTION:Steak\, burger and hot dogs are on the menu Friday nights. All items come with potato\, salad\, beans and garlic toast. \nCheck our Facebook page for updates.\nFamily Friendly\nNo membership required\nWe hope you can join us
URL:https://urbancasual.ca/cochrane-event/friday-night-bbq-family-friendly-at-the-legion/2025-08-01/
LOCATION:Cochrane Legion\, 114 5th Ave\, Cochrane\, Alberta\, T4C 1A5\, Canada
CATEGORIES:Community,Food,Legion
ATTACH;FMTTYPE=image/png:https://urbancasual.ca/wp-content/uploads/2025/03/Legion-Posters-20250-6.png
ORGANIZER;CN="Cochrane Legion":MAILTO:cochranelegion15mov@gmail.com
END:VEVENT
END:VCALENDAR