BEGIN:VCALENDAR
VERSION:2.0
PRODID:-//Urbancasual.ca - ECPv6.15.20//NONSGML v1.0//EN
CALSCALE:GREGORIAN
METHOD:PUBLISH
X-WR-CALNAME:Urbancasual.ca
X-ORIGINAL-URL:https://urbancasual.ca
X-WR-CALDESC:Events for Urbancasual.ca
REFRESH-INTERVAL;VALUE=DURATION:PT1H
X-Robots-Tag:noindex
X-PUBLISHED-TTL:PT1H
BEGIN:VTIMEZONE
TZID:America/Edmonton
BEGIN:DAYLIGHT
TZOFFSETFROM:-0700
TZOFFSETTO:-0600
TZNAME:MDT
DTSTART:20230312T090000
END:DAYLIGHT
BEGIN:STANDARD
TZOFFSETFROM:-0600
TZOFFSETTO:-0700
TZNAME:MST
DTSTART:20231105T080000
END:STANDARD
BEGIN:DAYLIGHT
TZOFFSETFROM:-0700
TZOFFSETTO:-0600
TZNAME:MDT
DTSTART:20240310T090000
END:DAYLIGHT
BEGIN:STANDARD
TZOFFSETFROM:-0600
TZOFFSETTO:-0700
TZNAME:MST
DTSTART:20241103T080000
END:STANDARD
BEGIN:DAYLIGHT
TZOFFSETFROM:-0700
TZOFFSETTO:-0600
TZNAME:MDT
DTSTART:20250309T090000
END:DAYLIGHT
BEGIN:STANDARD
TZOFFSETFROM:-0600
TZOFFSETTO:-0700
TZNAME:MST
DTSTART:20251102T080000
END:STANDARD
END:VTIMEZONE
BEGIN:VEVENT
DTSTART;VALUE=DATE:20241201
DTEND;VALUE=DATE:20241222
DTSTAMP:20260424T181012
CREATED:20241122T165242Z
LAST-MODIFIED:20241122T165242Z
UID:10037649-1733022000-1734749999@urbancasual.ca
SUMMARY:MERRY & BRIGHT COMMUNITY AWARDS
DESCRIPTION:The Town of Cochrane is excited to announce the launch of the Merry & Bright Community Awards\, a festive celebration designed to bring holiday cheer and showcase the spirit of Cochrane. This initiative invites residents to light up their homes and neighborhoods\, fostering connections and spreading joy throughout the community. \nDirector of Parks & Active Living Michelle Delorme expressed her enthusiasm: “Our Merry & Bright Community Awards offer a wonderful opportunity for Cochrane residents to showcase their creativity while fostering neighborhood connections. We hope this initiative will spread joy and create lasting memories during this special time of year.” \nHow to participate\nJoining the Merry & Bright Community Awards is simple and fun: \n1. Decorate your home\, window\, patio or yard to spread holiday cheer.\n2. Submit a nomination form between December 1-12. You can nominate your own home or a neighbor’s.\n3. Explore the festive displays using the virtual map starting December 16 at Cochrane.ca/merryandbright.\n4. Vote for your favourite display between December 16-20 through the online voting form. \nAward categories\nParticipants can enter one of three festive categories: \n• Best Traditional Lights Display: Honoring timeless holiday charm.\n• Best Small Display (Garden\, Patio\, Window): Celebrating creativity in compact spaces.\n• Best Large Display (Full Yard/House): Recognizing impressive and expansive decorations. \nCelebrate the season\nOn December 16\, the Cochrane GIS team will release a virtual map highlighting all the nominated displays. Residents are encouraged to gather friends and family\, hop in their vehicles\, and take a self-guided tour of the dazzling lights across Cochrane. After exploring the displays\, cast your vote for your favourite to help determine the winners. The Merry & Bright Award winners will be announced on December 23 via the Town of Cochrane’s social media channels.
URL:https://urbancasual.ca/cochrane-event/merry-bright-community-awards/
CATEGORIES:Community,Town of Cochrane
ATTACH;FMTTYPE=image/png:https://urbancasual.ca/wp-content/uploads/2024/11/Merry-Bright-web-02-1.png
END:VEVENT
BEGIN:VEVENT
DTSTART;TZID=America/Edmonton:20241211T090000
DTEND;TZID=America/Edmonton:20241211T110000
DTSTAMP:20260424T181012
CREATED:20240325T212247Z
LAST-MODIFIED:20240619T153633Z
UID:10025744-1733907600-1733914800@urbancasual.ca
SUMMARY:COCHRANE BABY BOOMERS COFFEE CLUB
DESCRIPTION:EVERY WEDNESDAY – JOIN US AT ONE OR BOTH GROUPS! \nGROUP 1 – 9 TO 11AM AT THE LEGION – 114 FIFTH AVENUE \nGROUP 2 – 2 TO 4PM AT THE VENUE – 79 RAILWAY ST.
URL:https://urbancasual.ca/cochrane-event/cochrane-baby-boomers-coffee-club/2024-12-11/
LOCATION:The Legion\, 114 Fifth Ave\, Cochrane\, Canada
CATEGORIES:Club,Community,Entertainment & Games,Newcomers,Pub/Bar Event,Seniors
ATTACH;FMTTYPE=image/jpeg:https://urbancasual.ca/wp-content/uploads/2024/03/434241669_414630964545703_5340421825823485419_n.jpg
END:VEVENT
BEGIN:VEVENT
DTSTART;TZID=America/Edmonton:20241211T140000
DTEND;TZID=America/Edmonton:20241211T160000
DTSTAMP:20260424T181012
CREATED:20240325T212343Z
LAST-MODIFIED:20240619T201127Z
UID:10026266-1733925600-1733932800@urbancasual.ca
SUMMARY:COCHRANE BABY BOOMERS COFFEE CLUB
DESCRIPTION:EVERY WEDNESDAY – JOIN US AT ONE OR BOTH GROUPS! \nGROUP 1 – 9 TO 11AM AT THE LEGION – 114 FIFTH AVENUE \nGROUP 2 – 2 TO 4PM AT THE VENUE – 79 RAILWAY ST.
URL:https://urbancasual.ca/cochrane-event/cochrane-baby-boomers-coffee-club-2/2024-12-11/
LOCATION:Venue Bar & Grill\, 79 Railway St E\, Cochrane\, AB\, Canada
CATEGORIES:Club,Community,Entertainment & Games,Newcomers,Pub/Bar Event,Seniors
ATTACH;FMTTYPE=image/jpeg:https://urbancasual.ca/wp-content/uploads/2024/03/434241669_414630964545703_5340421825823485419_n.jpg
END:VEVENT
BEGIN:VEVENT
DTSTART;TZID=America/Edmonton:20241211T163000
DTEND;TZID=America/Edmonton:20241211T193000
DTSTAMP:20260424T181012
CREATED:20241209T231947Z
LAST-MODIFIED:20241209T231947Z
UID:10038537-1733934600-1733945400@urbancasual.ca
SUMMARY:Wings Nights at the Legion
DESCRIPTION:Every Wednesday from 4:30pm to 7:30pm\, wings are $8 per order at the Legion.
URL:https://urbancasual.ca/cochrane-event/wings-nights-at-the-legion/2024-12-11/
LOCATION:The Legion\, 114 Fifth Ave\, Cochrane\, Canada
CATEGORIES:Community,Downtown,Entertainment & Games,Family Friendly,Food,Parents & Caregivers,Seniors
ATTACH;FMTTYPE=image/jpeg:https://urbancasual.ca/wp-content/uploads/2024/12/Legion-Posters-6.jpg
END:VEVENT
BEGIN:VEVENT
DTSTART;TZID=America/Edmonton:20241211T183000
DTEND;TZID=America/Edmonton:20241211T210000
DTSTAMP:20260424T181012
CREATED:20241202T223010Z
LAST-MODIFIED:20241202T223010Z
UID:10037975-1733941800-1733950800@urbancasual.ca
SUMMARY:Community Innovators Speakers Series: Gair Maxwell
DESCRIPTION:Join us at Found Books & Shop for a rich\, interactive discussion with… Gair Maxwell\, International Author & Speaker!\n\nTopic: LEGENDARY INNOVATION\nTickets are $5 per person\, but they are limited!\ntickets available on Eventbrite\nLocation: Found Books & Shop – 208\, 1st Street W\n\nTime: Doors open at 6:30pm\, with the discussion starting at 7pm
URL:https://urbancasual.ca/cochrane-event/community-innovators-speakers-series-gair-maxwell/
LOCATION:Found Book Shop\, 206 1st Street W\, Cochrane\, AB
CATEGORIES:Community,Entertainment & Games,Learning,Networking
ATTACH;FMTTYPE=image/jpeg:https://urbancasual.ca/wp-content/uploads/2024/12/LEGENDARY-INNOVATION-DEC-11-24-3.jpg
END:VEVENT
END:VCALENDAR