BEGIN:VCALENDAR
VERSION:2.0
PRODID:-//Urbancasual.ca - ECPv6.15.20//NONSGML v1.0//EN
CALSCALE:GREGORIAN
METHOD:PUBLISH
X-ORIGINAL-URL:https://urbancasual.ca
X-WR-CALDESC:Events for Urbancasual.ca
REFRESH-INTERVAL;VALUE=DURATION:PT1H
X-Robots-Tag:noindex
X-PUBLISHED-TTL:PT1H
BEGIN:VTIMEZONE
TZID:America/Edmonton
BEGIN:DAYLIGHT
TZOFFSETFROM:-0700
TZOFFSETTO:-0600
TZNAME:MDT
DTSTART:20250309T090000
END:DAYLIGHT
BEGIN:STANDARD
TZOFFSETFROM:-0600
TZOFFSETTO:-0700
TZNAME:MST
DTSTART:20251102T080000
END:STANDARD
BEGIN:DAYLIGHT
TZOFFSETFROM:-0700
TZOFFSETTO:-0600
TZNAME:MDT
DTSTART:20260308T090000
END:DAYLIGHT
BEGIN:STANDARD
TZOFFSETFROM:-0600
TZOFFSETTO:-0700
TZNAME:MST
DTSTART:20261101T080000
END:STANDARD
BEGIN:DAYLIGHT
TZOFFSETFROM:-0700
TZOFFSETTO:-0600
TZNAME:MDT
DTSTART:20270314T090000
END:DAYLIGHT
BEGIN:STANDARD
TZOFFSETFROM:-0600
TZOFFSETTO:-0700
TZNAME:MST
DTSTART:20271107T080000
END:STANDARD
END:VTIMEZONE
BEGIN:VEVENT
DTSTART;TZID=America/Edmonton:20260421T190000
DTEND;TZID=America/Edmonton:20260421T210000
DTSTAMP:20260419T232337
CREATED:20240618T152427Z
LAST-MODIFIED:20240619T174110Z
UID:10028812-1776798000-1776805200@urbancasual.ca
SUMMARY:Rockyview Hotel - Learn to line dance
DESCRIPTION:THE ROCKYVIEW HOTEL | EST’D IN 1904 – Celebrating 120 years in Historic Downtown. \n+ Dance the night away at the @texasgate.cochrane ! \n+ Tuesdays – learn to line dance\, 7pm\n+ Thursdays – karaoke\, 8pm\n+ Fridays / Saturdays – all request DJ\, 10pm\n+ Sundays – All day free pool! \nTo book your stay & for more info: rockyviewhotel.ca \n  \n\n\n  \n\n\n\n\n\n\n\n\n\n\nView this post on Instagram\n\n\n\n\n\n\n\n\n\n\n\n\n\n\n\n\n\n\n\n\n\n\n  \nA post shared by Urban Casual Cochrane (@urbancasual.ca)
URL:https://urbancasual.ca/cochrane-event/rockyview-hotel-learn-to-line-dance/2026-04-21/
LOCATION:Rockyview Hotel
CATEGORIES:Business,Downtown,Hotel,Pub/Bar Event,Restaurant
ATTACH;FMTTYPE=image/jpeg:https://urbancasual.ca/wp-content/uploads/2024/06/305308494_488593543275767_6866078460144404837_n.jpg
END:VEVENT
BEGIN:VEVENT
DTSTART;TZID=America/Edmonton:20260421T190000
DTEND;TZID=America/Edmonton:20260421T210000
DTSTAMP:20260419T232337
CREATED:20260107T214734Z
LAST-MODIFIED:20260107T214734Z
UID:10053446-1776798000-1776805200@urbancasual.ca
SUMMARY:JAM & DRAW MIXER AT FOUND
DESCRIPTION:A welcoming space for musicians and artists at any skill level; play non-stop music with each other in an open circle\, “living room” setting! If you don’t play\, we will have a variety of art supplies available. \nThis space offers a chance to jam with friends and meet new people in your community. All instruments & genres (even spoken word/emcees) are welcome. This is a queer-friendly space. \nCover by donation: RSVP HERE
URL:https://urbancasual.ca/cochrane-event/jam-draw-mixer-at-found/2026-04-21/
LOCATION:Found Book Shop\, 206 1st Street W\, Cochrane\, AB
CATEGORIES:Business,Community,Crafts,Culture,Entertainment & Games,Karaoke,Learning,Music,Networking,OPEN MIC,Pub/Bar Event
ATTACH;FMTTYPE=image/jpeg:https://urbancasual.ca/wp-content/uploads/2026/01/608858685_1466878862106263_800200169564951520_n.jpg
END:VEVENT
BEGIN:VEVENT
DTSTART;TZID=America/Edmonton:20260422T160000
DTEND;TZID=America/Edmonton:20260422T220000
DTSTAMP:20260419T232337
CREATED:20260311T161917Z
LAST-MODIFIED:20260311T161929Z
UID:10056693-1776873600-1776895200@urbancasual.ca
SUMMARY:Wings Night at MR MIKES
DESCRIPTION:Wing Wednesday gets seriously saucy…Come down to Mr Mikes Cochrane and dive in wings first to a plate of hot and delicious wings for $10 from 4pm- close!
URL:https://urbancasual.ca/cochrane-event/wings-night-at-mr-mikes/2026-04-22/
LOCATION:Mr. Mike’s Steakhouse
CATEGORIES:Business,Family Friendly,Food,Pub/Bar Event,Restaurant
ATTACH;FMTTYPE=image/jpeg:https://urbancasual.ca/wp-content/uploads/2023/11/649881287_18331633033168933_61308077822206636_n.jpg
END:VEVENT
BEGIN:VEVENT
DTSTART;TZID=America/Edmonton:20260422T170000
DTEND;TZID=America/Edmonton:20260422T203000
DTSTAMP:20260419T232337
CREATED:20241210T012230Z
LAST-MODIFIED:20260211T225039Z
UID:10039770-1776877200-1776889800@urbancasual.ca
SUMMARY:Wing Night at The Taproom
DESCRIPTION:Join us every Wednesday from 5pm to 8:30pm for $8.50/lb wings! \nWe have a variety of flavours from you to choose from. You won’t wanna miss it!
URL:https://urbancasual.ca/cochrane-event/wing-night-at-the-taproom/2026-04-22/
LOCATION:Rocky View Taproom\, 420 1st Street\, Cochrane\, AB
CATEGORIES:Business,Entertainment & Games,Food,Pub/Bar Event,Restaurant
ATTACH;FMTTYPE=image/jpeg:https://urbancasual.ca/wp-content/uploads/2024/12/465707656_18375053353104462_8115185856607810178_n.jpg
END:VEVENT
BEGIN:VEVENT
DTSTART;TZID=America/Edmonton:20260422T180000
DTEND;TZID=America/Edmonton:20260422T210000
DTSTAMP:20260419T232337
CREATED:20241202T000531Z
LAST-MODIFIED:20241202T000605Z
UID:10037773-1776880800-1776891600@urbancasual.ca
SUMMARY:Country Music with Turner Bates at the Venue
DESCRIPTION:
URL:https://urbancasual.ca/cochrane-event/country-music-with-turner-bates-at-the-venue/2026-04-22/
LOCATION:AB
CATEGORIES:Adults Only,Business,Entertainment & Games,Food,Music,Pub/Bar Event
ATTACH;FMTTYPE=image/jpeg:https://urbancasual.ca/wp-content/uploads/2024/12/463385392_17920216139988797_9181419957565291331_n.jpg
END:VEVENT
BEGIN:VEVENT
DTSTART;TZID=America/Edmonton:20260422T190000
DTEND;TZID=America/Edmonton:20260422T210000
DTSTAMP:20260419T232337
CREATED:20260107T215720Z
LAST-MODIFIED:20260107T215720Z
UID:10053458-1776884400-1776891600@urbancasual.ca
SUMMARY:WRITER'S UNPLUGGED: OPEN MIC AT FOUND
DESCRIPTION:Join us for the Writers’ Unplugged – An Open Mic Night. \nShare your words while surrounded by walls of books\, in front of the friendliest audience you’ll ever meet. It’s easy. Show up with a max of 5 minutes of material to share. Throw your name into the hat. Readers are drawn at random. Poetry\, fiction\, non-fiction\, songs\, dramatic monologues…anything goes. Maybe you’re not ready to read in front of people and just want to enjoy the show. Be a part of our live studio audience\, cheer on our writers. \nSee you soon.
URL:https://urbancasual.ca/cochrane-event/writers-unplugged-open-mic-at-found/2026-04-22/
LOCATION:Found Book Shop\, 206 1st Street W\, Cochrane\, AB
CATEGORIES:Business,Community,Entertainment & Games,Music,Networking,OPEN MIC,Pub/Bar Event
ATTACH;FMTTYPE=image/jpeg:https://urbancasual.ca/wp-content/uploads/2026/01/605999718_1466878912106258_9063168567219491639_n.jpg
END:VEVENT
BEGIN:VEVENT
DTSTART;TZID=America/Edmonton:20260423T200000
DTEND;TZID=America/Edmonton:20260423T233000
DTSTAMP:20260419T232337
CREATED:20240618T155624Z
LAST-MODIFIED:20240618T204438Z
UID:10030376-1776974400-1776987000@urbancasual.ca
SUMMARY:The Rockyview Hotel - Karaoke
DESCRIPTION:THE ROCKYVIEW HOTEL | EST’D IN 1904 – Celebrating 120 years in Historic Downtown. \n+ Dance the night away at the @texasgate.cochrane ! \n+ Tuesdays – learn to line dance\, 7pm\n+ Thursdays – karaoke\, 8pm\n+ Fridays / Saturdays – all request DJ\, 10pm\n+ Sundays – All day free pool! \nTo book your stay & for more info: rockyviewhotel.ca \n  \n  \n  \n\n\n  \n\n\n\n\n\n\n\n\n\n\nView this post on Instagram\n\n\n\n\n\n\n\n\n\n\n\n\n\n\n\n\n\n\n\n\n\n\n  \nA post shared by Urban Casual Cochrane (@urbancasual.ca)
URL:https://urbancasual.ca/cochrane-event/the-rockyview-hotel-karaoke/2026-04-23/
LOCATION:Rockyview Hotel
CATEGORIES:Business,Downtown,Entertainment & Games,Pub/Bar Event,Restaurant
ATTACH;FMTTYPE=image/jpeg:https://urbancasual.ca/wp-content/uploads/2024/06/305308494_488593543275767_6866078460144404837_n.jpg
END:VEVENT
BEGIN:VEVENT
DTSTART;TZID=America/Edmonton:20260423T200000
DTEND;TZID=America/Edmonton:20260423T233000
DTSTAMP:20260419T232337
CREATED:20260312T154426Z
LAST-MODIFIED:20260312T154426Z
UID:10057217-1776974400-1776987000@urbancasual.ca
SUMMARY:KARAOKE AT THE VENUE
DESCRIPTION:🎤🍽 Join us at The Venue this Thursday for a night of delicious food and epic karaoke! \n🎶 Get ready to sing your heart out starting at 8pm.
URL:https://urbancasual.ca/cochrane-event/karaoke-at-the-venue-2/2026-04-23/
LOCATION:VENUE SPORTSBAR AND GRILL
CATEGORIES:Business,Downtown,Entertainment & Games,Karaoke,Music,Pub/Bar Event,Restaurant
ATTACH;FMTTYPE=image/jpeg:https://urbancasual.ca/wp-content/uploads/2024/07/639697893_17962041261019573_7093083653207156449_n.jpg
END:VEVENT
BEGIN:VEVENT
DTSTART;TZID=America/Edmonton:20260424T220000
DTEND;TZID=America/Edmonton:20260424T233000
DTSTAMP:20260419T232337
CREATED:20240917T161425Z
LAST-MODIFIED:20240917T161426Z
UID:10030994-1777068000-1777073400@urbancasual.ca
SUMMARY:The Rockyview Hotel - All Request DJ
DESCRIPTION:THE ROCKYVIEW HOTEL | EST’D IN 1904 – Celebrating 120 years in Historic Downtown. \n+ Dance the night away at the @texasgate.cochrane ! \n+ Tuesdays – learn to line dance\, 7pm\n+ Thursdays – karaoke\, 8pm\n+ Fridays / Saturdays – all request DJ\, 10pm +\n+ Sundays – All day free pool! \nTo book your stay & for more info: rockyviewhotel.ca \n  \n  \n  \n\n\n  \n\n\n\n\n\n\n\n\n\n\nView this post on Instagram\n\n\n\n\n\n\n\n\n\n\n\n\n\n\n\n\n\n\n\n\n\n\n  \nA post shared by Urban Casual Cochrane (@urbancasual.ca)
URL:https://urbancasual.ca/cochrane-event/the-rockyview-hotel-all-request-dj-2/2026-04-24/
LOCATION:Rockyview Hotel
CATEGORIES:Business,Downtown,Entertainment & Games,Pub/Bar Event,Restaurant
ATTACH;FMTTYPE=image/jpeg:https://urbancasual.ca/wp-content/uploads/2024/06/305308494_488593543275767_6866078460144404837_n.jpg
END:VEVENT
BEGIN:VEVENT
DTSTART;TZID=America/Edmonton:20260425T180000
DTEND;TZID=America/Edmonton:20260425T210000
DTSTAMP:20260419T232337
CREATED:20241219T180111Z
LAST-MODIFIED:20260312T155218Z
UID:10032380-1777140000-1777150800@urbancasual.ca
SUMMARY:LIVE music Saturdays at Rocky View Brewing
DESCRIPTION:  \n  \n  \nLive music Saturdays in the taproom starting at 6pm. \n  \n  \n  \n  \n  \n  \n 
URL:https://urbancasual.ca/cochrane-event/live-music-saturdays-at-rocky-view-brewing-9-15-2-2/2026-04-25/
LOCATION:Rocky View Taproom\, 420 1st Street\, Cochrane\, AB
CATEGORIES:Business,Downtown,Entertainment & Games,Music,Pub/Bar Event,Restaurant
ATTACH;FMTTYPE=image/jpeg:https://urbancasual.ca/wp-content/uploads/2024/07/241712073_342240897364337_6168788210147837504_n-3.jpg
END:VEVENT
BEGIN:VEVENT
DTSTART;TZID=America/Edmonton:20260425T220000
DTEND;TZID=America/Edmonton:20260425T233000
DTSTAMP:20260419T232337
CREATED:20240917T161425Z
LAST-MODIFIED:20240917T161426Z
UID:10030995-1777154400-1777159800@urbancasual.ca
SUMMARY:The Rockyview Hotel - All Request DJ
DESCRIPTION:THE ROCKYVIEW HOTEL | EST’D IN 1904 – Celebrating 120 years in Historic Downtown. \n+ Dance the night away at the @texasgate.cochrane ! \n+ Tuesdays – learn to line dance\, 7pm\n+ Thursdays – karaoke\, 8pm\n+ Fridays / Saturdays – all request DJ\, 10pm +\n+ Sundays – All day free pool! \nTo book your stay & for more info: rockyviewhotel.ca \n  \n  \n  \n\n\n  \n\n\n\n\n\n\n\n\n\n\nView this post on Instagram\n\n\n\n\n\n\n\n\n\n\n\n\n\n\n\n\n\n\n\n\n\n\n  \nA post shared by Urban Casual Cochrane (@urbancasual.ca)
URL:https://urbancasual.ca/cochrane-event/the-rockyview-hotel-all-request-dj-2/2026-04-25/
LOCATION:Rockyview Hotel
CATEGORIES:Business,Downtown,Entertainment & Games,Pub/Bar Event,Restaurant
ATTACH;FMTTYPE=image/jpeg:https://urbancasual.ca/wp-content/uploads/2024/06/305308494_488593543275767_6866078460144404837_n.jpg
END:VEVENT
BEGIN:VEVENT
DTSTART;TZID=America/Edmonton:20260426T160000
DTEND;TZID=America/Edmonton:20260426T170000
DTSTAMP:20260419T232337
CREATED:20260401T162106Z
LAST-MODIFIED:20260401T162106Z
UID:10058654-1777219200-1777222800@urbancasual.ca
SUMMARY:FOUND of Music Coffee Hour: Brayden Lowe
DESCRIPTION:Join Brayden in the Found lounge on Sunday APRIL 26TH to decompress before starting your week. Brayden loves a Vanilla Latte\, so enjoy 15% off any Coffee Latte drink this afternoon! Decaf options available. \nBrayden Lowe is a captivating Pop/R&B vocalist and songwriter based in Calgary\, Alberta\, known for his soulful tone\, dynamic vocal range\, and emotionally resonant performances. Drawing inspiration from legends like Stevie Wonder\, and blending it with the modern stylings of artists such as Shawn Mendez and Justin Timberlake\, Brayden crafts a sound that is both timeless and contemporary. \nThis is not a ticketed event\, simply show up during our regular hours and enjoy the music.
URL:https://urbancasual.ca/cochrane-event/found-of-music-coffee-hour-brayden-lowe/
LOCATION:Found Book Shop\, 206 1st Street W\, Cochrane\, AB
CATEGORIES:Business,Downtown,Entertainment & Games,Music
ATTACH;FMTTYPE=image/jpeg:https://urbancasual.ca/wp-content/uploads/2026/04/653064926_18350349151227970_4676164591404914961_n.jpg
END:VEVENT
END:VCALENDAR