BEGIN:VCALENDAR
VERSION:2.0
PRODID:-//Urbancasual.ca - ECPv6.15.20//NONSGML v1.0//EN
CALSCALE:GREGORIAN
METHOD:PUBLISH
X-WR-CALNAME:Urbancasual.ca
X-ORIGINAL-URL:https://urbancasual.ca
X-WR-CALDESC:Events for Urbancasual.ca
REFRESH-INTERVAL;VALUE=DURATION:PT1H
X-Robots-Tag:noindex
X-PUBLISHED-TTL:PT1H
BEGIN:VTIMEZONE
TZID:America/Edmonton
BEGIN:DAYLIGHT
TZOFFSETFROM:-0700
TZOFFSETTO:-0600
TZNAME:MDT
DTSTART:20250309T090000
END:DAYLIGHT
BEGIN:STANDARD
TZOFFSETFROM:-0600
TZOFFSETTO:-0700
TZNAME:MST
DTSTART:20251102T080000
END:STANDARD
BEGIN:DAYLIGHT
TZOFFSETFROM:-0700
TZOFFSETTO:-0600
TZNAME:MDT
DTSTART:20260308T090000
END:DAYLIGHT
BEGIN:STANDARD
TZOFFSETFROM:-0600
TZOFFSETTO:-0700
TZNAME:MST
DTSTART:20261101T080000
END:STANDARD
BEGIN:DAYLIGHT
TZOFFSETFROM:-0700
TZOFFSETTO:-0600
TZNAME:MDT
DTSTART:20270314T090000
END:DAYLIGHT
BEGIN:STANDARD
TZOFFSETFROM:-0600
TZOFFSETTO:-0700
TZNAME:MST
DTSTART:20271107T080000
END:STANDARD
END:VTIMEZONE
BEGIN:VEVENT
DTSTART;TZID=America/Edmonton:20260415T160000
DTEND;TZID=America/Edmonton:20260415T220000
DTSTAMP:20260424T144929
CREATED:20260311T161917Z
LAST-MODIFIED:20260311T161929Z
UID:10056692-1776268800-1776290400@urbancasual.ca
SUMMARY:Wings Night at MR MIKES
DESCRIPTION:Wing Wednesday gets seriously saucy…Come down to Mr Mikes Cochrane and dive in wings first to a plate of hot and delicious wings for $10 from 4pm- close!
URL:https://urbancasual.ca/cochrane-event/wings-night-at-mr-mikes/2026-04-15/
LOCATION:Mr. Mike’s Steakhouse
CATEGORIES:Business,Family Friendly,Food,Pub/Bar Event,Restaurant
ATTACH;FMTTYPE=image/jpeg:https://urbancasual.ca/wp-content/uploads/2023/11/649881287_18331633033168933_61308077822206636_n.jpg
END:VEVENT
BEGIN:VEVENT
DTSTART;TZID=America/Edmonton:20260415T170000
DTEND;TZID=America/Edmonton:20260415T203000
DTSTAMP:20260424T144929
CREATED:20241210T012230Z
LAST-MODIFIED:20260211T225039Z
UID:10039769-1776272400-1776285000@urbancasual.ca
SUMMARY:Wing Night at The Taproom
DESCRIPTION:Join us every Wednesday from 5pm to 8:30pm for $8.50/lb wings! \nWe have a variety of flavours from you to choose from. You won’t wanna miss it!
URL:https://urbancasual.ca/cochrane-event/wing-night-at-the-taproom/2026-04-15/
LOCATION:Rocky View Taproom\, 420 1st Street\, Cochrane\, AB
CATEGORIES:Business,Entertainment & Games,Food,Pub/Bar Event,Restaurant
ATTACH;FMTTYPE=image/jpeg:https://urbancasual.ca/wp-content/uploads/2024/12/465707656_18375053353104462_8115185856607810178_n.jpg
END:VEVENT
BEGIN:VEVENT
DTSTART;TZID=America/Edmonton:20260415T180000
DTEND;TZID=America/Edmonton:20260415T210000
DTSTAMP:20260424T144929
CREATED:20241202T000531Z
LAST-MODIFIED:20241202T000605Z
UID:10037772-1776276000-1776286800@urbancasual.ca
SUMMARY:Country Music with Turner Bates at the Venue
DESCRIPTION:
URL:https://urbancasual.ca/cochrane-event/country-music-with-turner-bates-at-the-venue/2026-04-15/
CATEGORIES:Adults Only,Business,Entertainment & Games,Food,Music,Pub/Bar Event
ATTACH;FMTTYPE=image/jpeg:https://urbancasual.ca/wp-content/uploads/2024/12/463385392_17920216139988797_9181419957565291331_n.jpg
END:VEVENT
BEGIN:VEVENT
DTSTART;TZID=America/Edmonton:20260415T190000
DTEND;TZID=America/Edmonton:20260415T210000
DTSTAMP:20260424T144929
CREATED:20260410T031455Z
LAST-MODIFIED:20260410T031455Z
UID:10059296-1776279600-1776286800@urbancasual.ca
SUMMARY:Community Innovators Spotlight Series: April
DESCRIPTION:Our Community Innovators Spotlight Series is –\nJoin us for a special evening of stories\, insights\, and perspectives on what community growth\, connection\, and innovation means in Cochrane! \nEvery month\, join host Nathan Klassen with new guests as they discuss and explore unique ways they are driving community growth and innovation. \nYou don’t want to miss their unique perspectives on community collaboration. \nWednesday\, APRIL 15\, 2026.\nTopic:\nNeurodivergent Innovation:\nCreating Space for Every Mind \nFeaturing: \n\n\nCurtis Braun – Coach & Consultant\, ADVC8 \n\n\nJoanne McGilvray – Board President\, Take A Bow Community Theatre \n\n\n\nRegister:\nTickets are $5 per person and they are limited! \n\nLocation:\nFound Books & Shop – 206\, 1st Street W. \n\nTime: Doors open at 6:30pm\, with the discussion starting at 7pm.
URL:https://urbancasual.ca/cochrane-event/community-innovators-spotlight-series-april/
LOCATION:Found Book Shop\, 206 1st Street W\, Cochrane\, AB
CATEGORIES:Business,Community,Entertainment & Games,Entrepreneur,Innovator,Learning,Networking,Parents & Caregivers
ATTACH;FMTTYPE=image/jpeg:https://urbancasual.ca/wp-content/uploads/2026/04/SPOTLIGHT-APRIL-2026.jpg
END:VEVENT
END:VCALENDAR