BEGIN:VCALENDAR
VERSION:2.0
PRODID:-//Urbancasual.ca - ECPv6.15.20//NONSGML v1.0//EN
CALSCALE:GREGORIAN
METHOD:PUBLISH
X-WR-CALNAME:Urbancasual.ca
X-ORIGINAL-URL:https://urbancasual.ca
X-WR-CALDESC:Events for Urbancasual.ca
REFRESH-INTERVAL;VALUE=DURATION:PT1H
X-Robots-Tag:noindex
X-PUBLISHED-TTL:PT1H
BEGIN:VTIMEZONE
TZID:America/Edmonton
BEGIN:DAYLIGHT
TZOFFSETFROM:-0700
TZOFFSETTO:-0600
TZNAME:MDT
DTSTART:20250309T090000
END:DAYLIGHT
BEGIN:STANDARD
TZOFFSETFROM:-0600
TZOFFSETTO:-0700
TZNAME:MST
DTSTART:20251102T080000
END:STANDARD
BEGIN:DAYLIGHT
TZOFFSETFROM:-0700
TZOFFSETTO:-0600
TZNAME:MDT
DTSTART:20260308T090000
END:DAYLIGHT
BEGIN:STANDARD
TZOFFSETFROM:-0600
TZOFFSETTO:-0700
TZNAME:MST
DTSTART:20261101T080000
END:STANDARD
BEGIN:DAYLIGHT
TZOFFSETFROM:-0700
TZOFFSETTO:-0600
TZNAME:MDT
DTSTART:20270314T090000
END:DAYLIGHT
BEGIN:STANDARD
TZOFFSETFROM:-0600
TZOFFSETTO:-0700
TZNAME:MST
DTSTART:20271107T080000
END:STANDARD
END:VTIMEZONE
BEGIN:VEVENT
DTSTART;TZID=America/Edmonton:20260408T070000
DTEND;TZID=America/Edmonton:20260408T090000
DTSTAMP:20260424T063238
CREATED:20260206T012335Z
LAST-MODIFIED:20260206T012335Z
UID:10054524-1775631600-1775638800@urbancasual.ca
SUMMARY:Before Hours - Coffee Break
DESCRIPTION:Kickstart your morning with our new monthly Business Before Hours Networking Event! \n\nLocation\nCochrane Coffee Traders Ltd.\n114\, 2nd Ave West Cochrane\, Alberta \n\n\nFees/Admission\nThis event is complimentary\, however registration is required. \n\n\nWebsite\nhttp://www.cochranechamber.ca \n\n  \nExclusively for Chamber Members\, this complimentary gathering takes place on the second Wednesday of each month—offering the perfect opportunity to connect\, build relationships\, and showcase your business in a friendly\, laid-back atmosphere.
URL:https://urbancasual.ca/cochrane-event/before-hours-coffee-break-2/2026-04-08/
CATEGORIES:Business,Club,Employment,Entrepreneur,Learning,Networking
ATTACH;FMTTYPE=image/jpeg:https://urbancasual.ca/wp-content/uploads/2026/02/Business-Before-Hours-Logo.jpg
END:VEVENT
BEGIN:VEVENT
DTSTART;TZID=America/Edmonton:20260408T160000
DTEND;TZID=America/Edmonton:20260408T220000
DTSTAMP:20260424T063238
CREATED:20260311T161917Z
LAST-MODIFIED:20260311T161929Z
UID:10056691-1775664000-1775685600@urbancasual.ca
SUMMARY:Wings Night at MR MIKES
DESCRIPTION:Wing Wednesday gets seriously saucy…Come down to Mr Mikes Cochrane and dive in wings first to a plate of hot and delicious wings for $10 from 4pm- close!
URL:https://urbancasual.ca/cochrane-event/wings-night-at-mr-mikes/2026-04-08/
LOCATION:Mr. Mike’s Steakhouse
CATEGORIES:Business,Family Friendly,Food,Pub/Bar Event,Restaurant
ATTACH;FMTTYPE=image/jpeg:https://urbancasual.ca/wp-content/uploads/2023/11/649881287_18331633033168933_61308077822206636_n.jpg
END:VEVENT
BEGIN:VEVENT
DTSTART;TZID=America/Edmonton:20260408T170000
DTEND;TZID=America/Edmonton:20260408T203000
DTSTAMP:20260424T063238
CREATED:20241210T012230Z
LAST-MODIFIED:20260211T225039Z
UID:10039768-1775667600-1775680200@urbancasual.ca
SUMMARY:Wing Night at The Taproom
DESCRIPTION:Join us every Wednesday from 5pm to 8:30pm for $8.50/lb wings! \nWe have a variety of flavours from you to choose from. You won’t wanna miss it!
URL:https://urbancasual.ca/cochrane-event/wing-night-at-the-taproom/2026-04-08/
LOCATION:Rocky View Taproom\, 420 1st Street\, Cochrane\, AB
CATEGORIES:Business,Entertainment & Games,Food,Pub/Bar Event,Restaurant
ATTACH;FMTTYPE=image/jpeg:https://urbancasual.ca/wp-content/uploads/2024/12/465707656_18375053353104462_8115185856607810178_n.jpg
END:VEVENT
BEGIN:VEVENT
DTSTART;TZID=America/Edmonton:20260408T180000
DTEND;TZID=America/Edmonton:20260408T210000
DTSTAMP:20260424T063238
CREATED:20241202T000531Z
LAST-MODIFIED:20241202T000605Z
UID:10037771-1775671200-1775682000@urbancasual.ca
SUMMARY:Country Music with Turner Bates at the Venue
DESCRIPTION:
URL:https://urbancasual.ca/cochrane-event/country-music-with-turner-bates-at-the-venue/2026-04-08/
CATEGORIES:Adults Only,Business,Entertainment & Games,Food,Music,Pub/Bar Event
ATTACH;FMTTYPE=image/jpeg:https://urbancasual.ca/wp-content/uploads/2024/12/463385392_17920216139988797_9181419957565291331_n.jpg
END:VEVENT
END:VCALENDAR